BEGIN:VCALENDAR
VERSION:2.0
PRODID:-//DANCE SOUL 舞魂街舞學校 - ECPv6.15.18//NONSGML v1.0//EN
CALSCALE:GREGORIAN
METHOD:PUBLISH
X-ORIGINAL-URL:https://www.dancesoul.com.tw
X-WR-CALDESC:Events for DANCE SOUL 舞魂街舞學校
REFRESH-INTERVAL;VALUE=DURATION:PT1H
X-Robots-Tag:noindex
X-PUBLISHED-TTL:PT1H
BEGIN:VTIMEZONE
TZID:Asia/Shanghai
BEGIN:STANDARD
TZOFFSETFROM:+0800
TZOFFSETTO:+0800
TZNAME:CST
DTSTART:20210101T000000
END:STANDARD
END:VTIMEZONE
BEGIN:VEVENT
DTSTART;TZID=Asia/Shanghai:20230118T191000
DTEND;TZID=Asia/Shanghai:20230118T201000
DTSTAMP:20260422T031959
CREATED:20221231T194521Z
LAST-MODIFIED:20221231T194521Z
UID:10017013-1674069000-1674072600@www.dancesoul.com.tw
SUMMARY:Free Style-小恐龍
DESCRIPTION:
URL:https://www.dancesoul.com.tw/schedule/free-style-%e5%b0%8f%e6%81%90%e9%be%8d-23/2023-01-18/
LOCATION:仁愛路四段425-1號\, Taipei City\, 104\, 台灣
CATEGORIES:Freestyle,常態課_一般,課程
END:VEVENT
BEGIN:VEVENT
DTSTART;TZID=Asia/Shanghai:20230111T191000
DTEND;TZID=Asia/Shanghai:20230111T201000
DTSTAMP:20260422T031959
CREATED:20221231T194521Z
LAST-MODIFIED:20221231T194521Z
UID:10017012-1673464200-1673467800@www.dancesoul.com.tw
SUMMARY:Free Style-小恐龍
DESCRIPTION:
URL:https://www.dancesoul.com.tw/schedule/free-style-%e5%b0%8f%e6%81%90%e9%be%8d-23/2023-01-11/
LOCATION:仁愛路四段425-1號\, Taipei City\, 104\, 台灣
CATEGORIES:Freestyle,常態課_一般,課程
END:VEVENT
BEGIN:VEVENT
DTSTART;TZID=Asia/Shanghai:20230104T191000
DTEND;TZID=Asia/Shanghai:20230104T201000
DTSTAMP:20260422T031959
CREATED:20221231T194521Z
LAST-MODIFIED:20221231T194521Z
UID:10017011-1672859400-1672863000@www.dancesoul.com.tw
SUMMARY:Free Style-小恐龍
DESCRIPTION:
URL:https://www.dancesoul.com.tw/schedule/free-style-%e5%b0%8f%e6%81%90%e9%be%8d-23/2023-01-04/
LOCATION:仁愛路四段425-1號\, Taipei City\, 104\, 台灣
CATEGORIES:Freestyle,常態課_一般,課程
END:VEVENT
BEGIN:VEVENT
DTSTART;TZID=Asia/Shanghai:20221228T191000
DTEND;TZID=Asia/Shanghai:20221228T201000
DTSTAMP:20260422T031959
CREATED:20221128T134221Z
LAST-MODIFIED:20221128T134221Z
UID:10015556-1672254600-1672258200@www.dancesoul.com.tw
SUMMARY:Free Style-小恐龍
DESCRIPTION:
URL:https://www.dancesoul.com.tw/schedule/free-style-%e5%b0%8f%e6%81%90%e9%be%8d-22/2022-12-28/
LOCATION:仁愛路四段425-1號\, Taipei City\, 104\, 台灣
CATEGORIES:Freestyle,常態課_一般,課程
END:VEVENT
BEGIN:VEVENT
DTSTART;TZID=Asia/Shanghai:20221221T191000
DTEND;TZID=Asia/Shanghai:20221221T201000
DTSTAMP:20260422T031959
CREATED:20221128T134221Z
LAST-MODIFIED:20221128T134221Z
UID:10015555-1671649800-1671653400@www.dancesoul.com.tw
SUMMARY:Free Style-小恐龍
DESCRIPTION:
URL:https://www.dancesoul.com.tw/schedule/free-style-%e5%b0%8f%e6%81%90%e9%be%8d-22/2022-12-21/
LOCATION:仁愛路四段425-1號\, Taipei City\, 104\, 台灣
CATEGORIES:Freestyle,常態課_一般,課程
END:VEVENT
BEGIN:VEVENT
DTSTART;TZID=Asia/Shanghai:20221214T191000
DTEND;TZID=Asia/Shanghai:20221214T201000
DTSTAMP:20260422T031959
CREATED:20221128T134221Z
LAST-MODIFIED:20221128T134221Z
UID:10015554-1671045000-1671048600@www.dancesoul.com.tw
SUMMARY:Free Style-小恐龍
DESCRIPTION:
URL:https://www.dancesoul.com.tw/schedule/free-style-%e5%b0%8f%e6%81%90%e9%be%8d-22/2022-12-14/
LOCATION:仁愛路四段425-1號\, Taipei City\, 104\, 台灣
CATEGORIES:Freestyle,常態課_一般,課程
END:VEVENT
BEGIN:VEVENT
DTSTART;TZID=Asia/Shanghai:20221207T191000
DTEND;TZID=Asia/Shanghai:20221207T201000
DTSTAMP:20260422T031959
CREATED:20221128T134221Z
LAST-MODIFIED:20221128T134221Z
UID:10015553-1670440200-1670443800@www.dancesoul.com.tw
SUMMARY:Free Style-小恐龍
DESCRIPTION:
URL:https://www.dancesoul.com.tw/schedule/free-style-%e5%b0%8f%e6%81%90%e9%be%8d-22/2022-12-07/
LOCATION:仁愛路四段425-1號\, Taipei City\, 104\, 台灣
CATEGORIES:Freestyle,常態課_一般,課程
END:VEVENT
BEGIN:VEVENT
DTSTART;TZID=Asia/Shanghai:20221130T191000
DTEND;TZID=Asia/Shanghai:20221130T201000
DTSTAMP:20260422T031959
CREATED:20221028T135836Z
LAST-MODIFIED:20221028T135836Z
UID:10015500-1669835400-1669839000@www.dancesoul.com.tw
SUMMARY:Free Style-小恐龍
DESCRIPTION:
URL:https://www.dancesoul.com.tw/schedule/free-style-%e5%b0%8f%e6%81%90%e9%be%8d-21/2022-11-30/
LOCATION:仁愛路四段425-1號\, Taipei City\, 104\, 台灣
CATEGORIES:Freestyle,常態課_一般,課程
END:VEVENT
BEGIN:VEVENT
DTSTART;TZID=Asia/Shanghai:20221123T191000
DTEND;TZID=Asia/Shanghai:20221123T201000
DTSTAMP:20260422T031959
CREATED:20221028T135836Z
LAST-MODIFIED:20221028T135836Z
UID:10015499-1669230600-1669234200@www.dancesoul.com.tw
SUMMARY:Free Style-小恐龍
DESCRIPTION:
URL:https://www.dancesoul.com.tw/schedule/free-style-%e5%b0%8f%e6%81%90%e9%be%8d-21/2022-11-23/
LOCATION:仁愛路四段425-1號\, Taipei City\, 104\, 台灣
CATEGORIES:Freestyle,常態課_一般,課程
END:VEVENT
BEGIN:VEVENT
DTSTART;TZID=Asia/Shanghai:20221116T191000
DTEND;TZID=Asia/Shanghai:20221116T201000
DTSTAMP:20260422T031959
CREATED:20221028T135836Z
LAST-MODIFIED:20221028T135836Z
UID:10015498-1668625800-1668629400@www.dancesoul.com.tw
SUMMARY:Free Style-小恐龍
DESCRIPTION:
URL:https://www.dancesoul.com.tw/schedule/free-style-%e5%b0%8f%e6%81%90%e9%be%8d-21/2022-11-16/
LOCATION:仁愛路四段425-1號\, Taipei City\, 104\, 台灣
CATEGORIES:Freestyle,常態課_一般,課程
END:VEVENT
BEGIN:VEVENT
DTSTART;TZID=Asia/Shanghai:20221109T191000
DTEND;TZID=Asia/Shanghai:20221109T201000
DTSTAMP:20260422T031959
CREATED:20221028T135836Z
LAST-MODIFIED:20221028T135836Z
UID:10015497-1668021000-1668024600@www.dancesoul.com.tw
SUMMARY:Free Style-小恐龍
DESCRIPTION:
URL:https://www.dancesoul.com.tw/schedule/free-style-%e5%b0%8f%e6%81%90%e9%be%8d-21/2022-11-09/
LOCATION:仁愛路四段425-1號\, Taipei City\, 104\, 台灣
CATEGORIES:Freestyle,常態課_一般,課程
END:VEVENT
BEGIN:VEVENT
DTSTART;TZID=Asia/Shanghai:20221102T191000
DTEND;TZID=Asia/Shanghai:20221102T201000
DTSTAMP:20260422T031959
CREATED:20221028T135836Z
LAST-MODIFIED:20221028T135836Z
UID:10015496-1667416200-1667419800@www.dancesoul.com.tw
SUMMARY:Free Style-小恐龍
DESCRIPTION:
URL:https://www.dancesoul.com.tw/schedule/free-style-%e5%b0%8f%e6%81%90%e9%be%8d-21/2022-11-02/
LOCATION:仁愛路四段425-1號\, Taipei City\, 104\, 台灣
CATEGORIES:Freestyle,常態課_一般,課程
END:VEVENT
BEGIN:VEVENT
DTSTART;TZID=Asia/Shanghai:20221026T191000
DTEND;TZID=Asia/Shanghai:20221026T201000
DTSTAMP:20260422T031959
CREATED:20220925T090043Z
LAST-MODIFIED:20220925T090043Z
UID:10016688-1666811400-1666815000@www.dancesoul.com.tw
SUMMARY:Free Style-小恐龍
DESCRIPTION:
URL:https://www.dancesoul.com.tw/schedule/free-style-%e5%b0%8f%e6%81%90%e9%be%8d-20/2022-10-26/
LOCATION:仁愛路四段425-1號\, Taipei City\, 104\, 台灣
CATEGORIES:Freestyle,常態課_一般,課程
END:VEVENT
BEGIN:VEVENT
DTSTART;TZID=Asia/Shanghai:20221019T191000
DTEND;TZID=Asia/Shanghai:20221019T201000
DTSTAMP:20260422T031959
CREATED:20220925T090043Z
LAST-MODIFIED:20220925T090043Z
UID:10016687-1666206600-1666210200@www.dancesoul.com.tw
SUMMARY:Free Style-小恐龍
DESCRIPTION:
URL:https://www.dancesoul.com.tw/schedule/free-style-%e5%b0%8f%e6%81%90%e9%be%8d-20/2022-10-19/
LOCATION:仁愛路四段425-1號\, Taipei City\, 104\, 台灣
CATEGORIES:Freestyle,常態課_一般,課程
END:VEVENT
BEGIN:VEVENT
DTSTART;TZID=Asia/Shanghai:20221012T191000
DTEND;TZID=Asia/Shanghai:20221012T201000
DTSTAMP:20260422T031959
CREATED:20220925T090043Z
LAST-MODIFIED:20220925T090043Z
UID:10016686-1665601800-1665605400@www.dancesoul.com.tw
SUMMARY:Free Style-小恐龍
DESCRIPTION:
URL:https://www.dancesoul.com.tw/schedule/free-style-%e5%b0%8f%e6%81%90%e9%be%8d-20/2022-10-12/
LOCATION:仁愛路四段425-1號\, Taipei City\, 104\, 台灣
CATEGORIES:Freestyle,常態課_一般,課程
END:VEVENT
BEGIN:VEVENT
DTSTART;TZID=Asia/Shanghai:20221005T191000
DTEND;TZID=Asia/Shanghai:20221005T201000
DTSTAMP:20260422T031959
CREATED:20220925T090043Z
LAST-MODIFIED:20220925T090043Z
UID:10016685-1664997000-1665000600@www.dancesoul.com.tw
SUMMARY:Free Style-小恐龍
DESCRIPTION:
URL:https://www.dancesoul.com.tw/schedule/free-style-%e5%b0%8f%e6%81%90%e9%be%8d-20/2022-10-05/
LOCATION:仁愛路四段425-1號\, Taipei City\, 104\, 台灣
CATEGORIES:Freestyle,常態課_一般,課程
END:VEVENT
BEGIN:VEVENT
DTSTART;TZID=Asia/Shanghai:20220928T191000
DTEND;TZID=Asia/Shanghai:20220928T201000
DTSTAMP:20260422T031959
CREATED:20220828T054954Z
LAST-MODIFIED:20220828T054954Z
UID:10016580-1664392200-1664395800@www.dancesoul.com.tw
SUMMARY:Free Style-小恐龍
DESCRIPTION:
URL:https://www.dancesoul.com.tw/schedule/free-style-%e5%b0%8f%e6%81%90%e9%be%8d-19/2022-09-28/
LOCATION:仁愛路四段425-1號\, Taipei City\, 104\, 台灣
CATEGORIES:Freestyle,常態課_一般,課程
END:VEVENT
BEGIN:VEVENT
DTSTART;TZID=Asia/Shanghai:20220921T191000
DTEND;TZID=Asia/Shanghai:20220921T201000
DTSTAMP:20260422T031959
CREATED:20220828T054954Z
LAST-MODIFIED:20220828T054954Z
UID:10016579-1663787400-1663791000@www.dancesoul.com.tw
SUMMARY:Free Style-小恐龍
DESCRIPTION:
URL:https://www.dancesoul.com.tw/schedule/free-style-%e5%b0%8f%e6%81%90%e9%be%8d-19/2022-09-21/
LOCATION:仁愛路四段425-1號\, Taipei City\, 104\, 台灣
CATEGORIES:Freestyle,常態課_一般,課程
END:VEVENT
BEGIN:VEVENT
DTSTART;TZID=Asia/Shanghai:20220914T191000
DTEND;TZID=Asia/Shanghai:20220914T201000
DTSTAMP:20260422T031959
CREATED:20220828T054954Z
LAST-MODIFIED:20220828T054954Z
UID:10016578-1663182600-1663186200@www.dancesoul.com.tw
SUMMARY:Free Style-小恐龍
DESCRIPTION:
URL:https://www.dancesoul.com.tw/schedule/free-style-%e5%b0%8f%e6%81%90%e9%be%8d-19/2022-09-14/
LOCATION:仁愛路四段425-1號\, Taipei City\, 104\, 台灣
CATEGORIES:Freestyle,常態課_一般,課程
END:VEVENT
BEGIN:VEVENT
DTSTART;TZID=Asia/Shanghai:20220907T191000
DTEND;TZID=Asia/Shanghai:20220907T201000
DTSTAMP:20260422T031959
CREATED:20220828T054954Z
LAST-MODIFIED:20220828T054954Z
UID:10016577-1662577800-1662581400@www.dancesoul.com.tw
SUMMARY:Free Style-小恐龍
DESCRIPTION:
URL:https://www.dancesoul.com.tw/schedule/free-style-%e5%b0%8f%e6%81%90%e9%be%8d-19/2022-09-07/
LOCATION:仁愛路四段425-1號\, Taipei City\, 104\, 台灣
CATEGORIES:Freestyle,常態課_一般,課程
END:VEVENT
BEGIN:VEVENT
DTSTART;TZID=Asia/Shanghai:20220831T191000
DTEND;TZID=Asia/Shanghai:20220831T201000
DTSTAMP:20260422T031959
CREATED:20220728T092816Z
LAST-MODIFIED:20220728T092816Z
UID:10016389-1661973000-1661976600@www.dancesoul.com.tw
SUMMARY:Free Style-小恐龍
DESCRIPTION:
URL:https://www.dancesoul.com.tw/schedule/free-style-%e5%b0%8f%e6%81%90%e9%be%8d-18/2022-08-31/
LOCATION:仁愛路四段425-1號\, Taipei City\, 104\, 台灣
CATEGORIES:Freestyle,常態課_一般,課程
END:VEVENT
BEGIN:VEVENT
DTSTART;TZID=Asia/Shanghai:20220824T191000
DTEND;TZID=Asia/Shanghai:20220824T201000
DTSTAMP:20260422T031959
CREATED:20220728T092816Z
LAST-MODIFIED:20220728T092816Z
UID:10016388-1661368200-1661371800@www.dancesoul.com.tw
SUMMARY:Free Style-小恐龍
DESCRIPTION:
URL:https://www.dancesoul.com.tw/schedule/free-style-%e5%b0%8f%e6%81%90%e9%be%8d-18/2022-08-24/
LOCATION:仁愛路四段425-1號\, Taipei City\, 104\, 台灣
CATEGORIES:Freestyle,常態課_一般,課程
END:VEVENT
BEGIN:VEVENT
DTSTART;TZID=Asia/Shanghai:20220817T191000
DTEND;TZID=Asia/Shanghai:20220817T201000
DTSTAMP:20260422T031959
CREATED:20220728T092816Z
LAST-MODIFIED:20220728T092816Z
UID:10016387-1660763400-1660767000@www.dancesoul.com.tw
SUMMARY:Free Style-小恐龍
DESCRIPTION:
URL:https://www.dancesoul.com.tw/schedule/free-style-%e5%b0%8f%e6%81%90%e9%be%8d-18/2022-08-17/
LOCATION:仁愛路四段425-1號\, Taipei City\, 104\, 台灣
CATEGORIES:Freestyle,常態課_一般,課程
END:VEVENT
BEGIN:VEVENT
DTSTART;TZID=Asia/Shanghai:20220810T191000
DTEND;TZID=Asia/Shanghai:20220810T201000
DTSTAMP:20260422T031959
CREATED:20220728T092816Z
LAST-MODIFIED:20220728T092816Z
UID:10016386-1660158600-1660162200@www.dancesoul.com.tw
SUMMARY:Free Style-小恐龍
DESCRIPTION:
URL:https://www.dancesoul.com.tw/schedule/free-style-%e5%b0%8f%e6%81%90%e9%be%8d-18/2022-08-10/
LOCATION:仁愛路四段425-1號\, Taipei City\, 104\, 台灣
CATEGORIES:Freestyle,常態課_一般,課程
END:VEVENT
BEGIN:VEVENT
DTSTART;TZID=Asia/Shanghai:20220803T191000
DTEND;TZID=Asia/Shanghai:20220803T201000
DTSTAMP:20260422T031959
CREATED:20220728T092816Z
LAST-MODIFIED:20220728T092816Z
UID:10016385-1659553800-1659557400@www.dancesoul.com.tw
SUMMARY:Free Style-小恐龍
DESCRIPTION:
URL:https://www.dancesoul.com.tw/schedule/free-style-%e5%b0%8f%e6%81%90%e9%be%8d-18/2022-08-03/
LOCATION:仁愛路四段425-1號\, Taipei City\, 104\, 台灣
CATEGORIES:Freestyle,常態課_一般,課程
END:VEVENT
BEGIN:VEVENT
DTSTART;TZID=Asia/Shanghai:20220727T191000
DTEND;TZID=Asia/Shanghai:20220727T201000
DTSTAMP:20260422T031959
CREATED:20220623T124347Z
LAST-MODIFIED:20220623T124347Z
UID:10016171-1658949000-1658952600@www.dancesoul.com.tw
SUMMARY:Free Style-小恐龍
DESCRIPTION:
URL:https://www.dancesoul.com.tw/schedule/free-style-%e5%b0%8f%e6%81%90%e9%be%8d-17/2022-07-27/
LOCATION:仁愛路四段425-1號\, Taipei City\, 104\, 台灣
CATEGORIES:Freestyle,常態課_一般,課程
END:VEVENT
BEGIN:VEVENT
DTSTART;TZID=Asia/Shanghai:20220720T191000
DTEND;TZID=Asia/Shanghai:20220720T201000
DTSTAMP:20260422T031959
CREATED:20220623T124347Z
LAST-MODIFIED:20220623T124347Z
UID:10016170-1658344200-1658347800@www.dancesoul.com.tw
SUMMARY:Free Style-小恐龍
DESCRIPTION:
URL:https://www.dancesoul.com.tw/schedule/free-style-%e5%b0%8f%e6%81%90%e9%be%8d-17/2022-07-20/
LOCATION:仁愛路四段425-1號\, Taipei City\, 104\, 台灣
CATEGORIES:Freestyle,常態課_一般,課程
END:VEVENT
BEGIN:VEVENT
DTSTART;TZID=Asia/Shanghai:20220713T191000
DTEND;TZID=Asia/Shanghai:20220713T201000
DTSTAMP:20260422T031959
CREATED:20220623T124347Z
LAST-MODIFIED:20220623T124347Z
UID:10016169-1657739400-1657743000@www.dancesoul.com.tw
SUMMARY:Free Style-小恐龍
DESCRIPTION:
URL:https://www.dancesoul.com.tw/schedule/free-style-%e5%b0%8f%e6%81%90%e9%be%8d-17/2022-07-13/
LOCATION:仁愛路四段425-1號\, Taipei City\, 104\, 台灣
CATEGORIES:Freestyle,常態課_一般,課程
END:VEVENT
BEGIN:VEVENT
DTSTART;TZID=Asia/Shanghai:20220706T191000
DTEND;TZID=Asia/Shanghai:20220706T201000
DTSTAMP:20260422T031959
CREATED:20220623T124347Z
LAST-MODIFIED:20220623T124347Z
UID:10016168-1657134600-1657138200@www.dancesoul.com.tw
SUMMARY:Free Style-小恐龍
DESCRIPTION:
URL:https://www.dancesoul.com.tw/schedule/free-style-%e5%b0%8f%e6%81%90%e9%be%8d-17/2022-07-06/
LOCATION:仁愛路四段425-1號\, Taipei City\, 104\, 台灣
CATEGORIES:Freestyle,常態課_一般,課程
END:VEVENT
BEGIN:VEVENT
DTSTART;TZID=Asia/Shanghai:20220629T191000
DTEND;TZID=Asia/Shanghai:20220629T201000
DTSTAMP:20260422T031959
CREATED:20220527T115603Z
LAST-MODIFIED:20220527T115603Z
UID:10015972-1656529800-1656533400@www.dancesoul.com.tw
SUMMARY:Free Style-小恐龍
DESCRIPTION:
URL:https://www.dancesoul.com.tw/schedule/free-style-%e5%b0%8f%e6%81%90%e9%be%8d-16/2022-06-29/
LOCATION:仁愛路四段425-1號\, Taipei City\, 104\, 台灣
CATEGORIES:Freestyle,常態課_一般,課程
END:VEVENT
END:VCALENDAR