BEGIN:VCALENDAR
VERSION:2.0
PRODID:-//DANCE SOUL 舞魂街舞學校 - ECPv6.15.18//NONSGML v1.0//EN
CALSCALE:GREGORIAN
METHOD:PUBLISH
X-WR-CALNAME:DANCE SOUL 舞魂街舞學校
X-ORIGINAL-URL:https://www.dancesoul.com.tw
X-WR-CALDESC:Events for DANCE SOUL 舞魂街舞學校
REFRESH-INTERVAL;VALUE=DURATION:PT1H
X-Robots-Tag:noindex
X-PUBLISHED-TTL:PT1H
BEGIN:VTIMEZONE
TZID:Asia/Shanghai
BEGIN:STANDARD
TZOFFSETFROM:+0800
TZOFFSETTO:+0800
TZNAME:CST
DTSTART:20210101T000000
END:STANDARD
END:VTIMEZONE
BEGIN:VEVENT
DTSTART;TZID=Asia/Shanghai:20221104T202000
DTEND;TZID=Asia/Shanghai:20221104T212000
DTSTAMP:20260422T220055
CREATED:20221028T140808Z
LAST-MODIFIED:20221028T140808Z
UID:10016874-1667593200-1667596800@www.dancesoul.com.tw
SUMMARY:Free Style-少麟
DESCRIPTION:
URL:https://www.dancesoul.com.tw/schedule/free-style-%e5%b0%91%e9%ba%9f-21/
LOCATION:仁愛路四段425-1號\, Taipei City\, 104\, 台灣
CATEGORIES:Freestyle,常態課_一般,課程
END:VEVENT
BEGIN:VEVENT
DTSTART;TZID=Asia/Shanghai:20221028T202000
DTEND;TZID=Asia/Shanghai:20221028T212000
DTSTAMP:20260422T220055
CREATED:20220925T092235Z
LAST-MODIFIED:20220925T092235Z
UID:10016724-1666988400-1666992000@www.dancesoul.com.tw
SUMMARY:Free Style-少麟
DESCRIPTION:
URL:https://www.dancesoul.com.tw/schedule/free-style-%e5%b0%91%e9%ba%9f-20/2022-10-28/
LOCATION:仁愛路四段425-1號\, Taipei City\, 104\, 台灣
CATEGORIES:Freestyle,常態課_一般,課程
END:VEVENT
BEGIN:VEVENT
DTSTART;TZID=Asia/Shanghai:20221021T202000
DTEND;TZID=Asia/Shanghai:20221021T212000
DTSTAMP:20260422T220055
CREATED:20220925T092235Z
LAST-MODIFIED:20220925T092235Z
UID:10016723-1666383600-1666387200@www.dancesoul.com.tw
SUMMARY:Free Style-少麟
DESCRIPTION:
URL:https://www.dancesoul.com.tw/schedule/free-style-%e5%b0%91%e9%ba%9f-20/2022-10-21/
LOCATION:仁愛路四段425-1號\, Taipei City\, 104\, 台灣
CATEGORIES:Freestyle,常態課_一般,課程
END:VEVENT
BEGIN:VEVENT
DTSTART;TZID=Asia/Shanghai:20221014T202000
DTEND;TZID=Asia/Shanghai:20221014T212000
DTSTAMP:20260422T220056
CREATED:20220925T092235Z
LAST-MODIFIED:20220925T092235Z
UID:10016722-1665778800-1665782400@www.dancesoul.com.tw
SUMMARY:Free Style-少麟
DESCRIPTION:
URL:https://www.dancesoul.com.tw/schedule/free-style-%e5%b0%91%e9%ba%9f-20/2022-10-14/
LOCATION:仁愛路四段425-1號\, Taipei City\, 104\, 台灣
CATEGORIES:Freestyle,常態課_一般,課程
END:VEVENT
BEGIN:VEVENT
DTSTART;TZID=Asia/Shanghai:20221007T202000
DTEND;TZID=Asia/Shanghai:20221007T212000
DTSTAMP:20260422T220056
CREATED:20220925T092235Z
LAST-MODIFIED:20220925T092235Z
UID:10016721-1665174000-1665177600@www.dancesoul.com.tw
SUMMARY:Free Style-少麟
DESCRIPTION:
URL:https://www.dancesoul.com.tw/schedule/free-style-%e5%b0%91%e9%ba%9f-20/2022-10-07/
LOCATION:仁愛路四段425-1號\, Taipei City\, 104\, 台灣
CATEGORIES:Freestyle,常態課_一般,課程
END:VEVENT
BEGIN:VEVENT
DTSTART;TZID=Asia/Shanghai:20220930T202000
DTEND;TZID=Asia/Shanghai:20220930T212000
DTSTAMP:20260422T220056
CREATED:20220828T060502Z
LAST-MODIFIED:20220828T060918Z
UID:10016625-1664569200-1664572800@www.dancesoul.com.tw
SUMMARY:Free Style-少麟
DESCRIPTION:
URL:https://www.dancesoul.com.tw/schedule/free-style-%e5%b0%91%e9%ba%9f-19/2022-09-30/
LOCATION:仁愛路四段425-1號\, Taipei City\, 104\, 台灣
CATEGORIES:Freestyle,常態課_一般,課程
END:VEVENT
BEGIN:VEVENT
DTSTART;TZID=Asia/Shanghai:20220923T202000
DTEND;TZID=Asia/Shanghai:20220923T212000
DTSTAMP:20260422T220056
CREATED:20220828T060502Z
LAST-MODIFIED:20220828T060918Z
UID:10016624-1663964400-1663968000@www.dancesoul.com.tw
SUMMARY:Free Style-少麟
DESCRIPTION:
URL:https://www.dancesoul.com.tw/schedule/free-style-%e5%b0%91%e9%ba%9f-19/2022-09-23/
LOCATION:仁愛路四段425-1號\, Taipei City\, 104\, 台灣
CATEGORIES:Freestyle,常態課_一般,課程
END:VEVENT
BEGIN:VEVENT
DTSTART;TZID=Asia/Shanghai:20220916T202000
DTEND;TZID=Asia/Shanghai:20220916T212000
DTSTAMP:20260422T220056
CREATED:20220828T060502Z
LAST-MODIFIED:20220828T060918Z
UID:10016623-1663359600-1663363200@www.dancesoul.com.tw
SUMMARY:Free Style-少麟
DESCRIPTION:
URL:https://www.dancesoul.com.tw/schedule/free-style-%e5%b0%91%e9%ba%9f-19/2022-09-16/
LOCATION:仁愛路四段425-1號\, Taipei City\, 104\, 台灣
CATEGORIES:Freestyle,常態課_一般,課程
END:VEVENT
BEGIN:VEVENT
DTSTART;TZID=Asia/Shanghai:20220909T202000
DTEND;TZID=Asia/Shanghai:20220909T212000
DTSTAMP:20260422T220056
CREATED:20220828T060502Z
LAST-MODIFIED:20220828T060918Z
UID:10016622-1662754800-1662758400@www.dancesoul.com.tw
SUMMARY:Free Style-少麟
DESCRIPTION:
URL:https://www.dancesoul.com.tw/schedule/free-style-%e5%b0%91%e9%ba%9f-19/2022-09-09/
LOCATION:仁愛路四段425-1號\, Taipei City\, 104\, 台灣
CATEGORIES:Freestyle,常態課_一般,課程
END:VEVENT
BEGIN:VEVENT
DTSTART;TZID=Asia/Shanghai:20220902T202000
DTEND;TZID=Asia/Shanghai:20220902T212000
DTSTAMP:20260422T220056
CREATED:20220828T060502Z
LAST-MODIFIED:20220828T060918Z
UID:10016621-1662150000-1662153600@www.dancesoul.com.tw
SUMMARY:Free Style-少麟
DESCRIPTION:
URL:https://www.dancesoul.com.tw/schedule/free-style-%e5%b0%91%e9%ba%9f-19/2022-09-02/
LOCATION:仁愛路四段425-1號\, Taipei City\, 104\, 台灣
CATEGORIES:Freestyle,常態課_一般,課程
END:VEVENT
BEGIN:VEVENT
DTSTART;TZID=Asia/Shanghai:20220826T202000
DTEND;TZID=Asia/Shanghai:20220826T212000
DTSTAMP:20260422T220056
CREATED:20220728T102153Z
LAST-MODIFIED:20220728T102153Z
UID:10016490-1661545200-1661548800@www.dancesoul.com.tw
SUMMARY:Free Style-少麟
DESCRIPTION:
URL:https://www.dancesoul.com.tw/schedule/free-style-%e5%b0%91%e9%ba%9f-18/2022-08-26/
LOCATION:仁愛路四段425-1號\, Taipei City\, 104\, 台灣
CATEGORIES:Freestyle,常態課_一般,課程
END:VEVENT
BEGIN:VEVENT
DTSTART;TZID=Asia/Shanghai:20220819T202000
DTEND;TZID=Asia/Shanghai:20220819T212000
DTSTAMP:20260422T220056
CREATED:20220728T102153Z
LAST-MODIFIED:20220728T102153Z
UID:10016489-1660940400-1660944000@www.dancesoul.com.tw
SUMMARY:Free Style-少麟
DESCRIPTION:
URL:https://www.dancesoul.com.tw/schedule/free-style-%e5%b0%91%e9%ba%9f-18/2022-08-19/
LOCATION:仁愛路四段425-1號\, Taipei City\, 104\, 台灣
CATEGORIES:Freestyle,常態課_一般,課程
END:VEVENT
BEGIN:VEVENT
DTSTART;TZID=Asia/Shanghai:20220812T202000
DTEND;TZID=Asia/Shanghai:20220812T212000
DTSTAMP:20260422T220056
CREATED:20220728T102153Z
LAST-MODIFIED:20220728T102153Z
UID:10016488-1660335600-1660339200@www.dancesoul.com.tw
SUMMARY:Free Style-少麟
DESCRIPTION:
URL:https://www.dancesoul.com.tw/schedule/free-style-%e5%b0%91%e9%ba%9f-18/2022-08-12/
LOCATION:仁愛路四段425-1號\, Taipei City\, 104\, 台灣
CATEGORIES:Freestyle,常態課_一般,課程
END:VEVENT
BEGIN:VEVENT
DTSTART;TZID=Asia/Shanghai:20220805T202000
DTEND;TZID=Asia/Shanghai:20220805T212000
DTSTAMP:20260422T220056
CREATED:20220728T102153Z
LAST-MODIFIED:20220728T102153Z
UID:10016487-1659730800-1659734400@www.dancesoul.com.tw
SUMMARY:Free Style-少麟
DESCRIPTION:
URL:https://www.dancesoul.com.tw/schedule/free-style-%e5%b0%91%e9%ba%9f-18/2022-08-05/
LOCATION:仁愛路四段425-1號\, Taipei City\, 104\, 台灣
CATEGORIES:Freestyle,常態課_一般,課程
END:VEVENT
BEGIN:VEVENT
DTSTART;TZID=Asia/Shanghai:20220729T202000
DTEND;TZID=Asia/Shanghai:20220729T212000
DTSTAMP:20260422T220056
CREATED:20220623T130241Z
LAST-MODIFIED:20220623T130241Z
UID:10016203-1659126000-1659129600@www.dancesoul.com.tw
SUMMARY:Free Style-少麟
DESCRIPTION:
URL:https://www.dancesoul.com.tw/schedule/free-style-%e5%b0%91%e9%ba%9f-17/2022-07-29/
LOCATION:仁愛路四段425-1號\, Taipei City\, 104\, 台灣
CATEGORIES:Freestyle,常態課_一般,課程
END:VEVENT
BEGIN:VEVENT
DTSTART;TZID=Asia/Shanghai:20220722T202000
DTEND;TZID=Asia/Shanghai:20220722T212000
DTSTAMP:20260422T220056
CREATED:20220623T130241Z
LAST-MODIFIED:20220623T130241Z
UID:10016202-1658521200-1658524800@www.dancesoul.com.tw
SUMMARY:Free Style-少麟
DESCRIPTION:
URL:https://www.dancesoul.com.tw/schedule/free-style-%e5%b0%91%e9%ba%9f-17/2022-07-22/
LOCATION:仁愛路四段425-1號\, Taipei City\, 104\, 台灣
CATEGORIES:Freestyle,常態課_一般,課程
END:VEVENT
BEGIN:VEVENT
DTSTART;TZID=Asia/Shanghai:20220715T202000
DTEND;TZID=Asia/Shanghai:20220715T212000
DTSTAMP:20260422T220056
CREATED:20220623T130241Z
LAST-MODIFIED:20220623T130241Z
UID:10016201-1657916400-1657920000@www.dancesoul.com.tw
SUMMARY:Free Style-少麟
DESCRIPTION:
URL:https://www.dancesoul.com.tw/schedule/free-style-%e5%b0%91%e9%ba%9f-17/2022-07-15/
LOCATION:仁愛路四段425-1號\, Taipei City\, 104\, 台灣
CATEGORIES:Freestyle,常態課_一般,課程
END:VEVENT
BEGIN:VEVENT
DTSTART;TZID=Asia/Shanghai:20220708T202000
DTEND;TZID=Asia/Shanghai:20220708T212000
DTSTAMP:20260422T220056
CREATED:20220623T130241Z
LAST-MODIFIED:20220623T130241Z
UID:10016200-1657311600-1657315200@www.dancesoul.com.tw
SUMMARY:Free Style-少麟
DESCRIPTION:
URL:https://www.dancesoul.com.tw/schedule/free-style-%e5%b0%91%e9%ba%9f-17/2022-07-08/
LOCATION:仁愛路四段425-1號\, Taipei City\, 104\, 台灣
CATEGORIES:Freestyle,常態課_一般,課程
END:VEVENT
BEGIN:VEVENT
DTSTART;TZID=Asia/Shanghai:20220701T202000
DTEND;TZID=Asia/Shanghai:20220701T212000
DTSTAMP:20260422T220056
CREATED:20220623T130241Z
LAST-MODIFIED:20220623T130241Z
UID:10016199-1656706800-1656710400@www.dancesoul.com.tw
SUMMARY:Free Style-少麟
DESCRIPTION:
URL:https://www.dancesoul.com.tw/schedule/free-style-%e5%b0%91%e9%ba%9f-17/2022-07-01/
LOCATION:仁愛路四段425-1號\, Taipei City\, 104\, 台灣
CATEGORIES:Freestyle,常態課_一般,課程
END:VEVENT
BEGIN:VEVENT
DTSTART;TZID=Asia/Shanghai:20220624T202000
DTEND;TZID=Asia/Shanghai:20220624T212000
DTSTAMP:20260422T220056
CREATED:20220527T120746Z
LAST-MODIFIED:20220527T120746Z
UID:10016034-1656102000-1656105600@www.dancesoul.com.tw
SUMMARY:Free Style-少麟
DESCRIPTION:
URL:https://www.dancesoul.com.tw/schedule/free-style-%e5%b0%91%e9%ba%9f-16/2022-06-24/
LOCATION:仁愛路四段425-1號\, Taipei City\, 104\, 台灣
CATEGORIES:Freestyle,常態課_一般,課程
END:VEVENT
BEGIN:VEVENT
DTSTART;TZID=Asia/Shanghai:20220617T202000
DTEND;TZID=Asia/Shanghai:20220617T212000
DTSTAMP:20260422T220056
CREATED:20220527T120746Z
LAST-MODIFIED:20220527T120746Z
UID:10016033-1655497200-1655500800@www.dancesoul.com.tw
SUMMARY:Free Style-少麟
DESCRIPTION:
URL:https://www.dancesoul.com.tw/schedule/free-style-%e5%b0%91%e9%ba%9f-16/2022-06-17/
LOCATION:仁愛路四段425-1號\, Taipei City\, 104\, 台灣
CATEGORIES:Freestyle,常態課_一般,課程
END:VEVENT
BEGIN:VEVENT
DTSTART;TZID=Asia/Shanghai:20220610T202000
DTEND;TZID=Asia/Shanghai:20220610T212000
DTSTAMP:20260422T220056
CREATED:20220527T120746Z
LAST-MODIFIED:20220527T120746Z
UID:10016032-1654892400-1654896000@www.dancesoul.com.tw
SUMMARY:Free Style-少麟
DESCRIPTION:
URL:https://www.dancesoul.com.tw/schedule/free-style-%e5%b0%91%e9%ba%9f-16/2022-06-10/
LOCATION:仁愛路四段425-1號\, Taipei City\, 104\, 台灣
CATEGORIES:Freestyle,常態課_一般,課程
END:VEVENT
BEGIN:VEVENT
DTSTART;TZID=Asia/Shanghai:20220603T202000
DTEND;TZID=Asia/Shanghai:20220603T212000
DTSTAMP:20260422T220056
CREATED:20220527T120746Z
LAST-MODIFIED:20220527T120746Z
UID:10016031-1654287600-1654291200@www.dancesoul.com.tw
SUMMARY:Free Style-少麟
DESCRIPTION:
URL:https://www.dancesoul.com.tw/schedule/free-style-%e5%b0%91%e9%ba%9f-16/2022-06-03/
LOCATION:仁愛路四段425-1號\, Taipei City\, 104\, 台灣
CATEGORIES:Freestyle,常態課_一般,課程
END:VEVENT
BEGIN:VEVENT
DTSTART;TZID=Asia/Shanghai:20220527T202000
DTEND;TZID=Asia/Shanghai:20220527T212000
DTSTAMP:20260422T220056
CREATED:20220428T093000Z
LAST-MODIFIED:20220428T093000Z
UID:10015882-1653682800-1653686400@www.dancesoul.com.tw
SUMMARY:Free Style-少麟
DESCRIPTION:
URL:https://www.dancesoul.com.tw/schedule/free-style-%e5%b0%91%e9%ba%9f-15/2022-05-27/
LOCATION:仁愛路四段425-1號\, Taipei City\, 104\, 台灣
CATEGORIES:Freestyle,常態課_一般,課程
END:VEVENT
BEGIN:VEVENT
DTSTART;TZID=Asia/Shanghai:20220520T202000
DTEND;TZID=Asia/Shanghai:20220520T212000
DTSTAMP:20260422T220056
CREATED:20220428T093000Z
LAST-MODIFIED:20220428T093000Z
UID:10015881-1653078000-1653081600@www.dancesoul.com.tw
SUMMARY:Free Style-少麟
DESCRIPTION:
URL:https://www.dancesoul.com.tw/schedule/free-style-%e5%b0%91%e9%ba%9f-15/2022-05-20/
LOCATION:仁愛路四段425-1號\, Taipei City\, 104\, 台灣
CATEGORIES:Freestyle,常態課_一般,課程
END:VEVENT
BEGIN:VEVENT
DTSTART;TZID=Asia/Shanghai:20220513T202000
DTEND;TZID=Asia/Shanghai:20220513T212000
DTSTAMP:20260422T220056
CREATED:20220428T093000Z
LAST-MODIFIED:20220428T093000Z
UID:10015880-1652473200-1652476800@www.dancesoul.com.tw
SUMMARY:Free Style-少麟
DESCRIPTION:
URL:https://www.dancesoul.com.tw/schedule/free-style-%e5%b0%91%e9%ba%9f-15/2022-05-13/
LOCATION:仁愛路四段425-1號\, Taipei City\, 104\, 台灣
CATEGORIES:Freestyle,常態課_一般,課程
END:VEVENT
BEGIN:VEVENT
DTSTART;TZID=Asia/Shanghai:20220506T202000
DTEND;TZID=Asia/Shanghai:20220506T212000
DTSTAMP:20260422T220056
CREATED:20220428T093000Z
LAST-MODIFIED:20220428T093000Z
UID:10015879-1651868400-1651872000@www.dancesoul.com.tw
SUMMARY:Free Style-少麟
DESCRIPTION:
URL:https://www.dancesoul.com.tw/schedule/free-style-%e5%b0%91%e9%ba%9f-15/2022-05-06/
LOCATION:仁愛路四段425-1號\, Taipei City\, 104\, 台灣
CATEGORIES:Freestyle,常態課_一般,課程
END:VEVENT
BEGIN:VEVENT
DTSTART;TZID=Asia/Shanghai:20220429T202000
DTEND;TZID=Asia/Shanghai:20220429T212000
DTSTAMP:20260422T220056
CREATED:20220329T092234Z
LAST-MODIFIED:20220329T092234Z
UID:10015662-1651263600-1651267200@www.dancesoul.com.tw
SUMMARY:Free Style-少麟
DESCRIPTION:
URL:https://www.dancesoul.com.tw/schedule/free-style-%e5%b0%91%e9%ba%9f-14/2022-04-29/
LOCATION:仁愛路四段425-1號\, Taipei City\, 104\, 台灣
CATEGORIES:Freestyle,常態課_一般,課程
END:VEVENT
BEGIN:VEVENT
DTSTART;TZID=Asia/Shanghai:20220422T202000
DTEND;TZID=Asia/Shanghai:20220422T212000
DTSTAMP:20260422T220056
CREATED:20220329T092234Z
LAST-MODIFIED:20220329T092234Z
UID:10015661-1650658800-1650662400@www.dancesoul.com.tw
SUMMARY:Free Style-少麟
DESCRIPTION:
URL:https://www.dancesoul.com.tw/schedule/free-style-%e5%b0%91%e9%ba%9f-14/2022-04-22/
LOCATION:仁愛路四段425-1號\, Taipei City\, 104\, 台灣
CATEGORIES:Freestyle,常態課_一般,課程
END:VEVENT
BEGIN:VEVENT
DTSTART;TZID=Asia/Shanghai:20220415T202000
DTEND;TZID=Asia/Shanghai:20220415T212000
DTSTAMP:20260422T220056
CREATED:20220329T092234Z
LAST-MODIFIED:20220329T092234Z
UID:10015660-1650054000-1650057600@www.dancesoul.com.tw
SUMMARY:Free Style-少麟
DESCRIPTION:
URL:https://www.dancesoul.com.tw/schedule/free-style-%e5%b0%91%e9%ba%9f-14/2022-04-15/
LOCATION:仁愛路四段425-1號\, Taipei City\, 104\, 台灣
CATEGORIES:Freestyle,常態課_一般,課程
END:VEVENT
END:VCALENDAR