BEGIN:VCALENDAR
VERSION:2.0
PRODID:-//DANCE SOUL 舞魂街舞學校 - ECPv6.15.18//NONSGML v1.0//EN
CALSCALE:GREGORIAN
METHOD:PUBLISH
X-ORIGINAL-URL:https://www.dancesoul.com.tw
X-WR-CALDESC:Events for DANCE SOUL 舞魂街舞學校
REFRESH-INTERVAL;VALUE=DURATION:PT1H
X-Robots-Tag:noindex
X-PUBLISHED-TTL:PT1H
BEGIN:VTIMEZONE
TZID:Asia/Shanghai
BEGIN:STANDARD
TZOFFSETFROM:+0800
TZOFFSETTO:+0800
TZNAME:CST
DTSTART:20230101T000000
END:STANDARD
END:VTIMEZONE
BEGIN:VEVENT
DTSTART;TZID=Asia/Shanghai:20250625T213500
DTEND;TZID=Asia/Shanghai:20250625T223500
DTSTAMP:20260421T074805
CREATED:20250417T094806Z
LAST-MODIFIED:20250515T044442Z
UID:10021704-1750887300-1750890900@www.dancesoul.com.tw
SUMMARY:Free Style-承達
DESCRIPTION:
URL:https://www.dancesoul.com.tw/schedule/free-style-%e6%89%bf%e9%81%94-50/2025-06-25/
CATEGORIES:Freestyle,常態課_一般,課程
END:VEVENT
BEGIN:VEVENT
DTSTART;TZID=Asia/Shanghai:20250618T213500
DTEND;TZID=Asia/Shanghai:20250618T223500
DTSTAMP:20260421T074805
CREATED:20250417T094806Z
LAST-MODIFIED:20250515T044442Z
UID:10021703-1750282500-1750286100@www.dancesoul.com.tw
SUMMARY:Free Style-承達
DESCRIPTION:
URL:https://www.dancesoul.com.tw/schedule/free-style-%e6%89%bf%e9%81%94-50/2025-06-18/
CATEGORIES:Freestyle,常態課_一般,課程
END:VEVENT
BEGIN:VEVENT
DTSTART;TZID=Asia/Shanghai:20250611T213500
DTEND;TZID=Asia/Shanghai:20250611T223500
DTSTAMP:20260421T074805
CREATED:20250417T094806Z
LAST-MODIFIED:20250515T044442Z
UID:10021702-1749677700-1749681300@www.dancesoul.com.tw
SUMMARY:Free Style-承達
DESCRIPTION:
URL:https://www.dancesoul.com.tw/schedule/free-style-%e6%89%bf%e9%81%94-50/2025-06-11/
CATEGORIES:Freestyle,常態課_一般,課程
END:VEVENT
BEGIN:VEVENT
DTSTART;TZID=Asia/Shanghai:20250604T213500
DTEND;TZID=Asia/Shanghai:20250604T223500
DTSTAMP:20260421T074805
CREATED:20250417T094806Z
LAST-MODIFIED:20250515T044442Z
UID:10021701-1749072900-1749076500@www.dancesoul.com.tw
SUMMARY:Free Style-承達
DESCRIPTION:
URL:https://www.dancesoul.com.tw/schedule/free-style-%e6%89%bf%e9%81%94-50/2025-06-04/
CATEGORIES:Freestyle,常態課_一般,課程
END:VEVENT
BEGIN:VEVENT
DTSTART;TZID=Asia/Shanghai:20250528T213500
DTEND;TZID=Asia/Shanghai:20250528T223500
DTSTAMP:20260421T074805
CREATED:20250417T094806Z
LAST-MODIFIED:20250515T044442Z
UID:10021483-1748468100-1748471700@www.dancesoul.com.tw
SUMMARY:Free Style-承達
DESCRIPTION:
URL:https://www.dancesoul.com.tw/schedule/free-style-%e6%89%bf%e9%81%94-50/2025-05-28/
CATEGORIES:Freestyle,常態課_一般,課程
END:VEVENT
BEGIN:VEVENT
DTSTART;TZID=Asia/Shanghai:20250521T213500
DTEND;TZID=Asia/Shanghai:20250521T223500
DTSTAMP:20260421T074805
CREATED:20250417T094806Z
LAST-MODIFIED:20250515T044442Z
UID:10021482-1747863300-1747866900@www.dancesoul.com.tw
SUMMARY:Free Style-承達
DESCRIPTION:
URL:https://www.dancesoul.com.tw/schedule/free-style-%e6%89%bf%e9%81%94-50/2025-05-21/
CATEGORIES:Freestyle,常態課_一般,課程
END:VEVENT
BEGIN:VEVENT
DTSTART;TZID=Asia/Shanghai:20250507T213500
DTEND;TZID=Asia/Shanghai:20250507T223500
DTSTAMP:20260421T074805
CREATED:20250417T094806Z
LAST-MODIFIED:20250515T044442Z
UID:10021480-1746653700-1746657300@www.dancesoul.com.tw
SUMMARY:Free Style-承達
DESCRIPTION:
URL:https://www.dancesoul.com.tw/schedule/free-style-%e6%89%bf%e9%81%94-50/2025-05-07/
CATEGORIES:Freestyle,常態課_一般,課程
END:VEVENT
BEGIN:VEVENT
DTSTART;TZID=Asia/Shanghai:20250430T213500
DTEND;TZID=Asia/Shanghai:20250430T223500
DTSTAMP:20260421T074805
CREATED:20250328T075952Z
LAST-MODIFIED:20250328T075952Z
UID:10021356-1746048900-1746052500@www.dancesoul.com.tw
SUMMARY:Free Style-承達
DESCRIPTION:
URL:https://www.dancesoul.com.tw/schedule/free-style-%e6%89%bf%e9%81%94-49/2025-04-30/
CATEGORIES:Freestyle,常態課_一般,課程
END:VEVENT
BEGIN:VEVENT
DTSTART;TZID=Asia/Shanghai:20250423T213500
DTEND;TZID=Asia/Shanghai:20250423T223500
DTSTAMP:20260421T074805
CREATED:20250328T075952Z
LAST-MODIFIED:20250328T075952Z
UID:10021355-1745444100-1745447700@www.dancesoul.com.tw
SUMMARY:Free Style-承達
DESCRIPTION:
URL:https://www.dancesoul.com.tw/schedule/free-style-%e6%89%bf%e9%81%94-49/2025-04-23/
CATEGORIES:Freestyle,常態課_一般,課程
END:VEVENT
BEGIN:VEVENT
DTSTART;TZID=Asia/Shanghai:20250416T213500
DTEND;TZID=Asia/Shanghai:20250416T223500
DTSTAMP:20260421T074805
CREATED:20250328T075952Z
LAST-MODIFIED:20250328T075952Z
UID:10021354-1744839300-1744842900@www.dancesoul.com.tw
SUMMARY:Free Style-承達
DESCRIPTION:
URL:https://www.dancesoul.com.tw/schedule/free-style-%e6%89%bf%e9%81%94-49/2025-04-16/
CATEGORIES:Freestyle,常態課_一般,課程
END:VEVENT
BEGIN:VEVENT
DTSTART;TZID=Asia/Shanghai:20250409T213500
DTEND;TZID=Asia/Shanghai:20250409T223500
DTSTAMP:20260421T074805
CREATED:20250328T075952Z
LAST-MODIFIED:20250328T075952Z
UID:10021353-1744234500-1744238100@www.dancesoul.com.tw
SUMMARY:Free Style-承達
DESCRIPTION:
URL:https://www.dancesoul.com.tw/schedule/free-style-%e6%89%bf%e9%81%94-49/2025-04-09/
CATEGORIES:Freestyle,常態課_一般,課程
END:VEVENT
BEGIN:VEVENT
DTSTART;TZID=Asia/Shanghai:20250402T213500
DTEND;TZID=Asia/Shanghai:20250402T223500
DTSTAMP:20260421T074805
CREATED:20250328T075952Z
LAST-MODIFIED:20250328T075952Z
UID:10021352-1743629700-1743633300@www.dancesoul.com.tw
SUMMARY:Free Style-承達
DESCRIPTION:
URL:https://www.dancesoul.com.tw/schedule/free-style-%e6%89%bf%e9%81%94-49/2025-04-02/
CATEGORIES:Freestyle,常態課_一般,課程
END:VEVENT
BEGIN:VEVENT
DTSTART;TZID=Asia/Shanghai:20250326T203000
DTEND;TZID=Asia/Shanghai:20250326T213000
DTSTAMP:20260421T074805
CREATED:20250223T112305Z
LAST-MODIFIED:20250223T112305Z
UID:10021257-1743021000-1743024600@www.dancesoul.com.tw
SUMMARY:Free Style-承達
DESCRIPTION:
URL:https://www.dancesoul.com.tw/schedule/free-style-%e6%89%bf%e9%81%94-48/2025-03-26/
CATEGORIES:Freestyle,常態課_一般,課程
END:VEVENT
BEGIN:VEVENT
DTSTART;TZID=Asia/Shanghai:20250319T203000
DTEND;TZID=Asia/Shanghai:20250319T213000
DTSTAMP:20260421T074805
CREATED:20250223T112305Z
LAST-MODIFIED:20250223T112305Z
UID:10021256-1742416200-1742419800@www.dancesoul.com.tw
SUMMARY:Free Style-承達
DESCRIPTION:
URL:https://www.dancesoul.com.tw/schedule/free-style-%e6%89%bf%e9%81%94-48/2025-03-19/
CATEGORIES:Freestyle,常態課_一般,課程
END:VEVENT
BEGIN:VEVENT
DTSTART;TZID=Asia/Shanghai:20250312T203000
DTEND;TZID=Asia/Shanghai:20250312T213000
DTSTAMP:20260421T074805
CREATED:20250223T112305Z
LAST-MODIFIED:20250223T112305Z
UID:10021255-1741811400-1741815000@www.dancesoul.com.tw
SUMMARY:Free Style-承達
DESCRIPTION:
URL:https://www.dancesoul.com.tw/schedule/free-style-%e6%89%bf%e9%81%94-48/2025-03-12/
CATEGORIES:Freestyle,常態課_一般,課程
END:VEVENT
BEGIN:VEVENT
DTSTART;TZID=Asia/Shanghai:20250305T203000
DTEND;TZID=Asia/Shanghai:20250305T213000
DTSTAMP:20260421T074805
CREATED:20250223T112305Z
LAST-MODIFIED:20250223T112305Z
UID:10021254-1741206600-1741210200@www.dancesoul.com.tw
SUMMARY:Free Style-承達
DESCRIPTION:
URL:https://www.dancesoul.com.tw/schedule/free-style-%e6%89%bf%e9%81%94-48/2025-03-05/
CATEGORIES:Freestyle,常態課_一般,課程
END:VEVENT
BEGIN:VEVENT
DTSTART;TZID=Asia/Shanghai:20250226T203000
DTEND;TZID=Asia/Shanghai:20250226T213000
DTSTAMP:20260421T074805
CREATED:20250126T120428Z
LAST-MODIFIED:20250126T120428Z
UID:10021108-1740601800-1740605400@www.dancesoul.com.tw
SUMMARY:Free Style-承達
DESCRIPTION:
URL:https://www.dancesoul.com.tw/schedule/free-style-%e6%89%bf%e9%81%94-47/2025-02-26/
CATEGORIES:Freestyle,常態課_一般,課程
END:VEVENT
BEGIN:VEVENT
DTSTART;TZID=Asia/Shanghai:20250219T203000
DTEND;TZID=Asia/Shanghai:20250219T213000
DTSTAMP:20260421T074805
CREATED:20250126T120428Z
LAST-MODIFIED:20250126T120428Z
UID:10021107-1739997000-1740000600@www.dancesoul.com.tw
SUMMARY:Free Style-承達
DESCRIPTION:
URL:https://www.dancesoul.com.tw/schedule/free-style-%e6%89%bf%e9%81%94-47/2025-02-19/
CATEGORIES:Freestyle,常態課_一般,課程
END:VEVENT
BEGIN:VEVENT
DTSTART;TZID=Asia/Shanghai:20250212T203000
DTEND;TZID=Asia/Shanghai:20250212T213000
DTSTAMP:20260421T074805
CREATED:20250126T120428Z
LAST-MODIFIED:20250126T120428Z
UID:10021106-1739392200-1739395800@www.dancesoul.com.tw
SUMMARY:Free Style-承達
DESCRIPTION:
URL:https://www.dancesoul.com.tw/schedule/free-style-%e6%89%bf%e9%81%94-47/2025-02-12/
CATEGORIES:Freestyle,常態課_一般,課程
END:VEVENT
BEGIN:VEVENT
DTSTART;TZID=Asia/Shanghai:20250205T203000
DTEND;TZID=Asia/Shanghai:20250205T213000
DTSTAMP:20260421T074805
CREATED:20250126T120428Z
LAST-MODIFIED:20250126T120428Z
UID:10021105-1738787400-1738791000@www.dancesoul.com.tw
SUMMARY:Free Style-承達
DESCRIPTION:
URL:https://www.dancesoul.com.tw/schedule/free-style-%e6%89%bf%e9%81%94-47/2025-02-05/
CATEGORIES:Freestyle,常態課_一般,課程
END:VEVENT
BEGIN:VEVENT
DTSTART;TZID=Asia/Shanghai:20250122T203000
DTEND;TZID=Asia/Shanghai:20250122T213000
DTSTAMP:20260421T074805
CREATED:20241230T082328Z
LAST-MODIFIED:20241230T082328Z
UID:10020847-1737577800-1737581400@www.dancesoul.com.tw
SUMMARY:Free Style-承達
DESCRIPTION:
URL:https://www.dancesoul.com.tw/schedule/free-style-%e6%89%bf%e9%81%94-46/2025-01-22/
CATEGORIES:Freestyle,常態課_一般,課程
END:VEVENT
BEGIN:VEVENT
DTSTART;TZID=Asia/Shanghai:20250115T203000
DTEND;TZID=Asia/Shanghai:20250115T213000
DTSTAMP:20260421T074805
CREATED:20241230T082328Z
LAST-MODIFIED:20241230T082328Z
UID:10020846-1736973000-1736976600@www.dancesoul.com.tw
SUMMARY:Free Style-承達
DESCRIPTION:
URL:https://www.dancesoul.com.tw/schedule/free-style-%e6%89%bf%e9%81%94-46/2025-01-15/
CATEGORIES:Freestyle,常態課_一般,課程
END:VEVENT
BEGIN:VEVENT
DTSTART;TZID=Asia/Shanghai:20250108T203000
DTEND;TZID=Asia/Shanghai:20250108T213000
DTSTAMP:20260421T074805
CREATED:20241230T082328Z
LAST-MODIFIED:20241230T082328Z
UID:10020845-1736368200-1736371800@www.dancesoul.com.tw
SUMMARY:Free Style-承達
DESCRIPTION:
URL:https://www.dancesoul.com.tw/schedule/free-style-%e6%89%bf%e9%81%94-46/2025-01-08/
CATEGORIES:Freestyle,常態課_一般,課程
END:VEVENT
BEGIN:VEVENT
DTSTART;TZID=Asia/Shanghai:20250101T203000
DTEND;TZID=Asia/Shanghai:20250101T213000
DTSTAMP:20260421T074805
CREATED:20241230T082328Z
LAST-MODIFIED:20241230T082328Z
UID:10020844-1735763400-1735767000@www.dancesoul.com.tw
SUMMARY:Free Style-承達
DESCRIPTION:
URL:https://www.dancesoul.com.tw/schedule/free-style-%e6%89%bf%e9%81%94-46/2025-01-01/
CATEGORIES:Freestyle,常態課_一般,課程
END:VEVENT
BEGIN:VEVENT
DTSTART;TZID=Asia/Shanghai:20241218T205000
DTEND;TZID=Asia/Shanghai:20241218T215000
DTSTAMP:20260421T074805
CREATED:20241125T105734Z
LAST-MODIFIED:20241125T105734Z
UID:10020685-1734555000-1734558600@www.dancesoul.com.tw
SUMMARY:Free Style-承達
DESCRIPTION:
URL:https://www.dancesoul.com.tw/schedule/free-style-%e6%89%bf%e9%81%94-45/2024-12-18/
CATEGORIES:Freestyle,常態課_一般,課程
END:VEVENT
BEGIN:VEVENT
DTSTART;TZID=Asia/Shanghai:20241211T205000
DTEND;TZID=Asia/Shanghai:20241211T215000
DTSTAMP:20260421T074805
CREATED:20241125T105734Z
LAST-MODIFIED:20241125T105734Z
UID:10020684-1733950200-1733953800@www.dancesoul.com.tw
SUMMARY:Free Style-承達
DESCRIPTION:
URL:https://www.dancesoul.com.tw/schedule/free-style-%e6%89%bf%e9%81%94-45/2024-12-11/
CATEGORIES:Freestyle,常態課_一般,課程
END:VEVENT
BEGIN:VEVENT
DTSTART;TZID=Asia/Shanghai:20241204T205000
DTEND;TZID=Asia/Shanghai:20241204T215000
DTSTAMP:20260421T074805
CREATED:20241125T105734Z
LAST-MODIFIED:20241125T105734Z
UID:10020683-1733345400-1733349000@www.dancesoul.com.tw
SUMMARY:Free Style-承達
DESCRIPTION:
URL:https://www.dancesoul.com.tw/schedule/free-style-%e6%89%bf%e9%81%94-45/2024-12-04/
CATEGORIES:Freestyle,常態課_一般,課程
END:VEVENT
BEGIN:VEVENT
DTSTART;TZID=Asia/Shanghai:20241127T205000
DTEND;TZID=Asia/Shanghai:20241127T215000
DTSTAMP:20260421T074805
CREATED:20241028T081306Z
LAST-MODIFIED:20241028T081306Z
UID:10020566-1732740600-1732744200@www.dancesoul.com.tw
SUMMARY:Free Style-承達
DESCRIPTION:
URL:https://www.dancesoul.com.tw/schedule/free-style-%e6%89%bf%e9%81%94-44/2024-11-27/
CATEGORIES:Freestyle,常態課_一般,課程
END:VEVENT
BEGIN:VEVENT
DTSTART;TZID=Asia/Shanghai:20241120T205000
DTEND;TZID=Asia/Shanghai:20241120T215000
DTSTAMP:20260421T074805
CREATED:20241028T081306Z
LAST-MODIFIED:20241028T081306Z
UID:10020565-1732135800-1732139400@www.dancesoul.com.tw
SUMMARY:Free Style-承達
DESCRIPTION:
URL:https://www.dancesoul.com.tw/schedule/free-style-%e6%89%bf%e9%81%94-44/2024-11-20/
CATEGORIES:Freestyle,常態課_一般,課程
END:VEVENT
BEGIN:VEVENT
DTSTART;TZID=Asia/Shanghai:20241113T205000
DTEND;TZID=Asia/Shanghai:20241113T215000
DTSTAMP:20260421T074805
CREATED:20241028T081306Z
LAST-MODIFIED:20241028T081306Z
UID:10020564-1731531000-1731534600@www.dancesoul.com.tw
SUMMARY:Free Style-承達
DESCRIPTION:
URL:https://www.dancesoul.com.tw/schedule/free-style-%e6%89%bf%e9%81%94-44/2024-11-13/
CATEGORIES:Freestyle,常態課_一般,課程
END:VEVENT
END:VCALENDAR