BEGIN:VCALENDAR
VERSION:2.0
PRODID:-//DANCE SOUL 舞魂街舞學校 - ECPv6.15.18//NONSGML v1.0//EN
CALSCALE:GREGORIAN
METHOD:PUBLISH
X-ORIGINAL-URL:https://www.dancesoul.com.tw
X-WR-CALDESC:Events for DANCE SOUL 舞魂街舞學校
REFRESH-INTERVAL;VALUE=DURATION:PT1H
X-Robots-Tag:noindex
X-PUBLISHED-TTL:PT1H
BEGIN:VTIMEZONE
TZID:Asia/Shanghai
BEGIN:STANDARD
TZOFFSETFROM:+0800
TZOFFSETTO:+0800
TZNAME:CST
DTSTART:20210101T000000
END:STANDARD
END:VTIMEZONE
BEGIN:VEVENT
DTSTART;TZID=Asia/Shanghai:20220929T180000
DTEND;TZID=Asia/Shanghai:20220929T190000
DTSTAMP:20260423T070931
CREATED:20220828T055401Z
LAST-MODIFIED:20220828T055401Z
UID:10016600-1664474400-1664478000@www.dancesoul.com.tw
SUMMARY:Free Style-藍弟
DESCRIPTION:
URL:https://www.dancesoul.com.tw/schedule/free-style-%e8%97%8d%e5%bc%9f-19/2022-09-29/
LOCATION:仁愛路四段425-1號\, Taipei City\, 104\, 台灣
CATEGORIES:Freestyle,常態課_一般,課程
END:VEVENT
BEGIN:VEVENT
DTSTART;TZID=Asia/Shanghai:20220922T180000
DTEND;TZID=Asia/Shanghai:20220922T190000
DTSTAMP:20260423T070931
CREATED:20220828T055401Z
LAST-MODIFIED:20220828T055401Z
UID:10016599-1663869600-1663873200@www.dancesoul.com.tw
SUMMARY:Free Style-藍弟
DESCRIPTION:
URL:https://www.dancesoul.com.tw/schedule/free-style-%e8%97%8d%e5%bc%9f-19/2022-09-22/
LOCATION:仁愛路四段425-1號\, Taipei City\, 104\, 台灣
CATEGORIES:Freestyle,常態課_一般,課程
END:VEVENT
BEGIN:VEVENT
DTSTART;TZID=Asia/Shanghai:20220915T180000
DTEND;TZID=Asia/Shanghai:20220915T190000
DTSTAMP:20260423T070931
CREATED:20220828T055401Z
LAST-MODIFIED:20220828T055401Z
UID:10016598-1663264800-1663268400@www.dancesoul.com.tw
SUMMARY:Free Style-藍弟
DESCRIPTION:
URL:https://www.dancesoul.com.tw/schedule/free-style-%e8%97%8d%e5%bc%9f-19/2022-09-15/
LOCATION:仁愛路四段425-1號\, Taipei City\, 104\, 台灣
CATEGORIES:Freestyle,常態課_一般,課程
END:VEVENT
BEGIN:VEVENT
DTSTART;TZID=Asia/Shanghai:20220908T180000
DTEND;TZID=Asia/Shanghai:20220908T190000
DTSTAMP:20260423T070931
CREATED:20220828T055401Z
LAST-MODIFIED:20220828T055401Z
UID:10016597-1662660000-1662663600@www.dancesoul.com.tw
SUMMARY:Free Style-藍弟
DESCRIPTION:
URL:https://www.dancesoul.com.tw/schedule/free-style-%e8%97%8d%e5%bc%9f-19/2022-09-08/
LOCATION:仁愛路四段425-1號\, Taipei City\, 104\, 台灣
CATEGORIES:Freestyle,常態課_一般,課程
END:VEVENT
BEGIN:VEVENT
DTSTART;TZID=Asia/Shanghai:20220901T180000
DTEND;TZID=Asia/Shanghai:20220901T190000
DTSTAMP:20260423T070931
CREATED:20220828T055401Z
LAST-MODIFIED:20220828T055401Z
UID:10016596-1662055200-1662058800@www.dancesoul.com.tw
SUMMARY:Free Style-藍弟
DESCRIPTION:
URL:https://www.dancesoul.com.tw/schedule/free-style-%e8%97%8d%e5%bc%9f-19/2022-09-01/
LOCATION:仁愛路四段425-1號\, Taipei City\, 104\, 台灣
CATEGORIES:Freestyle,常態課_一般,課程
END:VEVENT
BEGIN:VEVENT
DTSTART;TZID=Asia/Shanghai:20220825T180000
DTEND;TZID=Asia/Shanghai:20220825T190000
DTSTAMP:20260423T070931
CREATED:20220728T095008Z
LAST-MODIFIED:20220728T095008Z
UID:10016423-1661450400-1661454000@www.dancesoul.com.tw
SUMMARY:Free Style-藍弟
DESCRIPTION:
URL:https://www.dancesoul.com.tw/schedule/free-style-%e8%97%8d%e5%bc%9f-18/2022-08-25/
LOCATION:仁愛路四段425-1號\, Taipei City\, 104\, 台灣
CATEGORIES:Freestyle,常態課_一般,課程
END:VEVENT
BEGIN:VEVENT
DTSTART;TZID=Asia/Shanghai:20220818T180000
DTEND;TZID=Asia/Shanghai:20220818T190000
DTSTAMP:20260423T070931
CREATED:20220728T095008Z
LAST-MODIFIED:20220728T095008Z
UID:10016422-1660845600-1660849200@www.dancesoul.com.tw
SUMMARY:Free Style-藍弟
DESCRIPTION:
URL:https://www.dancesoul.com.tw/schedule/free-style-%e8%97%8d%e5%bc%9f-18/2022-08-18/
LOCATION:仁愛路四段425-1號\, Taipei City\, 104\, 台灣
CATEGORIES:Freestyle,常態課_一般,課程
END:VEVENT
BEGIN:VEVENT
DTSTART;TZID=Asia/Shanghai:20220811T180000
DTEND;TZID=Asia/Shanghai:20220811T190000
DTSTAMP:20260423T070931
CREATED:20220728T095008Z
LAST-MODIFIED:20220728T095008Z
UID:10016421-1660240800-1660244400@www.dancesoul.com.tw
SUMMARY:Free Style-藍弟
DESCRIPTION:
URL:https://www.dancesoul.com.tw/schedule/free-style-%e8%97%8d%e5%bc%9f-18/2022-08-11/
LOCATION:仁愛路四段425-1號\, Taipei City\, 104\, 台灣
CATEGORIES:Freestyle,常態課_一般,課程
END:VEVENT
BEGIN:VEVENT
DTSTART;TZID=Asia/Shanghai:20220804T180000
DTEND;TZID=Asia/Shanghai:20220804T190000
DTSTAMP:20260423T070931
CREATED:20220728T095008Z
LAST-MODIFIED:20220728T095008Z
UID:10016420-1659636000-1659639600@www.dancesoul.com.tw
SUMMARY:Free Style-藍弟
DESCRIPTION:
URL:https://www.dancesoul.com.tw/schedule/free-style-%e8%97%8d%e5%bc%9f-18/2022-08-04/
LOCATION:仁愛路四段425-1號\, Taipei City\, 104\, 台灣
CATEGORIES:Freestyle,常態課_一般,課程
END:VEVENT
BEGIN:VEVENT
DTSTART;TZID=Asia/Shanghai:20220728T180000
DTEND;TZID=Asia/Shanghai:20220728T190000
DTSTAMP:20260423T070931
CREATED:20220623T125144Z
LAST-MODIFIED:20220624T124738Z
UID:10013824-1659031200-1659034800@www.dancesoul.com.tw
SUMMARY:Free Style-藍弟
DESCRIPTION:
URL:https://www.dancesoul.com.tw/schedule/free-style-%e8%97%8d%e5%bc%9f-17/2022-07-28/
LOCATION:仁愛路四段425-1號\, Taipei City\, 104\, 台灣
CATEGORIES:Freestyle,常態課_一般,課程
END:VEVENT
BEGIN:VEVENT
DTSTART;TZID=Asia/Shanghai:20220721T180000
DTEND;TZID=Asia/Shanghai:20220721T190000
DTSTAMP:20260423T070931
CREATED:20220623T125144Z
LAST-MODIFIED:20220624T124738Z
UID:10013823-1658426400-1658430000@www.dancesoul.com.tw
SUMMARY:Free Style-藍弟
DESCRIPTION:
URL:https://www.dancesoul.com.tw/schedule/free-style-%e8%97%8d%e5%bc%9f-17/2022-07-21/
LOCATION:仁愛路四段425-1號\, Taipei City\, 104\, 台灣
CATEGORIES:Freestyle,常態課_一般,課程
END:VEVENT
BEGIN:VEVENT
DTSTART;TZID=Asia/Shanghai:20220714T180000
DTEND;TZID=Asia/Shanghai:20220714T190000
DTSTAMP:20260423T070931
CREATED:20220623T125144Z
LAST-MODIFIED:20220624T124738Z
UID:10013822-1657821600-1657825200@www.dancesoul.com.tw
SUMMARY:Free Style-藍弟
DESCRIPTION:
URL:https://www.dancesoul.com.tw/schedule/free-style-%e8%97%8d%e5%bc%9f-17/2022-07-14/
LOCATION:仁愛路四段425-1號\, Taipei City\, 104\, 台灣
CATEGORIES:Freestyle,常態課_一般,課程
END:VEVENT
BEGIN:VEVENT
DTSTART;TZID=Asia/Shanghai:20220630T180000
DTEND;TZID=Asia/Shanghai:20220630T190000
DTSTAMP:20260423T070931
CREATED:20220527T115931Z
LAST-MODIFIED:20220527T115931Z
UID:10016003-1656612000-1656615600@www.dancesoul.com.tw
SUMMARY:Free Style-藍弟
DESCRIPTION:
URL:https://www.dancesoul.com.tw/schedule/free-style-%e8%97%8d%e5%bc%9f-16/2022-06-30/
LOCATION:仁愛路四段425-1號\, Taipei City\, 104\, 台灣
CATEGORIES:Freestyle,常態課_一般,課程
END:VEVENT
BEGIN:VEVENT
DTSTART;TZID=Asia/Shanghai:20220623T180000
DTEND;TZID=Asia/Shanghai:20220623T190000
DTSTAMP:20260423T070931
CREATED:20220527T115931Z
LAST-MODIFIED:20220527T115931Z
UID:10016002-1656007200-1656010800@www.dancesoul.com.tw
SUMMARY:Free Style-藍弟
DESCRIPTION:
URL:https://www.dancesoul.com.tw/schedule/free-style-%e8%97%8d%e5%bc%9f-16/2022-06-23/
LOCATION:仁愛路四段425-1號\, Taipei City\, 104\, 台灣
CATEGORIES:Freestyle,常態課_一般,課程
END:VEVENT
BEGIN:VEVENT
DTSTART;TZID=Asia/Shanghai:20220616T180000
DTEND;TZID=Asia/Shanghai:20220616T190000
DTSTAMP:20260423T070931
CREATED:20220527T115931Z
LAST-MODIFIED:20220527T115931Z
UID:10016001-1655402400-1655406000@www.dancesoul.com.tw
SUMMARY:Free Style-藍弟
DESCRIPTION:
URL:https://www.dancesoul.com.tw/schedule/free-style-%e8%97%8d%e5%bc%9f-16/2022-06-16/
LOCATION:仁愛路四段425-1號\, Taipei City\, 104\, 台灣
CATEGORIES:Freestyle,常態課_一般,課程
END:VEVENT
BEGIN:VEVENT
DTSTART;TZID=Asia/Shanghai:20220609T180000
DTEND;TZID=Asia/Shanghai:20220609T190000
DTSTAMP:20260423T070931
CREATED:20220527T115931Z
LAST-MODIFIED:20220527T115931Z
UID:10016000-1654797600-1654801200@www.dancesoul.com.tw
SUMMARY:Free Style-藍弟
DESCRIPTION:
URL:https://www.dancesoul.com.tw/schedule/free-style-%e8%97%8d%e5%bc%9f-16/2022-06-09/
LOCATION:仁愛路四段425-1號\, Taipei City\, 104\, 台灣
CATEGORIES:Freestyle,常態課_一般,課程
END:VEVENT
BEGIN:VEVENT
DTSTART;TZID=Asia/Shanghai:20220602T180000
DTEND;TZID=Asia/Shanghai:20220602T190000
DTSTAMP:20260423T070931
CREATED:20220527T115931Z
LAST-MODIFIED:20220527T115931Z
UID:10015999-1654192800-1654196400@www.dancesoul.com.tw
SUMMARY:Free Style-藍弟
DESCRIPTION:
URL:https://www.dancesoul.com.tw/schedule/free-style-%e8%97%8d%e5%bc%9f-16/2022-06-02/
LOCATION:仁愛路四段425-1號\, Taipei City\, 104\, 台灣
CATEGORIES:Freestyle,常態課_一般,課程
END:VEVENT
BEGIN:VEVENT
DTSTART;TZID=Asia/Shanghai:20220526T180000
DTEND;TZID=Asia/Shanghai:20220526T190000
DTSTAMP:20260423T070931
CREATED:20220428T092203Z
LAST-MODIFIED:20220428T092203Z
UID:10015848-1653588000-1653591600@www.dancesoul.com.tw
SUMMARY:Free Style-藍弟
DESCRIPTION:
URL:https://www.dancesoul.com.tw/schedule/free-style-%e8%97%8d%e5%bc%9f-15/2022-05-26/
LOCATION:仁愛路四段425-1號\, Taipei City\, 104\, 台灣
CATEGORIES:Freestyle,常態課_一般,課程
END:VEVENT
BEGIN:VEVENT
DTSTART;TZID=Asia/Shanghai:20220519T180000
DTEND;TZID=Asia/Shanghai:20220519T190000
DTSTAMP:20260423T070931
CREATED:20220428T092203Z
LAST-MODIFIED:20220428T092203Z
UID:10015847-1652983200-1652986800@www.dancesoul.com.tw
SUMMARY:Free Style-藍弟
DESCRIPTION:
URL:https://www.dancesoul.com.tw/schedule/free-style-%e8%97%8d%e5%bc%9f-15/2022-05-19/
LOCATION:仁愛路四段425-1號\, Taipei City\, 104\, 台灣
CATEGORIES:Freestyle,常態課_一般,課程
END:VEVENT
BEGIN:VEVENT
DTSTART;TZID=Asia/Shanghai:20220512T180000
DTEND;TZID=Asia/Shanghai:20220512T190000
DTSTAMP:20260423T070931
CREATED:20220428T092203Z
LAST-MODIFIED:20220428T092203Z
UID:10015846-1652378400-1652382000@www.dancesoul.com.tw
SUMMARY:Free Style-藍弟
DESCRIPTION:
URL:https://www.dancesoul.com.tw/schedule/free-style-%e8%97%8d%e5%bc%9f-15/2022-05-12/
LOCATION:仁愛路四段425-1號\, Taipei City\, 104\, 台灣
CATEGORIES:Freestyle,常態課_一般,課程
END:VEVENT
BEGIN:VEVENT
DTSTART;TZID=Asia/Shanghai:20220505T180000
DTEND;TZID=Asia/Shanghai:20220505T190000
DTSTAMP:20260423T070931
CREATED:20220428T092203Z
LAST-MODIFIED:20220428T092203Z
UID:10015845-1651773600-1651777200@www.dancesoul.com.tw
SUMMARY:Free Style-藍弟
DESCRIPTION:
URL:https://www.dancesoul.com.tw/schedule/free-style-%e8%97%8d%e5%bc%9f-15/2022-05-05/
LOCATION:仁愛路四段425-1號\, Taipei City\, 104\, 台灣
CATEGORIES:Freestyle,常態課_一般,課程
END:VEVENT
BEGIN:VEVENT
DTSTART;TZID=Asia/Shanghai:20220428T180000
DTEND;TZID=Asia/Shanghai:20220428T190000
DTSTAMP:20260423T070931
CREATED:20220329T085651Z
LAST-MODIFIED:20220329T085822Z
UID:10013433-1651168800-1651172400@www.dancesoul.com.tw
SUMMARY:Free Style-藍弟
DESCRIPTION:
URL:https://www.dancesoul.com.tw/schedule/free-style-%e8%97%8d%e5%bc%9f-14/2022-04-28/
LOCATION:仁愛路四段425-1號\, Taipei City\, 104\, 台灣
CATEGORIES:Freestyle,常態課_一般,課程
END:VEVENT
BEGIN:VEVENT
DTSTART;TZID=Asia/Shanghai:20220421T180000
DTEND;TZID=Asia/Shanghai:20220421T190000
DTSTAMP:20260423T070931
CREATED:20220329T085651Z
LAST-MODIFIED:20220329T085822Z
UID:10013432-1650564000-1650567600@www.dancesoul.com.tw
SUMMARY:Free Style-藍弟
DESCRIPTION:
URL:https://www.dancesoul.com.tw/schedule/free-style-%e8%97%8d%e5%bc%9f-14/2022-04-21/
LOCATION:仁愛路四段425-1號\, Taipei City\, 104\, 台灣
CATEGORIES:Freestyle,常態課_一般,課程
END:VEVENT
BEGIN:VEVENT
DTSTART;TZID=Asia/Shanghai:20220414T180000
DTEND;TZID=Asia/Shanghai:20220414T190000
DTSTAMP:20260423T070931
CREATED:20220329T085651Z
LAST-MODIFIED:20220329T085822Z
UID:10013431-1649959200-1649962800@www.dancesoul.com.tw
SUMMARY:Free Style-藍弟
DESCRIPTION:
URL:https://www.dancesoul.com.tw/schedule/free-style-%e8%97%8d%e5%bc%9f-14/2022-04-14/
LOCATION:仁愛路四段425-1號\, Taipei City\, 104\, 台灣
CATEGORIES:Freestyle,常態課_一般,課程
END:VEVENT
BEGIN:VEVENT
DTSTART;TZID=Asia/Shanghai:20220407T180000
DTEND;TZID=Asia/Shanghai:20220407T190000
DTSTAMP:20260423T070931
CREATED:20220329T085651Z
LAST-MODIFIED:20220329T085822Z
UID:10013430-1649354400-1649358000@www.dancesoul.com.tw
SUMMARY:Free Style-藍弟
DESCRIPTION:
URL:https://www.dancesoul.com.tw/schedule/free-style-%e8%97%8d%e5%bc%9f-14/2022-04-07/
LOCATION:仁愛路四段425-1號\, Taipei City\, 104\, 台灣
CATEGORIES:Freestyle,常態課_一般,課程
END:VEVENT
BEGIN:VEVENT
DTSTART;TZID=Asia/Shanghai:20220331T180000
DTEND;TZID=Asia/Shanghai:20220331T190000
DTSTAMP:20260423T070931
CREATED:20220225T093315Z
LAST-MODIFIED:20220225T093315Z
UID:10013301-1648749600-1648753200@www.dancesoul.com.tw
SUMMARY:Free Style-藍弟
DESCRIPTION:
URL:https://www.dancesoul.com.tw/schedule/free-style-%e8%97%8d%e5%bc%9f-13/2022-03-31/
LOCATION:仁愛路四段425-1號\, Taipei City\, 104\, 台灣
CATEGORIES:Freestyle,常態課_一般,課程
END:VEVENT
BEGIN:VEVENT
DTSTART;TZID=Asia/Shanghai:20220324T180000
DTEND;TZID=Asia/Shanghai:20220324T190000
DTSTAMP:20260423T070931
CREATED:20220225T093315Z
LAST-MODIFIED:20220225T093315Z
UID:10013300-1648144800-1648148400@www.dancesoul.com.tw
SUMMARY:Free Style-藍弟
DESCRIPTION:
URL:https://www.dancesoul.com.tw/schedule/free-style-%e8%97%8d%e5%bc%9f-13/2022-03-24/
LOCATION:仁愛路四段425-1號\, Taipei City\, 104\, 台灣
CATEGORIES:Freestyle,常態課_一般,課程
END:VEVENT
BEGIN:VEVENT
DTSTART;TZID=Asia/Shanghai:20220317T180000
DTEND;TZID=Asia/Shanghai:20220317T190000
DTSTAMP:20260423T070931
CREATED:20220225T093315Z
LAST-MODIFIED:20220225T093315Z
UID:10013299-1647540000-1647543600@www.dancesoul.com.tw
SUMMARY:Free Style-藍弟
DESCRIPTION:
URL:https://www.dancesoul.com.tw/schedule/free-style-%e8%97%8d%e5%bc%9f-13/2022-03-17/
LOCATION:仁愛路四段425-1號\, Taipei City\, 104\, 台灣
CATEGORIES:Freestyle,常態課_一般,課程
END:VEVENT
BEGIN:VEVENT
DTSTART;TZID=Asia/Shanghai:20220310T180000
DTEND;TZID=Asia/Shanghai:20220310T190000
DTSTAMP:20260423T070931
CREATED:20220225T093315Z
LAST-MODIFIED:20220225T093315Z
UID:10013298-1646935200-1646938800@www.dancesoul.com.tw
SUMMARY:Free Style-藍弟
DESCRIPTION:
URL:https://www.dancesoul.com.tw/schedule/free-style-%e8%97%8d%e5%bc%9f-13/2022-03-10/
LOCATION:仁愛路四段425-1號\, Taipei City\, 104\, 台灣
CATEGORIES:Freestyle,常態課_一般,課程
END:VEVENT
BEGIN:VEVENT
DTSTART;TZID=Asia/Shanghai:20220303T180000
DTEND;TZID=Asia/Shanghai:20220303T190000
DTSTAMP:20260423T070931
CREATED:20220225T093315Z
LAST-MODIFIED:20220225T093315Z
UID:10013297-1646330400-1646334000@www.dancesoul.com.tw
SUMMARY:Free Style-藍弟
DESCRIPTION:
URL:https://www.dancesoul.com.tw/schedule/free-style-%e8%97%8d%e5%bc%9f-13/2022-03-03/
LOCATION:仁愛路四段425-1號\, Taipei City\, 104\, 台灣
CATEGORIES:Freestyle,常態課_一般,課程
END:VEVENT
END:VCALENDAR