BEGIN:VCALENDAR
VERSION:2.0
PRODID:-//DANCE SOUL 舞魂街舞學校 - ECPv6.15.18//NONSGML v1.0//EN
CALSCALE:GREGORIAN
METHOD:PUBLISH
X-WR-CALNAME:DANCE SOUL 舞魂街舞學校
X-ORIGINAL-URL:https://www.dancesoul.com.tw
X-WR-CALDESC:Events for DANCE SOUL 舞魂街舞學校
REFRESH-INTERVAL;VALUE=DURATION:PT1H
X-Robots-Tag:noindex
X-PUBLISHED-TTL:PT1H
BEGIN:VTIMEZONE
TZID:Asia/Shanghai
BEGIN:STANDARD
TZOFFSETFROM:+0800
TZOFFSETTO:+0800
TZNAME:CST
DTSTART:20220101T000000
END:STANDARD
END:VTIMEZONE
BEGIN:VEVENT
DTSTART;TZID=Asia/Shanghai:20231126T191000
DTEND;TZID=Asia/Shanghai:20231126T201000
DTSTAMP:20260423T072946
CREATED:20231024T100744Z
LAST-MODIFIED:20231024T100744Z
UID:10018585-1701025800-1701029400@www.dancesoul.com.tw
SUMMARY:Free Style(初)-弈夫
DESCRIPTION:
URL:https://www.dancesoul.com.tw/schedule/free-style%e5%88%9d-%e5%bc%88%e5%a4%ab-7/2023-11-26/
CATEGORIES:Freestyle 初級,常態課_初級,課程
END:VEVENT
BEGIN:VEVENT
DTSTART;TZID=Asia/Shanghai:20231119T191000
DTEND;TZID=Asia/Shanghai:20231119T201000
DTSTAMP:20260423T072946
CREATED:20231024T100744Z
LAST-MODIFIED:20231024T100744Z
UID:10018584-1700421000-1700424600@www.dancesoul.com.tw
SUMMARY:Free Style(初)-弈夫
DESCRIPTION:
URL:https://www.dancesoul.com.tw/schedule/free-style%e5%88%9d-%e5%bc%88%e5%a4%ab-7/2023-11-19/
CATEGORIES:Freestyle 初級,常態課_初級,課程
END:VEVENT
BEGIN:VEVENT
DTSTART;TZID=Asia/Shanghai:20231112T191000
DTEND;TZID=Asia/Shanghai:20231112T201000
DTSTAMP:20260423T072946
CREATED:20231024T100744Z
LAST-MODIFIED:20231024T100744Z
UID:10018583-1699816200-1699819800@www.dancesoul.com.tw
SUMMARY:Free Style(初)-弈夫
DESCRIPTION:
URL:https://www.dancesoul.com.tw/schedule/free-style%e5%88%9d-%e5%bc%88%e5%a4%ab-7/2023-11-12/
CATEGORIES:Freestyle 初級,常態課_初級,課程
END:VEVENT
BEGIN:VEVENT
DTSTART;TZID=Asia/Shanghai:20231105T191000
DTEND;TZID=Asia/Shanghai:20231105T201000
DTSTAMP:20260423T072946
CREATED:20231024T100744Z
LAST-MODIFIED:20231024T100744Z
UID:10018582-1699211400-1699215000@www.dancesoul.com.tw
SUMMARY:Free Style(初)-弈夫
DESCRIPTION:
URL:https://www.dancesoul.com.tw/schedule/free-style%e5%88%9d-%e5%bc%88%e5%a4%ab-7/2023-11-05/
CATEGORIES:Freestyle 初級,常態課_初級,課程
END:VEVENT
BEGIN:VEVENT
DTSTART;TZID=Asia/Shanghai:20231029T191000
DTEND;TZID=Asia/Shanghai:20231029T201000
DTSTAMP:20260423T072946
CREATED:20230924T105414Z
LAST-MODIFIED:20230924T105414Z
UID:10018424-1698606600-1698610200@www.dancesoul.com.tw
SUMMARY:Free Style(初)-弈夫
DESCRIPTION:
URL:https://www.dancesoul.com.tw/schedule/free-style%e5%88%9d-%e5%bc%88%e5%a4%ab-6/2023-10-29/
CATEGORIES:Freestyle 初級,常態課_初級,課程
END:VEVENT
BEGIN:VEVENT
DTSTART;TZID=Asia/Shanghai:20231022T191000
DTEND;TZID=Asia/Shanghai:20231022T201000
DTSTAMP:20260423T072946
CREATED:20230924T105414Z
LAST-MODIFIED:20230924T105414Z
UID:10018423-1698001800-1698005400@www.dancesoul.com.tw
SUMMARY:Free Style(初)-弈夫
DESCRIPTION:
URL:https://www.dancesoul.com.tw/schedule/free-style%e5%88%9d-%e5%bc%88%e5%a4%ab-6/2023-10-22/
CATEGORIES:Freestyle 初級,常態課_初級,課程
END:VEVENT
BEGIN:VEVENT
DTSTART;TZID=Asia/Shanghai:20231015T191000
DTEND;TZID=Asia/Shanghai:20231015T201000
DTSTAMP:20260423T072946
CREATED:20230924T105414Z
LAST-MODIFIED:20230924T105414Z
UID:10018422-1697397000-1697400600@www.dancesoul.com.tw
SUMMARY:Free Style(初)-弈夫
DESCRIPTION:
URL:https://www.dancesoul.com.tw/schedule/free-style%e5%88%9d-%e5%bc%88%e5%a4%ab-6/2023-10-15/
CATEGORIES:Freestyle 初級,常態課_初級,課程
END:VEVENT
BEGIN:VEVENT
DTSTART;TZID=Asia/Shanghai:20231008T191000
DTEND;TZID=Asia/Shanghai:20231008T201000
DTSTAMP:20260423T072946
CREATED:20230924T105414Z
LAST-MODIFIED:20230924T105414Z
UID:10018421-1696792200-1696795800@www.dancesoul.com.tw
SUMMARY:Free Style(初)-弈夫
DESCRIPTION:
URL:https://www.dancesoul.com.tw/schedule/free-style%e5%88%9d-%e5%bc%88%e5%a4%ab-6/2023-10-08/
CATEGORIES:Freestyle 初級,常態課_初級,課程
END:VEVENT
BEGIN:VEVENT
DTSTART;TZID=Asia/Shanghai:20231001T191000
DTEND;TZID=Asia/Shanghai:20231001T201000
DTSTAMP:20260423T072946
CREATED:20230924T105414Z
LAST-MODIFIED:20230924T105414Z
UID:10018420-1696187400-1696191000@www.dancesoul.com.tw
SUMMARY:Free Style(初)-弈夫
DESCRIPTION:
URL:https://www.dancesoul.com.tw/schedule/free-style%e5%88%9d-%e5%bc%88%e5%a4%ab-6/2023-10-01/
CATEGORIES:Freestyle 初級,常態課_初級,課程
END:VEVENT
BEGIN:VEVENT
DTSTART;TZID=Asia/Shanghai:20230924T191000
DTEND;TZID=Asia/Shanghai:20230924T201000
DTSTAMP:20260423T072946
CREATED:20230828T082147Z
LAST-MODIFIED:20230828T082147Z
UID:10017944-1695582600-1695586200@www.dancesoul.com.tw
SUMMARY:Free Style(初)-弈夫
DESCRIPTION:
URL:https://www.dancesoul.com.tw/schedule/free-style%e5%88%9d-%e5%bc%88%e5%a4%ab-5/
CATEGORIES:Freestyle 初級,常態課_初級,課程
END:VEVENT
BEGIN:VEVENT
DTSTART;TZID=Asia/Shanghai:20230917T191000
DTEND;TZID=Asia/Shanghai:20230917T201000
DTSTAMP:20260423T072946
CREATED:20230828T081801Z
LAST-MODIFIED:20230828T081801Z
UID:10017943-1694977800-1694981400@www.dancesoul.com.tw
SUMMARY:Free Style(初)-弈夫 (舞展總驗停課)
DESCRIPTION:
URL:https://www.dancesoul.com.tw/schedule/free-style%e5%88%9d-%e5%bc%88%e5%a4%ab-%e8%88%9e%e5%b1%95%e7%b8%bd%e9%a9%97%e5%81%9c%e8%aa%b2/
CATEGORIES:Freestyle 初級,常態課_初級,課程
END:VEVENT
BEGIN:VEVENT
DTSTART;TZID=Asia/Shanghai:20230910T191000
DTEND;TZID=Asia/Shanghai:20230910T201000
DTSTAMP:20260423T072946
CREATED:20230828T081631Z
LAST-MODIFIED:20230828T081631Z
UID:10017942-1694373000-1694376600@www.dancesoul.com.tw
SUMMARY:Free Style(初)-弈夫
DESCRIPTION:
URL:https://www.dancesoul.com.tw/schedule/free-style%e5%88%9d-%e5%bc%88%e5%a4%ab-4/2023-09-10/
CATEGORIES:Freestyle 初級,常態課_初級,課程
END:VEVENT
BEGIN:VEVENT
DTSTART;TZID=Asia/Shanghai:20230903T191000
DTEND;TZID=Asia/Shanghai:20230903T201000
DTSTAMP:20260423T072946
CREATED:20230828T081631Z
LAST-MODIFIED:20230828T081631Z
UID:10017941-1693768200-1693771800@www.dancesoul.com.tw
SUMMARY:Free Style(初)-弈夫
DESCRIPTION:
URL:https://www.dancesoul.com.tw/schedule/free-style%e5%88%9d-%e5%bc%88%e5%a4%ab-4/2023-09-03/
CATEGORIES:Freestyle 初級,常態課_初級,課程
END:VEVENT
BEGIN:VEVENT
DTSTART;TZID=Asia/Shanghai:20230827T191000
DTEND;TZID=Asia/Shanghai:20230827T201000
DTSTAMP:20260423T072946
CREATED:20230730T113323Z
LAST-MODIFIED:20230730T113323Z
UID:10017826-1693163400-1693167000@www.dancesoul.com.tw
SUMMARY:Free Style(初)-弈夫
DESCRIPTION:
URL:https://www.dancesoul.com.tw/schedule/free-style%e5%88%9d-%e5%bc%88%e5%a4%ab-2/2023-08-27/
LOCATION:仁愛路四段425-1號\, Taipei City\, 104\, 台灣
CATEGORIES:Freestyle 初級,常態課_初級,課程
END:VEVENT
BEGIN:VEVENT
DTSTART;TZID=Asia/Shanghai:20230825T143000
DTEND;TZID=Asia/Shanghai:20230825T153000
DTSTAMP:20260423T072946
CREATED:20230731T070423Z
LAST-MODIFIED:20230731T070423Z
UID:10017843-1692973800-1692977400@www.dancesoul.com.tw
SUMMARY:Free Style(初)-弈夫
DESCRIPTION:
URL:https://www.dancesoul.com.tw/schedule/free-style%e5%88%9d-%e5%bc%88%e5%a4%ab-3/2023-08-25/
LOCATION:仁愛路四段425-1號\, Taipei City\, 104\, 台灣
CATEGORIES:Freestyle 初級,常態課_初級,課程
END:VEVENT
BEGIN:VEVENT
DTSTART;TZID=Asia/Shanghai:20230820T191000
DTEND;TZID=Asia/Shanghai:20230820T201000
DTSTAMP:20260423T072946
CREATED:20230730T113323Z
LAST-MODIFIED:20230730T113323Z
UID:10017825-1692558600-1692562200@www.dancesoul.com.tw
SUMMARY:Free Style(初)-弈夫
DESCRIPTION:
URL:https://www.dancesoul.com.tw/schedule/free-style%e5%88%9d-%e5%bc%88%e5%a4%ab-2/2023-08-20/
LOCATION:仁愛路四段425-1號\, Taipei City\, 104\, 台灣
CATEGORIES:Freestyle 初級,常態課_初級,課程
END:VEVENT
BEGIN:VEVENT
DTSTART;TZID=Asia/Shanghai:20230818T143000
DTEND;TZID=Asia/Shanghai:20230818T153000
DTSTAMP:20260423T072946
CREATED:20230731T070423Z
LAST-MODIFIED:20230731T070423Z
UID:10017842-1692369000-1692372600@www.dancesoul.com.tw
SUMMARY:Free Style(初)-弈夫
DESCRIPTION:
URL:https://www.dancesoul.com.tw/schedule/free-style%e5%88%9d-%e5%bc%88%e5%a4%ab-3/2023-08-18/
LOCATION:仁愛路四段425-1號\, Taipei City\, 104\, 台灣
CATEGORIES:Freestyle 初級,常態課_初級,課程
END:VEVENT
BEGIN:VEVENT
DTSTART;TZID=Asia/Shanghai:20230813T191000
DTEND;TZID=Asia/Shanghai:20230813T201000
DTSTAMP:20260423T072946
CREATED:20230730T113323Z
LAST-MODIFIED:20230730T113323Z
UID:10017824-1691953800-1691957400@www.dancesoul.com.tw
SUMMARY:Free Style(初)-弈夫
DESCRIPTION:
URL:https://www.dancesoul.com.tw/schedule/free-style%e5%88%9d-%e5%bc%88%e5%a4%ab-2/2023-08-13/
LOCATION:仁愛路四段425-1號\, Taipei City\, 104\, 台灣
CATEGORIES:Freestyle 初級,常態課_初級,課程
END:VEVENT
BEGIN:VEVENT
DTSTART;TZID=Asia/Shanghai:20230811T143000
DTEND;TZID=Asia/Shanghai:20230811T153000
DTSTAMP:20260423T072946
CREATED:20230731T070423Z
LAST-MODIFIED:20230731T070423Z
UID:10017841-1691764200-1691767800@www.dancesoul.com.tw
SUMMARY:Free Style(初)-弈夫
DESCRIPTION:
URL:https://www.dancesoul.com.tw/schedule/free-style%e5%88%9d-%e5%bc%88%e5%a4%ab-3/2023-08-11/
LOCATION:仁愛路四段425-1號\, Taipei City\, 104\, 台灣
CATEGORIES:Freestyle 初級,常態課_初級,課程
END:VEVENT
BEGIN:VEVENT
DTSTART;TZID=Asia/Shanghai:20230806T191000
DTEND;TZID=Asia/Shanghai:20230806T201000
DTSTAMP:20260423T072946
CREATED:20230730T113323Z
LAST-MODIFIED:20230730T113323Z
UID:10017823-1691349000-1691352600@www.dancesoul.com.tw
SUMMARY:Free Style(初)-弈夫
DESCRIPTION:
URL:https://www.dancesoul.com.tw/schedule/free-style%e5%88%9d-%e5%bc%88%e5%a4%ab-2/2023-08-06/
LOCATION:仁愛路四段425-1號\, Taipei City\, 104\, 台灣
CATEGORIES:Freestyle 初級,常態課_初級,課程
END:VEVENT
BEGIN:VEVENT
DTSTART;TZID=Asia/Shanghai:20230804T143000
DTEND;TZID=Asia/Shanghai:20230804T153000
DTSTAMP:20260423T072946
CREATED:20230731T070423Z
LAST-MODIFIED:20230731T070423Z
UID:10017840-1691159400-1691163000@www.dancesoul.com.tw
SUMMARY:Free Style(初)-弈夫
DESCRIPTION:
URL:https://www.dancesoul.com.tw/schedule/free-style%e5%88%9d-%e5%bc%88%e5%a4%ab-3/2023-08-04/
LOCATION:仁愛路四段425-1號\, Taipei City\, 104\, 台灣
CATEGORIES:Freestyle 初級,常態課_初級,課程
END:VEVENT
BEGIN:VEVENT
DTSTART;TZID=Asia/Shanghai:20230730T191000
DTEND;TZID=Asia/Shanghai:20230730T201000
DTSTAMP:20260423T072946
CREATED:20230628T062432Z
LAST-MODIFIED:20230628T062432Z
UID:10017717-1690744200-1690747800@www.dancesoul.com.tw
SUMMARY:Free Style(初)-弈夫
DESCRIPTION:
URL:https://www.dancesoul.com.tw/schedule/free-style%e5%88%9d-%e5%bc%88%e5%a4%ab/2023-07-30/
LOCATION:仁愛路四段425-1號\, Taipei City\, 104\, 台灣
CATEGORIES:Freestyle 初級,常態課_初級,課程
END:VEVENT
BEGIN:VEVENT
DTSTART;TZID=Asia/Shanghai:20230723T191000
DTEND;TZID=Asia/Shanghai:20230723T201000
DTSTAMP:20260423T072946
CREATED:20230628T062432Z
LAST-MODIFIED:20230628T062432Z
UID:10017716-1690139400-1690143000@www.dancesoul.com.tw
SUMMARY:Free Style(初)-弈夫
DESCRIPTION:
URL:https://www.dancesoul.com.tw/schedule/free-style%e5%88%9d-%e5%bc%88%e5%a4%ab/2023-07-23/
LOCATION:仁愛路四段425-1號\, Taipei City\, 104\, 台灣
CATEGORIES:Freestyle 初級,常態課_初級,課程
END:VEVENT
BEGIN:VEVENT
DTSTART;TZID=Asia/Shanghai:20230716T191000
DTEND;TZID=Asia/Shanghai:20230716T201000
DTSTAMP:20260423T072946
CREATED:20230628T062432Z
LAST-MODIFIED:20230628T062432Z
UID:10017715-1689534600-1689538200@www.dancesoul.com.tw
SUMMARY:Free Style(初)-弈夫
DESCRIPTION:
URL:https://www.dancesoul.com.tw/schedule/free-style%e5%88%9d-%e5%bc%88%e5%a4%ab/2023-07-16/
LOCATION:仁愛路四段425-1號\, Taipei City\, 104\, 台灣
CATEGORIES:Freestyle 初級,常態課_初級,課程
END:VEVENT
BEGIN:VEVENT
DTSTART;TZID=Asia/Shanghai:20230709T191000
DTEND;TZID=Asia/Shanghai:20230709T201000
DTSTAMP:20260423T072946
CREATED:20230628T062432Z
LAST-MODIFIED:20230628T062432Z
UID:10017714-1688929800-1688933400@www.dancesoul.com.tw
SUMMARY:Free Style(初)-弈夫
DESCRIPTION:
URL:https://www.dancesoul.com.tw/schedule/free-style%e5%88%9d-%e5%bc%88%e5%a4%ab/2023-07-09/
LOCATION:仁愛路四段425-1號\, Taipei City\, 104\, 台灣
CATEGORIES:Freestyle 初級,常態課_初級,課程
END:VEVENT
BEGIN:VEVENT
DTSTART;TZID=Asia/Shanghai:20230702T191000
DTEND;TZID=Asia/Shanghai:20230702T201000
DTSTAMP:20260423T072946
CREATED:20230628T062432Z
LAST-MODIFIED:20230628T062432Z
UID:10017713-1688325000-1688328600@www.dancesoul.com.tw
SUMMARY:Free Style(初)-弈夫
DESCRIPTION:
URL:https://www.dancesoul.com.tw/schedule/free-style%e5%88%9d-%e5%bc%88%e5%a4%ab/2023-07-02/
LOCATION:仁愛路四段425-1號\, Taipei City\, 104\, 台灣
CATEGORIES:Freestyle 初級,常態課_初級,課程
END:VEVENT
END:VCALENDAR