BEGIN:VCALENDAR
VERSION:2.0
PRODID:-//DANCE SOUL 舞魂街舞學校 - ECPv6.15.18//NONSGML v1.0//EN
CALSCALE:GREGORIAN
METHOD:PUBLISH
X-ORIGINAL-URL:https://www.dancesoul.com.tw
X-WR-CALDESC:Events for DANCE SOUL 舞魂街舞學校
REFRESH-INTERVAL;VALUE=DURATION:PT1H
X-Robots-Tag:noindex
X-PUBLISHED-TTL:PT1H
BEGIN:VTIMEZONE
TZID:Asia/Shanghai
BEGIN:STANDARD
TZOFFSETFROM:+0800
TZOFFSETTO:+0800
TZNAME:CST
DTSTART:20220101T000000
END:STANDARD
END:VTIMEZONE
BEGIN:VEVENT
DTSTART;TZID=Asia/Shanghai:20230828T143000
DTEND;TZID=Asia/Shanghai:20230828T153000
DTSTAMP:20260423T091704
CREATED:20230729T080527Z
LAST-MODIFIED:20230729T080559Z
UID:10016320-1693233000-1693236600@www.dancesoul.com.tw
SUMMARY:Free Style(初)-無盡
DESCRIPTION:
URL:https://www.dancesoul.com.tw/schedule/free-style%e5%88%9d-%e7%84%a1%e7%9b%a1/2023-08-28/
LOCATION:仁愛路四段425-1號\, Taipei City\, 104\, 台灣
CATEGORIES:Freestyle 初級,常態課_初級,課程
END:VEVENT
BEGIN:VEVENT
DTSTART;TZID=Asia/Shanghai:20230821T143000
DTEND;TZID=Asia/Shanghai:20230821T153000
DTSTAMP:20260423T091704
CREATED:20230729T080527Z
LAST-MODIFIED:20230729T080559Z
UID:10016319-1692628200-1692631800@www.dancesoul.com.tw
SUMMARY:Free Style(初)-無盡
DESCRIPTION:
URL:https://www.dancesoul.com.tw/schedule/free-style%e5%88%9d-%e7%84%a1%e7%9b%a1/2023-08-21/
LOCATION:仁愛路四段425-1號\, Taipei City\, 104\, 台灣
CATEGORIES:Freestyle 初級,常態課_初級,課程
END:VEVENT
BEGIN:VEVENT
DTSTART;TZID=Asia/Shanghai:20230814T143000
DTEND;TZID=Asia/Shanghai:20230814T153000
DTSTAMP:20260423T091704
CREATED:20230729T080527Z
LAST-MODIFIED:20230729T080559Z
UID:10016318-1692023400-1692027000@www.dancesoul.com.tw
SUMMARY:Free Style(初)-無盡
DESCRIPTION:
URL:https://www.dancesoul.com.tw/schedule/free-style%e5%88%9d-%e7%84%a1%e7%9b%a1/2023-08-14/
LOCATION:仁愛路四段425-1號\, Taipei City\, 104\, 台灣
CATEGORIES:Freestyle 初級,常態課_初級,課程
END:VEVENT
BEGIN:VEVENT
DTSTART;TZID=Asia/Shanghai:20230807T143000
DTEND;TZID=Asia/Shanghai:20230807T153000
DTSTAMP:20260423T091704
CREATED:20230729T080527Z
LAST-MODIFIED:20230729T080559Z
UID:10016317-1691418600-1691422200@www.dancesoul.com.tw
SUMMARY:Free Style(初)-無盡
DESCRIPTION:
URL:https://www.dancesoul.com.tw/schedule/free-style%e5%88%9d-%e7%84%a1%e7%9b%a1/2023-08-07/
LOCATION:仁愛路四段425-1號\, Taipei City\, 104\, 台灣
CATEGORIES:Freestyle 初級,常態課_初級,課程
END:VEVENT
END:VCALENDAR