BEGIN:VCALENDAR
VERSION:2.0
PRODID:-//DANCE SOUL 舞魂街舞學校 - ECPv6.15.18//NONSGML v1.0//EN
CALSCALE:GREGORIAN
METHOD:PUBLISH
X-ORIGINAL-URL:https://www.dancesoul.com.tw
X-WR-CALDESC:Events for DANCE SOUL 舞魂街舞學校
REFRESH-INTERVAL;VALUE=DURATION:PT1H
X-Robots-Tag:noindex
X-PUBLISHED-TTL:PT1H
BEGIN:VTIMEZONE
TZID:Asia/Shanghai
BEGIN:STANDARD
TZOFFSETFROM:+0800
TZOFFSETTO:+0800
TZNAME:CST
DTSTART:20230101T000000
END:STANDARD
END:VTIMEZONE
BEGIN:VEVENT
DTSTART;TZID=Asia/Shanghai:20250626T203000
DTEND;TZID=Asia/Shanghai:20250626T213000
DTSTAMP:20260421T081801
CREATED:20250417T095336Z
LAST-MODIFIED:20250515T044810Z
UID:10021716-1750969800-1750973400@www.dancesoul.com.tw
SUMMARY:Hip Hop-林彤
DESCRIPTION:
URL:https://www.dancesoul.com.tw/schedule/hip-hop-%e6%9e%97%e5%bd%a4-29/2025-06-26/
CATEGORIES:Hip Hop,常態課_一般,課程
END:VEVENT
BEGIN:VEVENT
DTSTART;TZID=Asia/Shanghai:20250619T203000
DTEND;TZID=Asia/Shanghai:20250619T213000
DTSTAMP:20260421T081801
CREATED:20250417T095336Z
LAST-MODIFIED:20250515T044810Z
UID:10021715-1750365000-1750368600@www.dancesoul.com.tw
SUMMARY:Hip Hop-林彤
DESCRIPTION:
URL:https://www.dancesoul.com.tw/schedule/hip-hop-%e6%9e%97%e5%bd%a4-29/2025-06-19/
CATEGORIES:Hip Hop,常態課_一般,課程
END:VEVENT
BEGIN:VEVENT
DTSTART;TZID=Asia/Shanghai:20250612T203000
DTEND;TZID=Asia/Shanghai:20250612T213000
DTSTAMP:20260421T081802
CREATED:20250417T095336Z
LAST-MODIFIED:20250515T044810Z
UID:10021714-1749760200-1749763800@www.dancesoul.com.tw
SUMMARY:Hip Hop-林彤
DESCRIPTION:
URL:https://www.dancesoul.com.tw/schedule/hip-hop-%e6%9e%97%e5%bd%a4-29/2025-06-12/
CATEGORIES:Hip Hop,常態課_一般,課程
END:VEVENT
BEGIN:VEVENT
DTSTART;TZID=Asia/Shanghai:20250605T203000
DTEND;TZID=Asia/Shanghai:20250605T213000
DTSTAMP:20260421T081802
CREATED:20250417T095336Z
LAST-MODIFIED:20250515T044810Z
UID:10021713-1749155400-1749159000@www.dancesoul.com.tw
SUMMARY:Hip Hop-林彤
DESCRIPTION:
URL:https://www.dancesoul.com.tw/schedule/hip-hop-%e6%9e%97%e5%bd%a4-29/2025-06-05/
CATEGORIES:Hip Hop,常態課_一般,課程
END:VEVENT
BEGIN:VEVENT
DTSTART;TZID=Asia/Shanghai:20250529T203000
DTEND;TZID=Asia/Shanghai:20250529T213000
DTSTAMP:20260421T081802
CREATED:20250417T095336Z
LAST-MODIFIED:20250515T044810Z
UID:10021498-1748550600-1748554200@www.dancesoul.com.tw
SUMMARY:Hip Hop-林彤
DESCRIPTION:
URL:https://www.dancesoul.com.tw/schedule/hip-hop-%e6%9e%97%e5%bd%a4-29/2025-05-29/
CATEGORIES:Hip Hop,常態課_一般,課程
END:VEVENT
BEGIN:VEVENT
DTSTART;TZID=Asia/Shanghai:20250522T203000
DTEND;TZID=Asia/Shanghai:20250522T213000
DTSTAMP:20260421T081802
CREATED:20250417T095336Z
LAST-MODIFIED:20250515T044810Z
UID:10021497-1747945800-1747949400@www.dancesoul.com.tw
SUMMARY:Hip Hop-林彤
DESCRIPTION:
URL:https://www.dancesoul.com.tw/schedule/hip-hop-%e6%9e%97%e5%bd%a4-29/2025-05-22/
CATEGORIES:Hip Hop,常態課_一般,課程
END:VEVENT
BEGIN:VEVENT
DTSTART;TZID=Asia/Shanghai:20250508T203000
DTEND;TZID=Asia/Shanghai:20250508T213000
DTSTAMP:20260421T081802
CREATED:20250417T095336Z
LAST-MODIFIED:20250515T044810Z
UID:10021495-1746736200-1746739800@www.dancesoul.com.tw
SUMMARY:Hip Hop-林彤
DESCRIPTION:
URL:https://www.dancesoul.com.tw/schedule/hip-hop-%e6%9e%97%e5%bd%a4-29/2025-05-08/
CATEGORIES:Hip Hop,常態課_一般,課程
END:VEVENT
BEGIN:VEVENT
DTSTART;TZID=Asia/Shanghai:20250501T203000
DTEND;TZID=Asia/Shanghai:20250501T213000
DTSTAMP:20260421T081802
CREATED:20250417T095336Z
LAST-MODIFIED:20250515T044810Z
UID:10021494-1746131400-1746135000@www.dancesoul.com.tw
SUMMARY:Hip Hop-林彤
DESCRIPTION:
URL:https://www.dancesoul.com.tw/schedule/hip-hop-%e6%9e%97%e5%bd%a4-29/2025-05-01/
CATEGORIES:Hip Hop,常態課_一般,課程
END:VEVENT
BEGIN:VEVENT
DTSTART;TZID=Asia/Shanghai:20250424T203000
DTEND;TZID=Asia/Shanghai:20250424T213000
DTSTAMP:20260421T081802
CREATED:20250328T080624Z
LAST-MODIFIED:20250328T080624Z
UID:10021368-1745526600-1745530200@www.dancesoul.com.tw
SUMMARY:Hip Hop-林彤
DESCRIPTION:
URL:https://www.dancesoul.com.tw/schedule/hip-hop-%e6%9e%97%e5%bd%a4-28/2025-04-24/
END:VEVENT
BEGIN:VEVENT
DTSTART;TZID=Asia/Shanghai:20250417T203000
DTEND;TZID=Asia/Shanghai:20250417T213000
DTSTAMP:20260421T081802
CREATED:20250328T080624Z
LAST-MODIFIED:20250328T080624Z
UID:10021367-1744921800-1744925400@www.dancesoul.com.tw
SUMMARY:Hip Hop-林彤
DESCRIPTION:
URL:https://www.dancesoul.com.tw/schedule/hip-hop-%e6%9e%97%e5%bd%a4-28/2025-04-17/
END:VEVENT
BEGIN:VEVENT
DTSTART;TZID=Asia/Shanghai:20250410T203000
DTEND;TZID=Asia/Shanghai:20250410T213000
DTSTAMP:20260421T081802
CREATED:20250328T080624Z
LAST-MODIFIED:20250328T080624Z
UID:10021366-1744317000-1744320600@www.dancesoul.com.tw
SUMMARY:Hip Hop-林彤
DESCRIPTION:
URL:https://www.dancesoul.com.tw/schedule/hip-hop-%e6%9e%97%e5%bd%a4-28/2025-04-10/
END:VEVENT
BEGIN:VEVENT
DTSTART;TZID=Asia/Shanghai:20250403T203000
DTEND;TZID=Asia/Shanghai:20250403T213000
DTSTAMP:20260421T081802
CREATED:20250328T080624Z
LAST-MODIFIED:20250328T080624Z
UID:10021365-1743712200-1743715800@www.dancesoul.com.tw
SUMMARY:Hip Hop-林彤
DESCRIPTION:
URL:https://www.dancesoul.com.tw/schedule/hip-hop-%e6%9e%97%e5%bd%a4-28/2025-04-03/
END:VEVENT
BEGIN:VEVENT
DTSTART;TZID=Asia/Shanghai:20250327T203000
DTEND;TZID=Asia/Shanghai:20250327T213000
DTSTAMP:20260421T081802
CREATED:20250223T112906Z
LAST-MODIFIED:20250223T112906Z
UID:10021269-1743107400-1743111000@www.dancesoul.com.tw
SUMMARY:Hip Hop-林彤
DESCRIPTION:
URL:https://www.dancesoul.com.tw/schedule/hip-hop-%e6%9e%97%e5%bd%a4-27/2025-03-27/
CATEGORIES:Hip Hop,常態課_一般,課程
END:VEVENT
BEGIN:VEVENT
DTSTART;TZID=Asia/Shanghai:20250320T203000
DTEND;TZID=Asia/Shanghai:20250320T213000
DTSTAMP:20260421T081802
CREATED:20250223T112906Z
LAST-MODIFIED:20250223T112906Z
UID:10021268-1742502600-1742506200@www.dancesoul.com.tw
SUMMARY:Hip Hop-林彤
DESCRIPTION:
URL:https://www.dancesoul.com.tw/schedule/hip-hop-%e6%9e%97%e5%bd%a4-27/2025-03-20/
CATEGORIES:Hip Hop,常態課_一般,課程
END:VEVENT
BEGIN:VEVENT
DTSTART;TZID=Asia/Shanghai:20250313T203000
DTEND;TZID=Asia/Shanghai:20250313T213000
DTSTAMP:20260421T081802
CREATED:20250223T112906Z
LAST-MODIFIED:20250223T112906Z
UID:10021267-1741897800-1741901400@www.dancesoul.com.tw
SUMMARY:Hip Hop-林彤
DESCRIPTION:
URL:https://www.dancesoul.com.tw/schedule/hip-hop-%e6%9e%97%e5%bd%a4-27/2025-03-13/
CATEGORIES:Hip Hop,常態課_一般,課程
END:VEVENT
BEGIN:VEVENT
DTSTART;TZID=Asia/Shanghai:20250306T203000
DTEND;TZID=Asia/Shanghai:20250306T213000
DTSTAMP:20260421T081802
CREATED:20250223T112906Z
LAST-MODIFIED:20250223T112906Z
UID:10021266-1741293000-1741296600@www.dancesoul.com.tw
SUMMARY:Hip Hop-林彤
DESCRIPTION:
URL:https://www.dancesoul.com.tw/schedule/hip-hop-%e6%9e%97%e5%bd%a4-27/2025-03-06/
CATEGORIES:Hip Hop,常態課_一般,課程
END:VEVENT
BEGIN:VEVENT
DTSTART;TZID=Asia/Shanghai:20250227T203000
DTEND;TZID=Asia/Shanghai:20250227T213000
DTSTAMP:20260421T081802
CREATED:20250126T121018Z
LAST-MODIFIED:20250213T200818Z
UID:10021120-1740688200-1740691800@www.dancesoul.com.tw
SUMMARY:Hip Hop-林彤
DESCRIPTION:
URL:https://www.dancesoul.com.tw/schedule/hip-hop-%e6%9e%97%e5%bd%a4-26/2025-02-27/
CATEGORIES:Hip Hop,常態課_一般,課程
ATTACH;FMTTYPE=image/jpeg:https://www.dancesoul.com.tw/wp-content/uploads/2024/08/cropped-IMG_7076-scaled-1.jpg
END:VEVENT
BEGIN:VEVENT
DTSTART;TZID=Asia/Shanghai:20250220T203000
DTEND;TZID=Asia/Shanghai:20250220T213000
DTSTAMP:20260421T081802
CREATED:20250126T121018Z
LAST-MODIFIED:20250213T200818Z
UID:10021119-1740083400-1740087000@www.dancesoul.com.tw
SUMMARY:Hip Hop-林彤
DESCRIPTION:
URL:https://www.dancesoul.com.tw/schedule/hip-hop-%e6%9e%97%e5%bd%a4-26/2025-02-20/
CATEGORIES:Hip Hop,常態課_一般,課程
ATTACH;FMTTYPE=image/jpeg:https://www.dancesoul.com.tw/wp-content/uploads/2024/08/cropped-IMG_7076-scaled-1.jpg
END:VEVENT
BEGIN:VEVENT
DTSTART;TZID=Asia/Shanghai:20250213T203000
DTEND;TZID=Asia/Shanghai:20250213T213000
DTSTAMP:20260421T081802
CREATED:20250126T121018Z
LAST-MODIFIED:20250213T200818Z
UID:10021118-1739478600-1739482200@www.dancesoul.com.tw
SUMMARY:Hip Hop-林彤
DESCRIPTION:
URL:https://www.dancesoul.com.tw/schedule/hip-hop-%e6%9e%97%e5%bd%a4-26/2025-02-13/
CATEGORIES:Hip Hop,常態課_一般,課程
ATTACH;FMTTYPE=image/jpeg:https://www.dancesoul.com.tw/wp-content/uploads/2024/08/cropped-IMG_7076-scaled-1.jpg
END:VEVENT
BEGIN:VEVENT
DTSTART;TZID=Asia/Shanghai:20250206T203000
DTEND;TZID=Asia/Shanghai:20250206T213000
DTSTAMP:20260421T081802
CREATED:20250126T121018Z
LAST-MODIFIED:20250213T200818Z
UID:10021117-1738873800-1738877400@www.dancesoul.com.tw
SUMMARY:Hip Hop-林彤
DESCRIPTION:
URL:https://www.dancesoul.com.tw/schedule/hip-hop-%e6%9e%97%e5%bd%a4-26/2025-02-06/
CATEGORIES:Hip Hop,常態課_一般,課程
ATTACH;FMTTYPE=image/jpeg:https://www.dancesoul.com.tw/wp-content/uploads/2024/08/cropped-IMG_7076-scaled-1.jpg
END:VEVENT
BEGIN:VEVENT
DTSTART;TZID=Asia/Shanghai:20250123T203000
DTEND;TZID=Asia/Shanghai:20250123T213000
DTSTAMP:20260421T081802
CREATED:20241230T082850Z
LAST-MODIFIED:20241230T082850Z
UID:10020859-1737664200-1737667800@www.dancesoul.com.tw
SUMMARY:Hip Hop-林彤
DESCRIPTION:
URL:https://www.dancesoul.com.tw/schedule/hip-hop-%e6%9e%97%e5%bd%a4-25/2025-01-23/
CATEGORIES:Hip Hop,常態課_一般,課程
END:VEVENT
BEGIN:VEVENT
DTSTART;TZID=Asia/Shanghai:20250116T203000
DTEND;TZID=Asia/Shanghai:20250116T213000
DTSTAMP:20260421T081802
CREATED:20241230T082850Z
LAST-MODIFIED:20241230T082850Z
UID:10020858-1737059400-1737063000@www.dancesoul.com.tw
SUMMARY:Hip Hop-林彤
DESCRIPTION:
URL:https://www.dancesoul.com.tw/schedule/hip-hop-%e6%9e%97%e5%bd%a4-25/2025-01-16/
CATEGORIES:Hip Hop,常態課_一般,課程
END:VEVENT
BEGIN:VEVENT
DTSTART;TZID=Asia/Shanghai:20250109T203000
DTEND;TZID=Asia/Shanghai:20250109T213000
DTSTAMP:20260421T081802
CREATED:20241230T082850Z
LAST-MODIFIED:20241230T082850Z
UID:10020857-1736454600-1736458200@www.dancesoul.com.tw
SUMMARY:Hip Hop-林彤
DESCRIPTION:
URL:https://www.dancesoul.com.tw/schedule/hip-hop-%e6%9e%97%e5%bd%a4-25/2025-01-09/
CATEGORIES:Hip Hop,常態課_一般,課程
END:VEVENT
BEGIN:VEVENT
DTSTART;TZID=Asia/Shanghai:20250102T203000
DTEND;TZID=Asia/Shanghai:20250102T213000
DTSTAMP:20260421T081802
CREATED:20241230T082850Z
LAST-MODIFIED:20241230T082850Z
UID:10020856-1735849800-1735853400@www.dancesoul.com.tw
SUMMARY:Hip Hop-林彤
DESCRIPTION:
URL:https://www.dancesoul.com.tw/schedule/hip-hop-%e6%9e%97%e5%bd%a4-25/2025-01-02/
CATEGORIES:Hip Hop,常態課_一般,課程
END:VEVENT
BEGIN:VEVENT
DTSTART;TZID=Asia/Shanghai:20241226T194000
DTEND;TZID=Asia/Shanghai:20241226T204000
DTSTAMP:20260421T081802
CREATED:20241125T110316Z
LAST-MODIFIED:20241125T110815Z
UID:10020693-1735242000-1735245600@www.dancesoul.com.tw
SUMMARY:Hip Hop-林彤
DESCRIPTION:
URL:https://www.dancesoul.com.tw/schedule/hip-hop-%e6%9e%97%e5%bd%a4-24/2024-12-26/
CATEGORIES:Hip Hop,常態課_一般,課程
END:VEVENT
BEGIN:VEVENT
DTSTART;TZID=Asia/Shanghai:20241219T194000
DTEND;TZID=Asia/Shanghai:20241219T204000
DTSTAMP:20260421T081802
CREATED:20241125T110316Z
LAST-MODIFIED:20241125T110815Z
UID:10020692-1734637200-1734640800@www.dancesoul.com.tw
SUMMARY:Hip Hop-林彤
DESCRIPTION:
URL:https://www.dancesoul.com.tw/schedule/hip-hop-%e6%9e%97%e5%bd%a4-24/2024-12-19/
CATEGORIES:Hip Hop,常態課_一般,課程
END:VEVENT
BEGIN:VEVENT
DTSTART;TZID=Asia/Shanghai:20241212T194000
DTEND;TZID=Asia/Shanghai:20241212T204000
DTSTAMP:20260421T081802
CREATED:20241125T110316Z
LAST-MODIFIED:20241125T110815Z
UID:10020691-1734032400-1734036000@www.dancesoul.com.tw
SUMMARY:Hip Hop-林彤
DESCRIPTION:
URL:https://www.dancesoul.com.tw/schedule/hip-hop-%e6%9e%97%e5%bd%a4-24/2024-12-12/
CATEGORIES:Hip Hop,常態課_一般,課程
END:VEVENT
BEGIN:VEVENT
DTSTART;TZID=Asia/Shanghai:20241205T194000
DTEND;TZID=Asia/Shanghai:20241205T204000
DTSTAMP:20260421T081802
CREATED:20241125T110316Z
LAST-MODIFIED:20241125T110815Z
UID:10020690-1733427600-1733431200@www.dancesoul.com.tw
SUMMARY:Hip Hop-林彤
DESCRIPTION:
URL:https://www.dancesoul.com.tw/schedule/hip-hop-%e6%9e%97%e5%bd%a4-24/2024-12-05/
CATEGORIES:Hip Hop,常態課_一般,課程
END:VEVENT
BEGIN:VEVENT
DTSTART;TZID=Asia/Shanghai:20241128T194000
DTEND;TZID=Asia/Shanghai:20241128T204000
DTSTAMP:20260421T081802
CREATED:20241028T081514Z
LAST-MODIFIED:20241028T081514Z
UID:10020574-1732822800-1732826400@www.dancesoul.com.tw
SUMMARY:Hip Hop-林彤
DESCRIPTION:
URL:https://www.dancesoul.com.tw/schedule/hip-hop-%e6%9e%97%e5%bd%a4-23/2024-11-28/
CATEGORIES:Hip Hop,常態課_一般,課程
END:VEVENT
BEGIN:VEVENT
DTSTART;TZID=Asia/Shanghai:20241121T194000
DTEND;TZID=Asia/Shanghai:20241121T204000
DTSTAMP:20260421T081802
CREATED:20241028T081514Z
LAST-MODIFIED:20241028T081514Z
UID:10020573-1732218000-1732221600@www.dancesoul.com.tw
SUMMARY:Hip Hop-林彤
DESCRIPTION:
URL:https://www.dancesoul.com.tw/schedule/hip-hop-%e6%9e%97%e5%bd%a4-23/2024-11-21/
CATEGORIES:Hip Hop,常態課_一般,課程
END:VEVENT
END:VCALENDAR