BEGIN:VCALENDAR
VERSION:2.0
PRODID:-//DANCE SOUL 舞魂街舞學校 - ECPv6.15.18//NONSGML v1.0//EN
CALSCALE:GREGORIAN
METHOD:PUBLISH
X-WR-CALNAME:DANCE SOUL 舞魂街舞學校
X-ORIGINAL-URL:https://www.dancesoul.com.tw
X-WR-CALDESC:Events for DANCE SOUL 舞魂街舞學校
REFRESH-INTERVAL;VALUE=DURATION:PT1H
X-Robots-Tag:noindex
X-PUBLISHED-TTL:PT1H
BEGIN:VTIMEZONE
TZID:Asia/Shanghai
BEGIN:STANDARD
TZOFFSETFROM:+0800
TZOFFSETTO:+0800
TZNAME:CST
DTSTART:20220101T000000
END:STANDARD
END:VTIMEZONE
BEGIN:VEVENT
DTSTART;TZID=Asia/Shanghai:20240525T191000
DTEND;TZID=Asia/Shanghai:20240525T201000
DTSTAMP:20260422T123333
CREATED:20240423T085039Z
LAST-MODIFIED:20240423T085039Z
UID:10019480-1716664200-1716667800@www.dancesoul.com.tw
SUMMARY:Hip Hop(初)-阿祥
DESCRIPTION:
URL:https://www.dancesoul.com.tw/schedule/hip-hop%e5%88%9d-%e9%98%bf%e7%a5%a5-13/2024-05-25/
CATEGORIES:Hip Hop 初級,常態課_初級,課程
END:VEVENT
BEGIN:VEVENT
DTSTART;TZID=Asia/Shanghai:20240518T191000
DTEND;TZID=Asia/Shanghai:20240518T201000
DTSTAMP:20260422T123333
CREATED:20240423T085039Z
LAST-MODIFIED:20240423T085039Z
UID:10019479-1716059400-1716063000@www.dancesoul.com.tw
SUMMARY:Hip Hop(初)-阿祥
DESCRIPTION:
URL:https://www.dancesoul.com.tw/schedule/hip-hop%e5%88%9d-%e9%98%bf%e7%a5%a5-13/2024-05-18/
CATEGORIES:Hip Hop 初級,常態課_初級,課程
END:VEVENT
BEGIN:VEVENT
DTSTART;TZID=Asia/Shanghai:20240511T191000
DTEND;TZID=Asia/Shanghai:20240511T201000
DTSTAMP:20260422T123333
CREATED:20240423T085039Z
LAST-MODIFIED:20240423T085039Z
UID:10019478-1715454600-1715458200@www.dancesoul.com.tw
SUMMARY:Hip Hop(初)-阿祥
DESCRIPTION:
URL:https://www.dancesoul.com.tw/schedule/hip-hop%e5%88%9d-%e9%98%bf%e7%a5%a5-13/2024-05-11/
CATEGORIES:Hip Hop 初級,常態課_初級,課程
END:VEVENT
BEGIN:VEVENT
DTSTART;TZID=Asia/Shanghai:20240504T191000
DTEND;TZID=Asia/Shanghai:20240504T201000
DTSTAMP:20260422T123333
CREATED:20240423T085039Z
LAST-MODIFIED:20240423T085039Z
UID:10019477-1714849800-1714853400@www.dancesoul.com.tw
SUMMARY:Hip Hop(初)-阿祥
DESCRIPTION:
URL:https://www.dancesoul.com.tw/schedule/hip-hop%e5%88%9d-%e9%98%bf%e7%a5%a5-13/2024-05-04/
CATEGORIES:Hip Hop 初級,常態課_初級,課程
END:VEVENT
BEGIN:VEVENT
DTSTART;TZID=Asia/Shanghai:20240427T191000
DTEND;TZID=Asia/Shanghai:20240427T201000
DTSTAMP:20260422T123333
CREATED:20240326T090311Z
LAST-MODIFIED:20240326T090311Z
UID:10019356-1714245000-1714248600@www.dancesoul.com.tw
SUMMARY:Hip Hop(初)-阿祥
DESCRIPTION:
URL:https://www.dancesoul.com.tw/schedule/hip-hop%e5%88%9d-%e9%98%bf%e7%a5%a5-12/2024-04-27/
CATEGORIES:Hip Hop 初級,常態課_初級,課程
END:VEVENT
BEGIN:VEVENT
DTSTART;TZID=Asia/Shanghai:20240420T191000
DTEND;TZID=Asia/Shanghai:20240420T201000
DTSTAMP:20260422T123333
CREATED:20240326T090311Z
LAST-MODIFIED:20240326T090311Z
UID:10019355-1713640200-1713643800@www.dancesoul.com.tw
SUMMARY:Hip Hop(初)-阿祥
DESCRIPTION:
URL:https://www.dancesoul.com.tw/schedule/hip-hop%e5%88%9d-%e9%98%bf%e7%a5%a5-12/2024-04-20/
CATEGORIES:Hip Hop 初級,常態課_初級,課程
END:VEVENT
BEGIN:VEVENT
DTSTART;TZID=Asia/Shanghai:20240413T191000
DTEND;TZID=Asia/Shanghai:20240413T201000
DTSTAMP:20260422T123333
CREATED:20240326T090311Z
LAST-MODIFIED:20240326T090311Z
UID:10019354-1713035400-1713039000@www.dancesoul.com.tw
SUMMARY:Hip Hop(初)-阿祥
DESCRIPTION:
URL:https://www.dancesoul.com.tw/schedule/hip-hop%e5%88%9d-%e9%98%bf%e7%a5%a5-12/2024-04-13/
CATEGORIES:Hip Hop 初級,常態課_初級,課程
END:VEVENT
BEGIN:VEVENT
DTSTART;TZID=Asia/Shanghai:20240406T191000
DTEND;TZID=Asia/Shanghai:20240406T201000
DTSTAMP:20260422T123333
CREATED:20240326T090311Z
LAST-MODIFIED:20240326T090311Z
UID:10019353-1712430600-1712434200@www.dancesoul.com.tw
SUMMARY:Hip Hop(初)-阿祥
DESCRIPTION:
URL:https://www.dancesoul.com.tw/schedule/hip-hop%e5%88%9d-%e9%98%bf%e7%a5%a5-12/2024-04-06/
CATEGORIES:Hip Hop 初級,常態課_初級,課程
END:VEVENT
BEGIN:VEVENT
DTSTART;TZID=Asia/Shanghai:20240330T191000
DTEND;TZID=Asia/Shanghai:20240330T201000
DTSTAMP:20260422T123333
CREATED:20240225T071529Z
LAST-MODIFIED:20240225T071529Z
UID:10019237-1711825800-1711829400@www.dancesoul.com.tw
SUMMARY:Hip Hop(初)-阿祥
DESCRIPTION:
URL:https://www.dancesoul.com.tw/schedule/hip-hop%e5%88%9d-%e9%98%bf%e7%a5%a5-11/2024-03-30/
CATEGORIES:Hip Hop 初級,常態課_初級,課程
END:VEVENT
BEGIN:VEVENT
DTSTART;TZID=Asia/Shanghai:20240323T191000
DTEND;TZID=Asia/Shanghai:20240323T201000
DTSTAMP:20260422T123333
CREATED:20240225T071529Z
LAST-MODIFIED:20240225T071529Z
UID:10019236-1711221000-1711224600@www.dancesoul.com.tw
SUMMARY:Hip Hop(初)-阿祥
DESCRIPTION:
URL:https://www.dancesoul.com.tw/schedule/hip-hop%e5%88%9d-%e9%98%bf%e7%a5%a5-11/2024-03-23/
CATEGORIES:Hip Hop 初級,常態課_初級,課程
END:VEVENT
BEGIN:VEVENT
DTSTART;TZID=Asia/Shanghai:20240316T191000
DTEND;TZID=Asia/Shanghai:20240316T201000
DTSTAMP:20260422T123333
CREATED:20240225T071529Z
LAST-MODIFIED:20240225T071529Z
UID:10019235-1710616200-1710619800@www.dancesoul.com.tw
SUMMARY:Hip Hop(初)-阿祥
DESCRIPTION:
URL:https://www.dancesoul.com.tw/schedule/hip-hop%e5%88%9d-%e9%98%bf%e7%a5%a5-11/2024-03-16/
CATEGORIES:Hip Hop 初級,常態課_初級,課程
END:VEVENT
BEGIN:VEVENT
DTSTART;TZID=Asia/Shanghai:20240309T191000
DTEND;TZID=Asia/Shanghai:20240309T201000
DTSTAMP:20260422T123333
CREATED:20240225T071529Z
LAST-MODIFIED:20240225T071529Z
UID:10019234-1710011400-1710015000@www.dancesoul.com.tw
SUMMARY:Hip Hop(初)-阿祥
DESCRIPTION:
URL:https://www.dancesoul.com.tw/schedule/hip-hop%e5%88%9d-%e9%98%bf%e7%a5%a5-11/2024-03-09/
CATEGORIES:Hip Hop 初級,常態課_初級,課程
END:VEVENT
BEGIN:VEVENT
DTSTART;TZID=Asia/Shanghai:20240302T191000
DTEND;TZID=Asia/Shanghai:20240302T201000
DTSTAMP:20260422T123333
CREATED:20240225T071529Z
LAST-MODIFIED:20240225T071529Z
UID:10019233-1709406600-1709410200@www.dancesoul.com.tw
SUMMARY:Hip Hop(初)-阿祥
DESCRIPTION:
URL:https://www.dancesoul.com.tw/schedule/hip-hop%e5%88%9d-%e9%98%bf%e7%a5%a5-11/2024-03-02/
CATEGORIES:Hip Hop 初級,常態課_初級,課程
END:VEVENT
BEGIN:VEVENT
DTSTART;TZID=Asia/Shanghai:20240224T191000
DTEND;TZID=Asia/Shanghai:20240224T201000
DTSTAMP:20260422T123333
CREATED:20240128T065108Z
LAST-MODIFIED:20240128T065108Z
UID:10019081-1708801800-1708805400@www.dancesoul.com.tw
SUMMARY:Hip Hop(初)-阿祥
DESCRIPTION:
URL:https://www.dancesoul.com.tw/schedule/hip-hop%e5%88%9d-%e9%98%bf%e7%a5%a5-10/2024-02-24/
CATEGORIES:Hip Hop 初級,常態課_初級,課程
END:VEVENT
BEGIN:VEVENT
DTSTART;TZID=Asia/Shanghai:20240217T191000
DTEND;TZID=Asia/Shanghai:20240217T201000
DTSTAMP:20260422T123333
CREATED:20240128T065108Z
LAST-MODIFIED:20240128T065108Z
UID:10019080-1708197000-1708200600@www.dancesoul.com.tw
SUMMARY:Hip Hop(初)-阿祥
DESCRIPTION:
URL:https://www.dancesoul.com.tw/schedule/hip-hop%e5%88%9d-%e9%98%bf%e7%a5%a5-10/2024-02-17/
CATEGORIES:Hip Hop 初級,常態課_初級,課程
END:VEVENT
BEGIN:VEVENT
DTSTART;TZID=Asia/Shanghai:20240203T191000
DTEND;TZID=Asia/Shanghai:20240203T201000
DTSTAMP:20260422T123333
CREATED:20240128T064951Z
LAST-MODIFIED:20240128T064951Z
UID:10019079-1706987400-1706991000@www.dancesoul.com.tw
SUMMARY:Hip Hop(初)-阿祥
DESCRIPTION:
URL:https://www.dancesoul.com.tw/schedule/hip-hop%e5%88%9d-%e9%98%bf%e7%a5%a5-9/
CATEGORIES:Hip Hop 初級,常態課_初級,課程
END:VEVENT
BEGIN:VEVENT
DTSTART;TZID=Asia/Shanghai:20240127T191000
DTEND;TZID=Asia/Shanghai:20240127T201000
DTSTAMP:20260422T123333
CREATED:20231228T091128Z
LAST-MODIFIED:20231228T091128Z
UID:10018898-1706382600-1706386200@www.dancesoul.com.tw
SUMMARY:Hip Hop(初)-阿祥
DESCRIPTION:
URL:https://www.dancesoul.com.tw/schedule/hip-hop%e5%88%9d-%e9%98%bf%e7%a5%a5-8/2024-01-27/
CATEGORIES:Hip Hop 初級,常態課_初級,課程
END:VEVENT
BEGIN:VEVENT
DTSTART;TZID=Asia/Shanghai:20240120T191000
DTEND;TZID=Asia/Shanghai:20240120T201000
DTSTAMP:20260422T123334
CREATED:20231228T091128Z
LAST-MODIFIED:20231228T091128Z
UID:10018897-1705777800-1705781400@www.dancesoul.com.tw
SUMMARY:Hip Hop(初)-阿祥
DESCRIPTION:
URL:https://www.dancesoul.com.tw/schedule/hip-hop%e5%88%9d-%e9%98%bf%e7%a5%a5-8/2024-01-20/
CATEGORIES:Hip Hop 初級,常態課_初級,課程
END:VEVENT
BEGIN:VEVENT
DTSTART;TZID=Asia/Shanghai:20240106T191000
DTEND;TZID=Asia/Shanghai:20240106T201000
DTSTAMP:20260422T123334
CREATED:20231228T091022Z
LAST-MODIFIED:20231228T091022Z
UID:10018896-1704568200-1704571800@www.dancesoul.com.tw
SUMMARY:Hip Hop(初)-阿祥
DESCRIPTION:
URL:https://www.dancesoul.com.tw/schedule/hip-hop%e5%88%9d-%e9%98%bf%e7%a5%a5-7/
CATEGORIES:Hip Hop 初級,常態課_初級,課程
END:VEVENT
BEGIN:VEVENT
DTSTART;TZID=Asia/Shanghai:20231230T191000
DTEND;TZID=Asia/Shanghai:20231230T201000
DTSTAMP:20260422T123334
CREATED:20231125T092656Z
LAST-MODIFIED:20231125T092656Z
UID:10018760-1703963400-1703967000@www.dancesoul.com.tw
SUMMARY:Hip Hop(初)-阿祥
DESCRIPTION:
URL:https://www.dancesoul.com.tw/schedule/hip-hop%e5%88%9d-%e9%98%bf%e7%a5%a5-6/2023-12-30/
CATEGORIES:Hip Hop 初級,常態課_初級,課程
END:VEVENT
BEGIN:VEVENT
DTSTART;TZID=Asia/Shanghai:20231223T191000
DTEND;TZID=Asia/Shanghai:20231223T201000
DTSTAMP:20260422T123334
CREATED:20231125T092656Z
LAST-MODIFIED:20231125T092656Z
UID:10018759-1703358600-1703362200@www.dancesoul.com.tw
SUMMARY:Hip Hop(初)-阿祥
DESCRIPTION:
URL:https://www.dancesoul.com.tw/schedule/hip-hop%e5%88%9d-%e9%98%bf%e7%a5%a5-6/2023-12-23/
CATEGORIES:Hip Hop 初級,常態課_初級,課程
END:VEVENT
BEGIN:VEVENT
DTSTART;TZID=Asia/Shanghai:20231216T191000
DTEND;TZID=Asia/Shanghai:20231216T201000
DTSTAMP:20260422T123334
CREATED:20231125T092656Z
LAST-MODIFIED:20231125T092656Z
UID:10018758-1702753800-1702757400@www.dancesoul.com.tw
SUMMARY:Hip Hop(初)-阿祥
DESCRIPTION:
URL:https://www.dancesoul.com.tw/schedule/hip-hop%e5%88%9d-%e9%98%bf%e7%a5%a5-6/2023-12-16/
CATEGORIES:Hip Hop 初級,常態課_初級,課程
END:VEVENT
BEGIN:VEVENT
DTSTART;TZID=Asia/Shanghai:20231209T191000
DTEND;TZID=Asia/Shanghai:20231209T201000
DTSTAMP:20260422T123334
CREATED:20231125T092656Z
LAST-MODIFIED:20231125T092656Z
UID:10018757-1702149000-1702152600@www.dancesoul.com.tw
SUMMARY:Hip Hop(初)-阿祥
DESCRIPTION:
URL:https://www.dancesoul.com.tw/schedule/hip-hop%e5%88%9d-%e9%98%bf%e7%a5%a5-6/2023-12-09/
CATEGORIES:Hip Hop 初級,常態課_初級,課程
END:VEVENT
BEGIN:VEVENT
DTSTART;TZID=Asia/Shanghai:20231202T191000
DTEND;TZID=Asia/Shanghai:20231202T201000
DTSTAMP:20260422T123334
CREATED:20231125T092656Z
LAST-MODIFIED:20231125T092656Z
UID:10018756-1701544200-1701547800@www.dancesoul.com.tw
SUMMARY:Hip Hop(初)-阿祥
DESCRIPTION:
URL:https://www.dancesoul.com.tw/schedule/hip-hop%e5%88%9d-%e9%98%bf%e7%a5%a5-6/2023-12-02/
CATEGORIES:Hip Hop 初級,常態課_初級,課程
END:VEVENT
BEGIN:VEVENT
DTSTART;TZID=Asia/Shanghai:20231125T191000
DTEND;TZID=Asia/Shanghai:20231125T201000
DTSTAMP:20260422T123334
CREATED:20231024T095414Z
LAST-MODIFIED:20231024T095414Z
UID:10018565-1700939400-1700943000@www.dancesoul.com.tw
SUMMARY:Hip Hop(初)-阿祥
DESCRIPTION:
URL:https://www.dancesoul.com.tw/schedule/hip-hop%e5%88%9d-%e9%98%bf%e7%a5%a5-5/2023-11-25/
CATEGORIES:Hip Hop 初級,常態課_初級,課程
END:VEVENT
BEGIN:VEVENT
DTSTART;TZID=Asia/Shanghai:20231118T191000
DTEND;TZID=Asia/Shanghai:20231118T201000
DTSTAMP:20260422T123334
CREATED:20231024T095414Z
LAST-MODIFIED:20231024T095414Z
UID:10018564-1700334600-1700338200@www.dancesoul.com.tw
SUMMARY:Hip Hop(初)-阿祥
DESCRIPTION:
URL:https://www.dancesoul.com.tw/schedule/hip-hop%e5%88%9d-%e9%98%bf%e7%a5%a5-5/2023-11-18/
CATEGORIES:Hip Hop 初級,常態課_初級,課程
END:VEVENT
BEGIN:VEVENT
DTSTART;TZID=Asia/Shanghai:20231111T191000
DTEND;TZID=Asia/Shanghai:20231111T201000
DTSTAMP:20260422T123334
CREATED:20231024T095414Z
LAST-MODIFIED:20231024T095414Z
UID:10018563-1699729800-1699733400@www.dancesoul.com.tw
SUMMARY:Hip Hop(初)-阿祥
DESCRIPTION:
URL:https://www.dancesoul.com.tw/schedule/hip-hop%e5%88%9d-%e9%98%bf%e7%a5%a5-5/2023-11-11/
CATEGORIES:Hip Hop 初級,常態課_初級,課程
END:VEVENT
BEGIN:VEVENT
DTSTART;TZID=Asia/Shanghai:20231104T191000
DTEND;TZID=Asia/Shanghai:20231104T201000
DTSTAMP:20260422T123334
CREATED:20231024T095414Z
LAST-MODIFIED:20231024T095414Z
UID:10018562-1699125000-1699128600@www.dancesoul.com.tw
SUMMARY:Hip Hop(初)-阿祥
DESCRIPTION:
URL:https://www.dancesoul.com.tw/schedule/hip-hop%e5%88%9d-%e9%98%bf%e7%a5%a5-5/2023-11-04/
CATEGORIES:Hip Hop 初級,常態課_初級,課程
END:VEVENT
BEGIN:VEVENT
DTSTART;TZID=Asia/Shanghai:20231028T191000
DTEND;TZID=Asia/Shanghai:20231028T201000
DTSTAMP:20260422T123334
CREATED:20230924T104848Z
LAST-MODIFIED:20230924T104848Z
UID:10018410-1698520200-1698523800@www.dancesoul.com.tw
SUMMARY:Hip Hop(初)-阿祥
DESCRIPTION:
URL:https://www.dancesoul.com.tw/schedule/hip-hop%e5%88%9d-%e9%98%bf%e7%a5%a5-4/2023-10-28/
CATEGORIES:Hip Hop 初級,常態課_初級,課程
END:VEVENT
BEGIN:VEVENT
DTSTART;TZID=Asia/Shanghai:20231021T191000
DTEND;TZID=Asia/Shanghai:20231021T201000
DTSTAMP:20260422T123334
CREATED:20230924T104848Z
LAST-MODIFIED:20230924T104848Z
UID:10018409-1697915400-1697919000@www.dancesoul.com.tw
SUMMARY:Hip Hop(初)-阿祥
DESCRIPTION:
URL:https://www.dancesoul.com.tw/schedule/hip-hop%e5%88%9d-%e9%98%bf%e7%a5%a5-4/2023-10-21/
CATEGORIES:Hip Hop 初級,常態課_初級,課程
END:VEVENT
END:VCALENDAR