BEGIN:VCALENDAR
VERSION:2.0
PRODID:-//DANCE SOUL 舞魂街舞學校 - ECPv6.15.18//NONSGML v1.0//EN
CALSCALE:GREGORIAN
METHOD:PUBLISH
X-ORIGINAL-URL:https://www.dancesoul.com.tw
X-WR-CALDESC:Events for DANCE SOUL 舞魂街舞學校
REFRESH-INTERVAL;VALUE=DURATION:PT1H
X-Robots-Tag:noindex
X-PUBLISHED-TTL:PT1H
BEGIN:VTIMEZONE
TZID:Asia/Shanghai
BEGIN:STANDARD
TZOFFSETFROM:+0800
TZOFFSETTO:+0800
TZNAME:CST
DTSTART:20220101T000000
END:STANDARD
END:VTIMEZONE
BEGIN:VEVENT
DTSTART;TZID=Asia/Shanghai:20240528T183000
DTEND;TZID=Asia/Shanghai:20240528T193000
DTSTAMP:20260423T073233
CREATED:20240423T093308Z
LAST-MODIFIED:20240423T093308Z
UID:10019524-1716921000-1716924600@www.dancesoul.com.tw
SUMMARY:Hip Hop(初)-阿禾
DESCRIPTION:
URL:https://www.dancesoul.com.tw/schedule/hip-hop%e5%88%9d-%e9%98%bf%e7%a6%be-49/2024-05-28/
CATEGORIES:Hip Hop 初級,常態課_初級,課程
END:VEVENT
BEGIN:VEVENT
DTSTART;TZID=Asia/Shanghai:20240521T183000
DTEND;TZID=Asia/Shanghai:20240521T193000
DTSTAMP:20260423T073233
CREATED:20240423T093308Z
LAST-MODIFIED:20240423T093308Z
UID:10019523-1716316200-1716319800@www.dancesoul.com.tw
SUMMARY:Hip Hop(初)-阿禾
DESCRIPTION:
URL:https://www.dancesoul.com.tw/schedule/hip-hop%e5%88%9d-%e9%98%bf%e7%a6%be-49/2024-05-21/
CATEGORIES:Hip Hop 初級,常態課_初級,課程
END:VEVENT
BEGIN:VEVENT
DTSTART;TZID=Asia/Shanghai:20240514T183000
DTEND;TZID=Asia/Shanghai:20240514T193000
DTSTAMP:20260423T073233
CREATED:20240423T093308Z
LAST-MODIFIED:20240423T093308Z
UID:10019522-1715711400-1715715000@www.dancesoul.com.tw
SUMMARY:Hip Hop(初)-阿禾
DESCRIPTION:
URL:https://www.dancesoul.com.tw/schedule/hip-hop%e5%88%9d-%e9%98%bf%e7%a6%be-49/2024-05-14/
CATEGORIES:Hip Hop 初級,常態課_初級,課程
END:VEVENT
BEGIN:VEVENT
DTSTART;TZID=Asia/Shanghai:20240507T183000
DTEND;TZID=Asia/Shanghai:20240507T193000
DTSTAMP:20260423T073233
CREATED:20240423T093308Z
LAST-MODIFIED:20240423T093308Z
UID:10019521-1715106600-1715110200@www.dancesoul.com.tw
SUMMARY:Hip Hop(初)-阿禾
DESCRIPTION:
URL:https://www.dancesoul.com.tw/schedule/hip-hop%e5%88%9d-%e9%98%bf%e7%a6%be-49/2024-05-07/
CATEGORIES:Hip Hop 初級,常態課_初級,課程
END:VEVENT
BEGIN:VEVENT
DTSTART;TZID=Asia/Shanghai:20240430T183000
DTEND;TZID=Asia/Shanghai:20240430T193000
DTSTAMP:20260423T073233
CREATED:20240326T092559Z
LAST-MODIFIED:20240326T092559Z
UID:10019409-1714501800-1714505400@www.dancesoul.com.tw
SUMMARY:Hip Hop(初)-阿禾
DESCRIPTION:
URL:https://www.dancesoul.com.tw/schedule/hip-hop%e5%88%9d-%e9%98%bf%e7%a6%be-48/2024-04-30/
CATEGORIES:Hip Hop 初級,常態課_初級,課程
END:VEVENT
BEGIN:VEVENT
DTSTART;TZID=Asia/Shanghai:20240423T183000
DTEND;TZID=Asia/Shanghai:20240423T193000
DTSTAMP:20260423T073233
CREATED:20240326T092559Z
LAST-MODIFIED:20240326T092559Z
UID:10019408-1713897000-1713900600@www.dancesoul.com.tw
SUMMARY:Hip Hop(初)-阿禾
DESCRIPTION:
URL:https://www.dancesoul.com.tw/schedule/hip-hop%e5%88%9d-%e9%98%bf%e7%a6%be-48/2024-04-23/
CATEGORIES:Hip Hop 初級,常態課_初級,課程
END:VEVENT
BEGIN:VEVENT
DTSTART;TZID=Asia/Shanghai:20240416T183000
DTEND;TZID=Asia/Shanghai:20240416T193000
DTSTAMP:20260423T073233
CREATED:20240326T092559Z
LAST-MODIFIED:20240326T092559Z
UID:10019407-1713292200-1713295800@www.dancesoul.com.tw
SUMMARY:Hip Hop(初)-阿禾
DESCRIPTION:
URL:https://www.dancesoul.com.tw/schedule/hip-hop%e5%88%9d-%e9%98%bf%e7%a6%be-48/2024-04-16/
CATEGORIES:Hip Hop 初級,常態課_初級,課程
END:VEVENT
BEGIN:VEVENT
DTSTART;TZID=Asia/Shanghai:20240409T183000
DTEND;TZID=Asia/Shanghai:20240409T193000
DTSTAMP:20260423T073233
CREATED:20240326T092559Z
LAST-MODIFIED:20240326T092559Z
UID:10019406-1712687400-1712691000@www.dancesoul.com.tw
SUMMARY:Hip Hop(初)-阿禾
DESCRIPTION:
URL:https://www.dancesoul.com.tw/schedule/hip-hop%e5%88%9d-%e9%98%bf%e7%a6%be-48/2024-04-09/
CATEGORIES:Hip Hop 初級,常態課_初級,課程
END:VEVENT
BEGIN:VEVENT
DTSTART;TZID=Asia/Shanghai:20240402T183000
DTEND;TZID=Asia/Shanghai:20240402T193000
DTSTAMP:20260423T073233
CREATED:20240326T092559Z
LAST-MODIFIED:20240326T092559Z
UID:10019405-1712082600-1712086200@www.dancesoul.com.tw
SUMMARY:Hip Hop(初)-阿禾
DESCRIPTION:
URL:https://www.dancesoul.com.tw/schedule/hip-hop%e5%88%9d-%e9%98%bf%e7%a6%be-48/2024-04-02/
CATEGORIES:Hip Hop 初級,常態課_初級,課程
END:VEVENT
BEGIN:VEVENT
DTSTART;TZID=Asia/Shanghai:20240326T183000
DTEND;TZID=Asia/Shanghai:20240326T193000
DTSTAMP:20260423T073233
CREATED:20240225T082812Z
LAST-MODIFIED:20240225T082812Z
UID:10019288-1711477800-1711481400@www.dancesoul.com.tw
SUMMARY:Hip Hop(初)-阿禾
DESCRIPTION:
URL:https://www.dancesoul.com.tw/schedule/hip-hop%e5%88%9d-%e9%98%bf%e7%a6%be-47/2024-03-26/
CATEGORIES:Hip Hop 初級,常態課_初級,課程
END:VEVENT
BEGIN:VEVENT
DTSTART;TZID=Asia/Shanghai:20240319T183000
DTEND;TZID=Asia/Shanghai:20240319T193000
DTSTAMP:20260423T073233
CREATED:20240225T082812Z
LAST-MODIFIED:20240225T082812Z
UID:10019287-1710873000-1710876600@www.dancesoul.com.tw
SUMMARY:Hip Hop(初)-阿禾
DESCRIPTION:
URL:https://www.dancesoul.com.tw/schedule/hip-hop%e5%88%9d-%e9%98%bf%e7%a6%be-47/2024-03-19/
CATEGORIES:Hip Hop 初級,常態課_初級,課程
END:VEVENT
BEGIN:VEVENT
DTSTART;TZID=Asia/Shanghai:20240312T183000
DTEND;TZID=Asia/Shanghai:20240312T193000
DTSTAMP:20260423T073233
CREATED:20240225T082812Z
LAST-MODIFIED:20240225T082812Z
UID:10019286-1710268200-1710271800@www.dancesoul.com.tw
SUMMARY:Hip Hop(初)-阿禾
DESCRIPTION:
URL:https://www.dancesoul.com.tw/schedule/hip-hop%e5%88%9d-%e9%98%bf%e7%a6%be-47/2024-03-12/
CATEGORIES:Hip Hop 初級,常態課_初級,課程
END:VEVENT
BEGIN:VEVENT
DTSTART;TZID=Asia/Shanghai:20240305T183000
DTEND;TZID=Asia/Shanghai:20240305T193000
DTSTAMP:20260423T073233
CREATED:20240225T082812Z
LAST-MODIFIED:20240225T082812Z
UID:10019285-1709663400-1709667000@www.dancesoul.com.tw
SUMMARY:Hip Hop(初)-阿禾
DESCRIPTION:
URL:https://www.dancesoul.com.tw/schedule/hip-hop%e5%88%9d-%e9%98%bf%e7%a6%be-47/2024-03-05/
CATEGORIES:Hip Hop 初級,常態課_初級,課程
END:VEVENT
BEGIN:VEVENT
DTSTART;TZID=Asia/Shanghai:20240227T183000
DTEND;TZID=Asia/Shanghai:20240227T193000
DTSTAMP:20260423T073233
CREATED:20240128T072207Z
LAST-MODIFIED:20240128T072207Z
UID:10019116-1709058600-1709062200@www.dancesoul.com.tw
SUMMARY:Hip Hop(初)-阿禾
DESCRIPTION:
URL:https://www.dancesoul.com.tw/schedule/hip-hop%e5%88%9d-%e9%98%bf%e7%a6%be-46/2024-02-27/
CATEGORIES:Hip Hop 初級,常態課_初級,課程
END:VEVENT
BEGIN:VEVENT
DTSTART;TZID=Asia/Shanghai:20240220T183000
DTEND;TZID=Asia/Shanghai:20240220T193000
DTSTAMP:20260423T073233
CREATED:20240128T072207Z
LAST-MODIFIED:20240128T072207Z
UID:10019115-1708453800-1708457400@www.dancesoul.com.tw
SUMMARY:Hip Hop(初)-阿禾
DESCRIPTION:
URL:https://www.dancesoul.com.tw/schedule/hip-hop%e5%88%9d-%e9%98%bf%e7%a6%be-46/2024-02-20/
CATEGORIES:Hip Hop 初級,常態課_初級,課程
END:VEVENT
BEGIN:VEVENT
DTSTART;TZID=Asia/Shanghai:20240206T183000
DTEND;TZID=Asia/Shanghai:20240206T193000
DTSTAMP:20260423T073233
CREATED:20240128T072119Z
LAST-MODIFIED:20240128T072119Z
UID:10019114-1707244200-1707247800@www.dancesoul.com.tw
SUMMARY:Hip Hop(初)-阿禾
DESCRIPTION:
URL:https://www.dancesoul.com.tw/schedule/hip-hop%e5%88%9d-%e9%98%bf%e7%a6%be-45/
CATEGORIES:Hip Hop 初級,常態課_初級,課程
END:VEVENT
BEGIN:VEVENT
DTSTART;TZID=Asia/Shanghai:20240130T183000
DTEND;TZID=Asia/Shanghai:20240130T193000
DTSTAMP:20260423T073233
CREATED:20231228T092458Z
LAST-MODIFIED:20231228T092458Z
UID:10018921-1706639400-1706643000@www.dancesoul.com.tw
SUMMARY:Hip Hop(初)-阿禾
DESCRIPTION:
URL:https://www.dancesoul.com.tw/schedule/hip-hop%e5%88%9d-%e9%98%bf%e7%a6%be-44/2024-01-30/
CATEGORIES:Hip Hop 初級,常態課_初級,課程
END:VEVENT
BEGIN:VEVENT
DTSTART;TZID=Asia/Shanghai:20240123T183000
DTEND;TZID=Asia/Shanghai:20240123T193000
DTSTAMP:20260423T073233
CREATED:20231228T092458Z
LAST-MODIFIED:20231228T092458Z
UID:10018920-1706034600-1706038200@www.dancesoul.com.tw
SUMMARY:Hip Hop(初)-阿禾
DESCRIPTION:
URL:https://www.dancesoul.com.tw/schedule/hip-hop%e5%88%9d-%e9%98%bf%e7%a6%be-44/2024-01-23/
CATEGORIES:Hip Hop 初級,常態課_初級,課程
END:VEVENT
BEGIN:VEVENT
DTSTART;TZID=Asia/Shanghai:20240116T183000
DTEND;TZID=Asia/Shanghai:20240116T193000
DTSTAMP:20260423T073233
CREATED:20231228T092458Z
LAST-MODIFIED:20231228T092458Z
UID:10018919-1705429800-1705433400@www.dancesoul.com.tw
SUMMARY:Hip Hop(初)-阿禾
DESCRIPTION:
URL:https://www.dancesoul.com.tw/schedule/hip-hop%e5%88%9d-%e9%98%bf%e7%a6%be-44/2024-01-16/
CATEGORIES:Hip Hop 初級,常態課_初級,課程
END:VEVENT
BEGIN:VEVENT
DTSTART;TZID=Asia/Shanghai:20240109T183000
DTEND;TZID=Asia/Shanghai:20240109T193000
DTSTAMP:20260423T073233
CREATED:20231228T092458Z
LAST-MODIFIED:20231228T092458Z
UID:10018918-1704825000-1704828600@www.dancesoul.com.tw
SUMMARY:Hip Hop(初)-阿禾
DESCRIPTION:
URL:https://www.dancesoul.com.tw/schedule/hip-hop%e5%88%9d-%e9%98%bf%e7%a6%be-44/2024-01-09/
CATEGORIES:Hip Hop 初級,常態課_初級,課程
END:VEVENT
BEGIN:VEVENT
DTSTART;TZID=Asia/Shanghai:20240102T183000
DTEND;TZID=Asia/Shanghai:20240102T193000
DTSTAMP:20260423T073233
CREATED:20231228T092458Z
LAST-MODIFIED:20231228T092458Z
UID:10018917-1704220200-1704223800@www.dancesoul.com.tw
SUMMARY:Hip Hop(初)-阿禾
DESCRIPTION:
URL:https://www.dancesoul.com.tw/schedule/hip-hop%e5%88%9d-%e9%98%bf%e7%a6%be-44/2024-01-02/
CATEGORIES:Hip Hop 初級,常態課_初級,課程
END:VEVENT
BEGIN:VEVENT
DTSTART;TZID=Asia/Shanghai:20231226T183000
DTEND;TZID=Asia/Shanghai:20231226T193000
DTSTAMP:20260423T073233
CREATED:20231125T073429Z
LAST-MODIFIED:20231125T073429Z
UID:10018683-1703615400-1703619000@www.dancesoul.com.tw
SUMMARY:Hip Hop(初)-阿禾
DESCRIPTION:
URL:https://www.dancesoul.com.tw/schedule/hip-hop%e5%88%9d-%e9%98%bf%e7%a6%be-43/2023-12-26/
CATEGORIES:Hip Hop 初級,常態課_初級
END:VEVENT
BEGIN:VEVENT
DTSTART;TZID=Asia/Shanghai:20231219T183000
DTEND;TZID=Asia/Shanghai:20231219T193000
DTSTAMP:20260423T073233
CREATED:20231125T073429Z
LAST-MODIFIED:20231125T073429Z
UID:10018682-1703010600-1703014200@www.dancesoul.com.tw
SUMMARY:Hip Hop(初)-阿禾
DESCRIPTION:
URL:https://www.dancesoul.com.tw/schedule/hip-hop%e5%88%9d-%e9%98%bf%e7%a6%be-43/2023-12-19/
CATEGORIES:Hip Hop 初級,常態課_初級
END:VEVENT
BEGIN:VEVENT
DTSTART;TZID=Asia/Shanghai:20231212T183000
DTEND;TZID=Asia/Shanghai:20231212T193000
DTSTAMP:20260423T073233
CREATED:20231125T073429Z
LAST-MODIFIED:20231125T073429Z
UID:10018681-1702405800-1702409400@www.dancesoul.com.tw
SUMMARY:Hip Hop(初)-阿禾
DESCRIPTION:
URL:https://www.dancesoul.com.tw/schedule/hip-hop%e5%88%9d-%e9%98%bf%e7%a6%be-43/2023-12-12/
CATEGORIES:Hip Hop 初級,常態課_初級
END:VEVENT
BEGIN:VEVENT
DTSTART;TZID=Asia/Shanghai:20231205T183000
DTEND;TZID=Asia/Shanghai:20231205T193000
DTSTAMP:20260423T073233
CREATED:20231125T073429Z
LAST-MODIFIED:20231125T073429Z
UID:10018680-1701801000-1701804600@www.dancesoul.com.tw
SUMMARY:Hip Hop(初)-阿禾
DESCRIPTION:
URL:https://www.dancesoul.com.tw/schedule/hip-hop%e5%88%9d-%e9%98%bf%e7%a6%be-43/2023-12-05/
CATEGORIES:Hip Hop 初級,常態課_初級
END:VEVENT
BEGIN:VEVENT
DTSTART;TZID=Asia/Shanghai:20231128T183000
DTEND;TZID=Asia/Shanghai:20231128T193000
DTSTAMP:20260423T073233
CREATED:20231024T061225Z
LAST-MODIFIED:20231024T061225Z
UID:10018499-1701196200-1701199800@www.dancesoul.com.tw
SUMMARY:Hip Hop(初)-阿禾
DESCRIPTION:
URL:https://www.dancesoul.com.tw/schedule/hip-hop%e5%88%9d-%e9%98%bf%e7%a6%be-42/2023-11-28/
CATEGORIES:Hip Hop 初級,常態課_初級,課程
END:VEVENT
BEGIN:VEVENT
DTSTART;TZID=Asia/Shanghai:20231121T183000
DTEND;TZID=Asia/Shanghai:20231121T193000
DTSTAMP:20260423T073233
CREATED:20231024T061225Z
LAST-MODIFIED:20231024T061225Z
UID:10018498-1700591400-1700595000@www.dancesoul.com.tw
SUMMARY:Hip Hop(初)-阿禾
DESCRIPTION:
URL:https://www.dancesoul.com.tw/schedule/hip-hop%e5%88%9d-%e9%98%bf%e7%a6%be-42/2023-11-21/
CATEGORIES:Hip Hop 初級,常態課_初級,課程
END:VEVENT
BEGIN:VEVENT
DTSTART;TZID=Asia/Shanghai:20231114T183000
DTEND;TZID=Asia/Shanghai:20231114T193000
DTSTAMP:20260423T073233
CREATED:20231024T061225Z
LAST-MODIFIED:20231024T061225Z
UID:10018497-1699986600-1699990200@www.dancesoul.com.tw
SUMMARY:Hip Hop(初)-阿禾
DESCRIPTION:
URL:https://www.dancesoul.com.tw/schedule/hip-hop%e5%88%9d-%e9%98%bf%e7%a6%be-42/2023-11-14/
CATEGORIES:Hip Hop 初級,常態課_初級,課程
END:VEVENT
BEGIN:VEVENT
DTSTART;TZID=Asia/Shanghai:20231107T183000
DTEND;TZID=Asia/Shanghai:20231107T193000
DTSTAMP:20260423T073233
CREATED:20231024T061225Z
LAST-MODIFIED:20231024T061225Z
UID:10018496-1699381800-1699385400@www.dancesoul.com.tw
SUMMARY:Hip Hop(初)-阿禾
DESCRIPTION:
URL:https://www.dancesoul.com.tw/schedule/hip-hop%e5%88%9d-%e9%98%bf%e7%a6%be-42/2023-11-07/
CATEGORIES:Hip Hop 初級,常態課_初級,課程
END:VEVENT
BEGIN:VEVENT
DTSTART;TZID=Asia/Shanghai:20231031T183000
DTEND;TZID=Asia/Shanghai:20231031T193000
DTSTAMP:20260423T073233
CREATED:20230924T075542Z
LAST-MODIFIED:20230924T075542Z
UID:10018308-1698777000-1698780600@www.dancesoul.com.tw
SUMMARY:Hip Hop(初)-阿禾
DESCRIPTION:
URL:https://www.dancesoul.com.tw/schedule/hip-hop%e5%88%9d-%e9%98%bf%e7%a6%be-41/
CATEGORIES:Hip Hop 初級,常態課_初級,課程
END:VEVENT
END:VCALENDAR