BEGIN:VCALENDAR
VERSION:2.0
PRODID:-//DANCE SOUL 舞魂街舞學校 - ECPv6.15.18//NONSGML v1.0//EN
CALSCALE:GREGORIAN
METHOD:PUBLISH
X-WR-CALNAME:DANCE SOUL 舞魂街舞學校
X-ORIGINAL-URL:https://www.dancesoul.com.tw
X-WR-CALDESC:Events for DANCE SOUL 舞魂街舞學校
REFRESH-INTERVAL;VALUE=DURATION:PT1H
X-Robots-Tag:noindex
X-PUBLISHED-TTL:PT1H
BEGIN:VTIMEZONE
TZID:Asia/Shanghai
BEGIN:STANDARD
TZOFFSETFROM:+0800
TZOFFSETTO:+0800
TZNAME:CST
DTSTART:20230101T000000
END:STANDARD
END:VTIMEZONE
BEGIN:VEVENT
DTSTART;TZID=Asia/Shanghai:20250525T165000
DTEND;TZID=Asia/Shanghai:20250525T175000
DTSTAMP:20260421T113702
CREATED:20250417T103045Z
LAST-MODIFIED:20250417T103045Z
UID:10021607-1748191800-1748195400@www.dancesoul.com.tw
SUMMARY:Jazz Funk-姿昀
DESCRIPTION:
URL:https://www.dancesoul.com.tw/schedule/jazz-funk-%e5%a7%bf%e6%98%80-11/2025-05-25/
CATEGORIES:Jazz Funk,常態課_一般,課程
END:VEVENT
BEGIN:VEVENT
DTSTART;TZID=Asia/Shanghai:20250518T165000
DTEND;TZID=Asia/Shanghai:20250518T175000
DTSTAMP:20260421T113702
CREATED:20250417T103045Z
LAST-MODIFIED:20250417T103045Z
UID:10021606-1747587000-1747590600@www.dancesoul.com.tw
SUMMARY:Jazz Funk-姿昀
DESCRIPTION:
URL:https://www.dancesoul.com.tw/schedule/jazz-funk-%e5%a7%bf%e6%98%80-11/2025-05-18/
CATEGORIES:Jazz Funk,常態課_一般,課程
END:VEVENT
BEGIN:VEVENT
DTSTART;TZID=Asia/Shanghai:20250511T165000
DTEND;TZID=Asia/Shanghai:20250511T175000
DTSTAMP:20260421T113702
CREATED:20250417T103045Z
LAST-MODIFIED:20250417T103045Z
UID:10021605-1746982200-1746985800@www.dancesoul.com.tw
SUMMARY:Jazz Funk-姿昀
DESCRIPTION:
URL:https://www.dancesoul.com.tw/schedule/jazz-funk-%e5%a7%bf%e6%98%80-11/2025-05-11/
CATEGORIES:Jazz Funk,常態課_一般,課程
END:VEVENT
BEGIN:VEVENT
DTSTART;TZID=Asia/Shanghai:20250504T165000
DTEND;TZID=Asia/Shanghai:20250504T175000
DTSTAMP:20260421T113702
CREATED:20250417T103045Z
LAST-MODIFIED:20250417T103045Z
UID:10021604-1746377400-1746381000@www.dancesoul.com.tw
SUMMARY:Jazz Funk-姿昀
DESCRIPTION:
URL:https://www.dancesoul.com.tw/schedule/jazz-funk-%e5%a7%bf%e6%98%80-11/2025-05-04/
CATEGORIES:Jazz Funk,常態課_一般,課程
END:VEVENT
BEGIN:VEVENT
DTSTART;TZID=Asia/Shanghai:20250427T182000
DTEND;TZID=Asia/Shanghai:20250427T192000
DTSTAMP:20260421T113702
CREATED:20250328T084530Z
LAST-MODIFIED:20250328T084530Z
UID:10021435-1745778000-1745781600@www.dancesoul.com.tw
SUMMARY:Jazz Funk-姿昀
DESCRIPTION:
URL:https://www.dancesoul.com.tw/schedule/jazz-funk-%e5%a7%bf%e6%98%80-10/2025-04-27/
CATEGORIES:Jazz Funk,常態課_一般,課程
END:VEVENT
BEGIN:VEVENT
DTSTART;TZID=Asia/Shanghai:20250420T182000
DTEND;TZID=Asia/Shanghai:20250420T192000
DTSTAMP:20260421T113702
CREATED:20250328T084530Z
LAST-MODIFIED:20250328T084530Z
UID:10021434-1745173200-1745176800@www.dancesoul.com.tw
SUMMARY:Jazz Funk-姿昀
DESCRIPTION:
URL:https://www.dancesoul.com.tw/schedule/jazz-funk-%e5%a7%bf%e6%98%80-10/2025-04-20/
CATEGORIES:Jazz Funk,常態課_一般,課程
END:VEVENT
BEGIN:VEVENT
DTSTART;TZID=Asia/Shanghai:20250413T182000
DTEND;TZID=Asia/Shanghai:20250413T192000
DTSTAMP:20260421T113702
CREATED:20250328T084530Z
LAST-MODIFIED:20250328T084530Z
UID:10021433-1744568400-1744572000@www.dancesoul.com.tw
SUMMARY:Jazz Funk-姿昀
DESCRIPTION:
URL:https://www.dancesoul.com.tw/schedule/jazz-funk-%e5%a7%bf%e6%98%80-10/2025-04-13/
CATEGORIES:Jazz Funk,常態課_一般,課程
END:VEVENT
BEGIN:VEVENT
DTSTART;TZID=Asia/Shanghai:20250406T182000
DTEND;TZID=Asia/Shanghai:20250406T192000
DTSTAMP:20260421T113702
CREATED:20250328T084530Z
LAST-MODIFIED:20250328T084530Z
UID:10021432-1743963600-1743967200@www.dancesoul.com.tw
SUMMARY:Jazz Funk-姿昀
DESCRIPTION:
URL:https://www.dancesoul.com.tw/schedule/jazz-funk-%e5%a7%bf%e6%98%80-10/2025-04-06/
CATEGORIES:Jazz Funk,常態課_一般,課程
END:VEVENT
BEGIN:VEVENT
DTSTART;TZID=Asia/Shanghai:20250330T182000
DTEND;TZID=Asia/Shanghai:20250330T182000
DTSTAMP:20260421T113702
CREATED:20250223T103104Z
LAST-MODIFIED:20250223T103104Z
UID:10021205-1743358800-1743358800@www.dancesoul.com.tw
SUMMARY:Jazz Funk-姿昀
DESCRIPTION:
URL:https://www.dancesoul.com.tw/schedule/jazz-funk-%e5%a7%bf%e6%98%80-9/2025-03-30/
CATEGORIES:Jazz Funk,常態課_一般,課程
END:VEVENT
BEGIN:VEVENT
DTSTART;TZID=Asia/Shanghai:20250323T182000
DTEND;TZID=Asia/Shanghai:20250323T182000
DTSTAMP:20260421T113702
CREATED:20250223T103104Z
LAST-MODIFIED:20250223T103104Z
UID:10021204-1742754000-1742754000@www.dancesoul.com.tw
SUMMARY:Jazz Funk-姿昀
DESCRIPTION:
URL:https://www.dancesoul.com.tw/schedule/jazz-funk-%e5%a7%bf%e6%98%80-9/2025-03-23/
CATEGORIES:Jazz Funk,常態課_一般,課程
END:VEVENT
BEGIN:VEVENT
DTSTART;TZID=Asia/Shanghai:20250316T182000
DTEND;TZID=Asia/Shanghai:20250316T182000
DTSTAMP:20260421T113702
CREATED:20250223T103104Z
LAST-MODIFIED:20250223T103104Z
UID:10021203-1742149200-1742149200@www.dancesoul.com.tw
SUMMARY:Jazz Funk-姿昀
DESCRIPTION:
URL:https://www.dancesoul.com.tw/schedule/jazz-funk-%e5%a7%bf%e6%98%80-9/2025-03-16/
CATEGORIES:Jazz Funk,常態課_一般,課程
END:VEVENT
BEGIN:VEVENT
DTSTART;TZID=Asia/Shanghai:20250309T182000
DTEND;TZID=Asia/Shanghai:20250309T182000
DTSTAMP:20260421T113702
CREATED:20250223T103104Z
LAST-MODIFIED:20250223T103104Z
UID:10021202-1741544400-1741544400@www.dancesoul.com.tw
SUMMARY:Jazz Funk-姿昀
DESCRIPTION:
URL:https://www.dancesoul.com.tw/schedule/jazz-funk-%e5%a7%bf%e6%98%80-9/2025-03-09/
CATEGORIES:Jazz Funk,常態課_一般,課程
END:VEVENT
BEGIN:VEVENT
DTSTART;TZID=Asia/Shanghai:20250302T182000
DTEND;TZID=Asia/Shanghai:20250302T182000
DTSTAMP:20260421T113702
CREATED:20250223T103104Z
LAST-MODIFIED:20250223T103104Z
UID:10021201-1740939600-1740939600@www.dancesoul.com.tw
SUMMARY:Jazz Funk-姿昀
DESCRIPTION:
URL:https://www.dancesoul.com.tw/schedule/jazz-funk-%e5%a7%bf%e6%98%80-9/2025-03-02/
CATEGORIES:Jazz Funk,常態課_一般,課程
END:VEVENT
BEGIN:VEVENT
DTSTART;TZID=Asia/Shanghai:20250223T182000
DTEND;TZID=Asia/Shanghai:20250223T192000
DTSTAMP:20260421T113702
CREATED:20250125T054734Z
LAST-MODIFIED:20250125T054734Z
UID:10020972-1740334800-1740338400@www.dancesoul.com.tw
SUMMARY:Jazz Funk-姿昀
DESCRIPTION:
URL:https://www.dancesoul.com.tw/schedule/jazz-funk-%e5%a7%bf%e6%98%80-8/2025-02-23/
CATEGORIES:Jazz Funk,Jazz Funk 初級,Waacking 初級,常態課_一般,課程
END:VEVENT
BEGIN:VEVENT
DTSTART;TZID=Asia/Shanghai:20250216T182000
DTEND;TZID=Asia/Shanghai:20250216T192000
DTSTAMP:20260421T113702
CREATED:20250125T054734Z
LAST-MODIFIED:20250125T054734Z
UID:10020971-1739730000-1739733600@www.dancesoul.com.tw
SUMMARY:Jazz Funk-姿昀
DESCRIPTION:
URL:https://www.dancesoul.com.tw/schedule/jazz-funk-%e5%a7%bf%e6%98%80-8/2025-02-16/
CATEGORIES:Jazz Funk,Jazz Funk 初級,Waacking 初級,常態課_一般,課程
END:VEVENT
BEGIN:VEVENT
DTSTART;TZID=Asia/Shanghai:20250209T182000
DTEND;TZID=Asia/Shanghai:20250209T192000
DTSTAMP:20260421T113702
CREATED:20250125T054734Z
LAST-MODIFIED:20250125T054734Z
UID:10020970-1739125200-1739128800@www.dancesoul.com.tw
SUMMARY:Jazz Funk-姿昀
DESCRIPTION:
URL:https://www.dancesoul.com.tw/schedule/jazz-funk-%e5%a7%bf%e6%98%80-8/2025-02-09/
CATEGORIES:Jazz Funk,Jazz Funk 初級,Waacking 初級,常態課_一般,課程
END:VEVENT
BEGIN:VEVENT
DTSTART;TZID=Asia/Shanghai:20250202T182000
DTEND;TZID=Asia/Shanghai:20250202T192000
DTSTAMP:20260421T113702
CREATED:20250125T054734Z
LAST-MODIFIED:20250125T054734Z
UID:10020969-1738520400-1738524000@www.dancesoul.com.tw
SUMMARY:Jazz Funk-姿昀
DESCRIPTION:
URL:https://www.dancesoul.com.tw/schedule/jazz-funk-%e5%a7%bf%e6%98%80-8/2025-02-02/
CATEGORIES:Jazz Funk,Jazz Funk 初級,Waacking 初級,常態課_一般,課程
END:VEVENT
BEGIN:VEVENT
DTSTART;TZID=Asia/Shanghai:20250126T182000
DTEND;TZID=Asia/Shanghai:20250126T192000
DTSTAMP:20260421T113702
CREATED:20241230T073837Z
LAST-MODIFIED:20241230T073837Z
UID:10020818-1737915600-1737919200@www.dancesoul.com.tw
SUMMARY:Jazz Funk-姿昀
DESCRIPTION:
URL:https://www.dancesoul.com.tw/schedule/jazz-funk-%e5%a7%bf%e6%98%80-7/2025-01-26/
CATEGORIES:Jazz Funk,Jazz Funk 初級,Waacking 初級,常態課_一般,課程
END:VEVENT
BEGIN:VEVENT
DTSTART;TZID=Asia/Shanghai:20250119T182000
DTEND;TZID=Asia/Shanghai:20250119T192000
DTSTAMP:20260421T113702
CREATED:20241230T073837Z
LAST-MODIFIED:20241230T073837Z
UID:10020817-1737310800-1737314400@www.dancesoul.com.tw
SUMMARY:Jazz Funk-姿昀
DESCRIPTION:
URL:https://www.dancesoul.com.tw/schedule/jazz-funk-%e5%a7%bf%e6%98%80-7/2025-01-19/
CATEGORIES:Jazz Funk,Jazz Funk 初級,Waacking 初級,常態課_一般,課程
END:VEVENT
BEGIN:VEVENT
DTSTART;TZID=Asia/Shanghai:20250112T182000
DTEND;TZID=Asia/Shanghai:20250112T192000
DTSTAMP:20260421T113702
CREATED:20241230T073837Z
LAST-MODIFIED:20241230T073837Z
UID:10020816-1736706000-1736709600@www.dancesoul.com.tw
SUMMARY:Jazz Funk-姿昀
DESCRIPTION:
URL:https://www.dancesoul.com.tw/schedule/jazz-funk-%e5%a7%bf%e6%98%80-7/2025-01-12/
CATEGORIES:Jazz Funk,Jazz Funk 初級,Waacking 初級,常態課_一般,課程
END:VEVENT
BEGIN:VEVENT
DTSTART;TZID=Asia/Shanghai:20250105T182000
DTEND;TZID=Asia/Shanghai:20250105T192000
DTSTAMP:20260421T113702
CREATED:20241230T073837Z
LAST-MODIFIED:20241230T073837Z
UID:10020815-1736101200-1736104800@www.dancesoul.com.tw
SUMMARY:Jazz Funk-姿昀
DESCRIPTION:
URL:https://www.dancesoul.com.tw/schedule/jazz-funk-%e5%a7%bf%e6%98%80-7/2025-01-05/
CATEGORIES:Jazz Funk,Jazz Funk 初級,Waacking 初級,常態課_一般,課程
END:VEVENT
BEGIN:VEVENT
DTSTART;TZID=Asia/Shanghai:20241229T180000
DTEND;TZID=Asia/Shanghai:20241229T190000
DTSTAMP:20260421T113702
CREATED:20241125T104021Z
LAST-MODIFIED:20241125T104021Z
UID:10020663-1735495200-1735498800@www.dancesoul.com.tw
SUMMARY:Jazz Funk-姿昀
DESCRIPTION:
URL:https://www.dancesoul.com.tw/schedule/jazz-funk-%e5%a7%bf%e6%98%80-6/2024-12-29/
CATEGORIES:Jazz Funk,Jazz Funk 初級,Waacking 初級,常態課_一般,課程
END:VEVENT
BEGIN:VEVENT
DTSTART;TZID=Asia/Shanghai:20241222T180000
DTEND;TZID=Asia/Shanghai:20241222T190000
DTSTAMP:20260421T113702
CREATED:20241125T104021Z
LAST-MODIFIED:20241125T104021Z
UID:10020662-1734890400-1734894000@www.dancesoul.com.tw
SUMMARY:Jazz Funk-姿昀
DESCRIPTION:
URL:https://www.dancesoul.com.tw/schedule/jazz-funk-%e5%a7%bf%e6%98%80-6/2024-12-22/
CATEGORIES:Jazz Funk,Jazz Funk 初級,Waacking 初級,常態課_一般,課程
END:VEVENT
BEGIN:VEVENT
DTSTART;TZID=Asia/Shanghai:20241215T180000
DTEND;TZID=Asia/Shanghai:20241215T190000
DTSTAMP:20260421T113702
CREATED:20241125T104021Z
LAST-MODIFIED:20241125T104021Z
UID:10020661-1734285600-1734289200@www.dancesoul.com.tw
SUMMARY:Jazz Funk-姿昀
DESCRIPTION:
URL:https://www.dancesoul.com.tw/schedule/jazz-funk-%e5%a7%bf%e6%98%80-6/2024-12-15/
CATEGORIES:Jazz Funk,Jazz Funk 初級,Waacking 初級,常態課_一般,課程
END:VEVENT
BEGIN:VEVENT
DTSTART;TZID=Asia/Shanghai:20241208T180000
DTEND;TZID=Asia/Shanghai:20241208T190000
DTSTAMP:20260421T113702
CREATED:20241125T104021Z
LAST-MODIFIED:20241125T104021Z
UID:10020660-1733680800-1733684400@www.dancesoul.com.tw
SUMMARY:Jazz Funk-姿昀
DESCRIPTION:
URL:https://www.dancesoul.com.tw/schedule/jazz-funk-%e5%a7%bf%e6%98%80-6/2024-12-08/
CATEGORIES:Jazz Funk,Jazz Funk 初級,Waacking 初級,常態課_一般,課程
END:VEVENT
BEGIN:VEVENT
DTSTART;TZID=Asia/Shanghai:20241201T180000
DTEND;TZID=Asia/Shanghai:20241201T190000
DTSTAMP:20260421T113702
CREATED:20241125T104021Z
LAST-MODIFIED:20241125T104021Z
UID:10020659-1733076000-1733079600@www.dancesoul.com.tw
SUMMARY:Jazz Funk-姿昀
DESCRIPTION:
URL:https://www.dancesoul.com.tw/schedule/jazz-funk-%e5%a7%bf%e6%98%80-6/2024-12-01/
CATEGORIES:Jazz Funk,Jazz Funk 初級,Waacking 初級,常態課_一般,課程
END:VEVENT
BEGIN:VEVENT
DTSTART;TZID=Asia/Shanghai:20241124T180000
DTEND;TZID=Asia/Shanghai:20241124T190000
DTSTAMP:20260421T113702
CREATED:20241028T070828Z
LAST-MODIFIED:20241028T070828Z
UID:10020498-1732471200-1732474800@www.dancesoul.com.tw
SUMMARY:Jazz Funk-姿昀
DESCRIPTION:
URL:https://www.dancesoul.com.tw/schedule/jazz-funk-%e5%a7%bf%e6%98%80-5/2024-11-24/
CATEGORIES:Jazz Funk,常態課_一般,課程
END:VEVENT
BEGIN:VEVENT
DTSTART;TZID=Asia/Shanghai:20241117T180000
DTEND;TZID=Asia/Shanghai:20241117T190000
DTSTAMP:20260421T113702
CREATED:20241028T070828Z
LAST-MODIFIED:20241028T070828Z
UID:10020497-1731866400-1731870000@www.dancesoul.com.tw
SUMMARY:Jazz Funk-姿昀
DESCRIPTION:
URL:https://www.dancesoul.com.tw/schedule/jazz-funk-%e5%a7%bf%e6%98%80-5/2024-11-17/
CATEGORIES:Jazz Funk,常態課_一般,課程
END:VEVENT
BEGIN:VEVENT
DTSTART;TZID=Asia/Shanghai:20241110T180000
DTEND;TZID=Asia/Shanghai:20241110T190000
DTSTAMP:20260421T113702
CREATED:20241028T070828Z
LAST-MODIFIED:20241028T070828Z
UID:10020496-1731261600-1731265200@www.dancesoul.com.tw
SUMMARY:Jazz Funk-姿昀
DESCRIPTION:
URL:https://www.dancesoul.com.tw/schedule/jazz-funk-%e5%a7%bf%e6%98%80-5/2024-11-10/
CATEGORIES:Jazz Funk,常態課_一般,課程
END:VEVENT
BEGIN:VEVENT
DTSTART;TZID=Asia/Shanghai:20241103T180000
DTEND;TZID=Asia/Shanghai:20241103T190000
DTSTAMP:20260421T113702
CREATED:20241028T070828Z
LAST-MODIFIED:20241028T070828Z
UID:10020495-1730656800-1730660400@www.dancesoul.com.tw
SUMMARY:Jazz Funk-姿昀
DESCRIPTION:
URL:https://www.dancesoul.com.tw/schedule/jazz-funk-%e5%a7%bf%e6%98%80-5/2024-11-03/
CATEGORIES:Jazz Funk,常態課_一般,課程
END:VEVENT
END:VCALENDAR