BEGIN:VCALENDAR
VERSION:2.0
PRODID:-//DANCE SOUL 舞魂街舞學校 - ECPv6.15.18//NONSGML v1.0//EN
CALSCALE:GREGORIAN
METHOD:PUBLISH
X-ORIGINAL-URL:https://www.dancesoul.com.tw
X-WR-CALDESC:Events for DANCE SOUL 舞魂街舞學校
REFRESH-INTERVAL;VALUE=DURATION:PT1H
X-Robots-Tag:noindex
X-PUBLISHED-TTL:PT1H
BEGIN:VTIMEZONE
TZID:Asia/Shanghai
BEGIN:STANDARD
TZOFFSETFROM:+0800
TZOFFSETTO:+0800
TZNAME:CST
DTSTART:20220101T000000
END:STANDARD
END:VTIMEZONE
BEGIN:VEVENT
DTSTART;TZID=Asia/Shanghai:20240530T205000
DTEND;TZID=Asia/Shanghai:20240530T215000
DTSTAMP:20260425T232456
CREATED:20240423T094357Z
LAST-MODIFIED:20240423T094357Z
UID:10019563-1717102200-1717105800@www.dancesoul.com.tw
SUMMARY:Jazz Funk-育暉
DESCRIPTION:
URL:https://www.dancesoul.com.tw/schedule/jazz-funk-%e8%82%b2%e6%9a%89-10/2024-05-30/
CATEGORIES:Jazz Funk,常態課_一般,課程
END:VEVENT
BEGIN:VEVENT
DTSTART;TZID=Asia/Shanghai:20240523T205000
DTEND;TZID=Asia/Shanghai:20240523T215000
DTSTAMP:20260425T232456
CREATED:20240423T094357Z
LAST-MODIFIED:20240423T094357Z
UID:10019562-1716497400-1716501000@www.dancesoul.com.tw
SUMMARY:Jazz Funk-育暉
DESCRIPTION:
URL:https://www.dancesoul.com.tw/schedule/jazz-funk-%e8%82%b2%e6%9a%89-10/2024-05-23/
CATEGORIES:Jazz Funk,常態課_一般,課程
END:VEVENT
BEGIN:VEVENT
DTSTART;TZID=Asia/Shanghai:20240516T205000
DTEND;TZID=Asia/Shanghai:20240516T215000
DTSTAMP:20260425T232456
CREATED:20240423T094357Z
LAST-MODIFIED:20240423T094357Z
UID:10019561-1715892600-1715896200@www.dancesoul.com.tw
SUMMARY:Jazz Funk-育暉
DESCRIPTION:
URL:https://www.dancesoul.com.tw/schedule/jazz-funk-%e8%82%b2%e6%9a%89-10/2024-05-16/
CATEGORIES:Jazz Funk,常態課_一般,課程
END:VEVENT
BEGIN:VEVENT
DTSTART;TZID=Asia/Shanghai:20240509T205000
DTEND;TZID=Asia/Shanghai:20240509T215000
DTSTAMP:20260425T232456
CREATED:20240423T094357Z
LAST-MODIFIED:20240423T094357Z
UID:10019560-1715287800-1715291400@www.dancesoul.com.tw
SUMMARY:Jazz Funk-育暉
DESCRIPTION:
URL:https://www.dancesoul.com.tw/schedule/jazz-funk-%e8%82%b2%e6%9a%89-10/2024-05-09/
CATEGORIES:Jazz Funk,常態課_一般,課程
END:VEVENT
BEGIN:VEVENT
DTSTART;TZID=Asia/Shanghai:20240502T205000
DTEND;TZID=Asia/Shanghai:20240502T215000
DTSTAMP:20260425T232456
CREATED:20240423T094357Z
LAST-MODIFIED:20240423T094357Z
UID:10019559-1714683000-1714686600@www.dancesoul.com.tw
SUMMARY:Jazz Funk-育暉
DESCRIPTION:
URL:https://www.dancesoul.com.tw/schedule/jazz-funk-%e8%82%b2%e6%9a%89-10/2024-05-02/
CATEGORIES:Jazz Funk,常態課_一般,課程
END:VEVENT
BEGIN:VEVENT
DTSTART;TZID=Asia/Shanghai:20240425T205000
DTEND;TZID=Asia/Shanghai:20240425T215000
DTSTAMP:20260425T232456
CREATED:20240326T093804Z
LAST-MODIFIED:20240326T093804Z
UID:10019443-1714078200-1714081800@www.dancesoul.com.tw
SUMMARY:Jazz Funk-育暉
DESCRIPTION:
URL:https://www.dancesoul.com.tw/schedule/jazz-funk-%e8%82%b2%e6%9a%89-9/2024-04-25/
CATEGORIES:Jazz Funk,常態課_一般,課程
END:VEVENT
BEGIN:VEVENT
DTSTART;TZID=Asia/Shanghai:20240418T205000
DTEND;TZID=Asia/Shanghai:20240418T215000
DTSTAMP:20260425T232456
CREATED:20240326T093804Z
LAST-MODIFIED:20240326T093804Z
UID:10019442-1713473400-1713477000@www.dancesoul.com.tw
SUMMARY:Jazz Funk-育暉
DESCRIPTION:
URL:https://www.dancesoul.com.tw/schedule/jazz-funk-%e8%82%b2%e6%9a%89-9/2024-04-18/
CATEGORIES:Jazz Funk,常態課_一般,課程
END:VEVENT
BEGIN:VEVENT
DTSTART;TZID=Asia/Shanghai:20240411T205000
DTEND;TZID=Asia/Shanghai:20240411T215000
DTSTAMP:20260425T232456
CREATED:20240326T093804Z
LAST-MODIFIED:20240326T093804Z
UID:10019441-1712868600-1712872200@www.dancesoul.com.tw
SUMMARY:Jazz Funk-育暉
DESCRIPTION:
URL:https://www.dancesoul.com.tw/schedule/jazz-funk-%e8%82%b2%e6%9a%89-9/2024-04-11/
CATEGORIES:Jazz Funk,常態課_一般,課程
END:VEVENT
BEGIN:VEVENT
DTSTART;TZID=Asia/Shanghai:20240404T205000
DTEND;TZID=Asia/Shanghai:20240404T215000
DTSTAMP:20260425T232456
CREATED:20240326T093804Z
LAST-MODIFIED:20240326T093804Z
UID:10019440-1712263800-1712267400@www.dancesoul.com.tw
SUMMARY:Jazz Funk-育暉
DESCRIPTION:
URL:https://www.dancesoul.com.tw/schedule/jazz-funk-%e8%82%b2%e6%9a%89-9/2024-04-04/
CATEGORIES:Jazz Funk,常態課_一般,課程
END:VEVENT
BEGIN:VEVENT
DTSTART;TZID=Asia/Shanghai:20240328T205000
DTEND;TZID=Asia/Shanghai:20240328T215000
DTSTAMP:20260425T232456
CREATED:20240225T083831Z
LAST-MODIFIED:20240225T083831Z
UID:10019321-1711659000-1711662600@www.dancesoul.com.tw
SUMMARY:Jazz Funk-育暉
DESCRIPTION:
URL:https://www.dancesoul.com.tw/schedule/jazz-funk-%e8%82%b2%e6%9a%89-8/2024-03-28/
CATEGORIES:Jazz Funk,常態課_一般,課程
END:VEVENT
BEGIN:VEVENT
DTSTART;TZID=Asia/Shanghai:20240321T205000
DTEND;TZID=Asia/Shanghai:20240321T215000
DTSTAMP:20260425T232456
CREATED:20240225T083831Z
LAST-MODIFIED:20240225T083831Z
UID:10019320-1711054200-1711057800@www.dancesoul.com.tw
SUMMARY:Jazz Funk-育暉
DESCRIPTION:
URL:https://www.dancesoul.com.tw/schedule/jazz-funk-%e8%82%b2%e6%9a%89-8/2024-03-21/
CATEGORIES:Jazz Funk,常態課_一般,課程
END:VEVENT
BEGIN:VEVENT
DTSTART;TZID=Asia/Shanghai:20240314T205000
DTEND;TZID=Asia/Shanghai:20240314T215000
DTSTAMP:20260425T232456
CREATED:20240225T083831Z
LAST-MODIFIED:20240225T083831Z
UID:10019319-1710449400-1710453000@www.dancesoul.com.tw
SUMMARY:Jazz Funk-育暉
DESCRIPTION:
URL:https://www.dancesoul.com.tw/schedule/jazz-funk-%e8%82%b2%e6%9a%89-8/2024-03-14/
CATEGORIES:Jazz Funk,常態課_一般,課程
END:VEVENT
BEGIN:VEVENT
DTSTART;TZID=Asia/Shanghai:20240307T205000
DTEND;TZID=Asia/Shanghai:20240307T215000
DTSTAMP:20260425T232456
CREATED:20240225T083831Z
LAST-MODIFIED:20240225T083831Z
UID:10019318-1709844600-1709848200@www.dancesoul.com.tw
SUMMARY:Jazz Funk-育暉
DESCRIPTION:
URL:https://www.dancesoul.com.tw/schedule/jazz-funk-%e8%82%b2%e6%9a%89-8/2024-03-07/
CATEGORIES:Jazz Funk,常態課_一般,課程
END:VEVENT
BEGIN:VEVENT
DTSTART;TZID=Asia/Shanghai:20240229T205000
DTEND;TZID=Asia/Shanghai:20240229T215000
DTSTAMP:20260425T232456
CREATED:20240129T043129Z
LAST-MODIFIED:20240129T043129Z
UID:10019198-1709239800-1709243400@www.dancesoul.com.tw
SUMMARY:Jazz Funk-育暉
DESCRIPTION:
URL:https://www.dancesoul.com.tw/schedule/jazz-funk-%e8%82%b2%e6%9a%89-7/2024-02-29/
CATEGORIES:Jazz Funk,常態課_一般,課程
END:VEVENT
BEGIN:VEVENT
DTSTART;TZID=Asia/Shanghai:20240222T205000
DTEND;TZID=Asia/Shanghai:20240222T215000
DTSTAMP:20260425T232456
CREATED:20240129T043129Z
LAST-MODIFIED:20240129T043129Z
UID:10019197-1708635000-1708638600@www.dancesoul.com.tw
SUMMARY:Jazz Funk-育暉
DESCRIPTION:
URL:https://www.dancesoul.com.tw/schedule/jazz-funk-%e8%82%b2%e6%9a%89-7/2024-02-22/
CATEGORIES:Jazz Funk,常態課_一般,課程
END:VEVENT
BEGIN:VEVENT
DTSTART;TZID=Asia/Shanghai:20240215T205000
DTEND;TZID=Asia/Shanghai:20240215T215000
DTSTAMP:20260425T232456
CREATED:20240129T043129Z
LAST-MODIFIED:20240129T043129Z
UID:10019196-1708030200-1708033800@www.dancesoul.com.tw
SUMMARY:Jazz Funk-育暉
DESCRIPTION:
URL:https://www.dancesoul.com.tw/schedule/jazz-funk-%e8%82%b2%e6%9a%89-7/2024-02-15/
CATEGORIES:Jazz Funk,常態課_一般,課程
END:VEVENT
BEGIN:VEVENT
DTSTART;TZID=Asia/Shanghai:20240201T205000
DTEND;TZID=Asia/Shanghai:20240201T215000
DTSTAMP:20260425T232456
CREATED:20240129T043047Z
LAST-MODIFIED:20240129T043047Z
UID:10019195-1706820600-1706824200@www.dancesoul.com.tw
SUMMARY:Jazz Funk-育暉
DESCRIPTION:
URL:https://www.dancesoul.com.tw/schedule/jazz-funk-%e8%82%b2%e6%9a%89-6/
CATEGORIES:Jazz Funk,常態課_一般,課程
END:VEVENT
BEGIN:VEVENT
DTSTART;TZID=Asia/Shanghai:20240125T205000
DTEND;TZID=Asia/Shanghai:20240125T215000
DTSTAMP:20260425T232456
CREATED:20231228T094059Z
LAST-MODIFIED:20231228T094059Z
UID:10018959-1706215800-1706219400@www.dancesoul.com.tw
SUMMARY:Jazz Funk-育暉
DESCRIPTION:
URL:https://www.dancesoul.com.tw/schedule/jazz-funk-%e8%82%b2%e6%9a%89-5/2024-01-25/
CATEGORIES:Jazz Funk,常態課_一般,課程
END:VEVENT
BEGIN:VEVENT
DTSTART;TZID=Asia/Shanghai:20240118T205000
DTEND;TZID=Asia/Shanghai:20240118T215000
DTSTAMP:20260425T232456
CREATED:20231228T094059Z
LAST-MODIFIED:20231228T094059Z
UID:10018958-1705611000-1705614600@www.dancesoul.com.tw
SUMMARY:Jazz Funk-育暉
DESCRIPTION:
URL:https://www.dancesoul.com.tw/schedule/jazz-funk-%e8%82%b2%e6%9a%89-5/2024-01-18/
CATEGORIES:Jazz Funk,常態課_一般,課程
END:VEVENT
BEGIN:VEVENT
DTSTART;TZID=Asia/Shanghai:20240111T205000
DTEND;TZID=Asia/Shanghai:20240111T215000
DTSTAMP:20260425T232456
CREATED:20231228T094059Z
LAST-MODIFIED:20231228T094059Z
UID:10018957-1705006200-1705009800@www.dancesoul.com.tw
SUMMARY:Jazz Funk-育暉
DESCRIPTION:
URL:https://www.dancesoul.com.tw/schedule/jazz-funk-%e8%82%b2%e6%9a%89-5/2024-01-11/
CATEGORIES:Jazz Funk,常態課_一般,課程
END:VEVENT
BEGIN:VEVENT
DTSTART;TZID=Asia/Shanghai:20240104T205000
DTEND;TZID=Asia/Shanghai:20240104T215000
DTSTAMP:20260425T232456
CREATED:20231228T094059Z
LAST-MODIFIED:20231228T094059Z
UID:10018956-1704401400-1704405000@www.dancesoul.com.tw
SUMMARY:Jazz Funk-育暉
DESCRIPTION:
URL:https://www.dancesoul.com.tw/schedule/jazz-funk-%e8%82%b2%e6%9a%89-5/2024-01-04/
CATEGORIES:Jazz Funk,常態課_一般,課程
END:VEVENT
BEGIN:VEVENT
DTSTART;TZID=Asia/Shanghai:20231228T205000
DTEND;TZID=Asia/Shanghai:20231228T215000
DTSTAMP:20260425T232456
CREATED:20231125T090111Z
LAST-MODIFIED:20231125T090111Z
UID:10018715-1703796600-1703800200@www.dancesoul.com.tw
SUMMARY:Jazz Funk-育暉
DESCRIPTION:
URL:https://www.dancesoul.com.tw/schedule/jazz-funk-%e8%82%b2%e6%9a%89-4/2023-12-28/
CATEGORIES:Jazz Funk,常態課_一般,課程
END:VEVENT
BEGIN:VEVENT
DTSTART;TZID=Asia/Shanghai:20231221T205000
DTEND;TZID=Asia/Shanghai:20231221T215000
DTSTAMP:20260425T232456
CREATED:20231125T090111Z
LAST-MODIFIED:20231125T090111Z
UID:10018714-1703191800-1703195400@www.dancesoul.com.tw
SUMMARY:Jazz Funk-育暉
DESCRIPTION:
URL:https://www.dancesoul.com.tw/schedule/jazz-funk-%e8%82%b2%e6%9a%89-4/2023-12-21/
CATEGORIES:Jazz Funk,常態課_一般,課程
END:VEVENT
BEGIN:VEVENT
DTSTART;TZID=Asia/Shanghai:20231214T205000
DTEND;TZID=Asia/Shanghai:20231214T215000
DTSTAMP:20260425T232456
CREATED:20231125T090111Z
LAST-MODIFIED:20231125T090111Z
UID:10018713-1702587000-1702590600@www.dancesoul.com.tw
SUMMARY:Jazz Funk-育暉
DESCRIPTION:
URL:https://www.dancesoul.com.tw/schedule/jazz-funk-%e8%82%b2%e6%9a%89-4/2023-12-14/
CATEGORIES:Jazz Funk,常態課_一般,課程
END:VEVENT
BEGIN:VEVENT
DTSTART;TZID=Asia/Shanghai:20231207T205000
DTEND;TZID=Asia/Shanghai:20231207T215000
DTSTAMP:20260425T232456
CREATED:20231125T090111Z
LAST-MODIFIED:20231125T090111Z
UID:10018712-1701982200-1701985800@www.dancesoul.com.tw
SUMMARY:Jazz Funk-育暉
DESCRIPTION:
URL:https://www.dancesoul.com.tw/schedule/jazz-funk-%e8%82%b2%e6%9a%89-4/2023-12-07/
CATEGORIES:Jazz Funk,常態課_一般,課程
END:VEVENT
BEGIN:VEVENT
DTSTART;TZID=Asia/Shanghai:20231130T205000
DTEND;TZID=Asia/Shanghai:20231130T215000
DTSTAMP:20260425T232456
CREATED:20231024T090021Z
LAST-MODIFIED:20231024T090021Z
UID:10018537-1701377400-1701381000@www.dancesoul.com.tw
SUMMARY:Jazz Funk-育暉
DESCRIPTION:
URL:https://www.dancesoul.com.tw/schedule/jazz-funk-%e8%82%b2%e6%9a%89-3/2023-11-30/
CATEGORIES:Jazz Funk,常態課_一般,課程
END:VEVENT
BEGIN:VEVENT
DTSTART;TZID=Asia/Shanghai:20231123T205000
DTEND;TZID=Asia/Shanghai:20231123T215000
DTSTAMP:20260425T232456
CREATED:20231024T090021Z
LAST-MODIFIED:20231024T090021Z
UID:10018536-1700772600-1700776200@www.dancesoul.com.tw
SUMMARY:Jazz Funk-育暉
DESCRIPTION:
URL:https://www.dancesoul.com.tw/schedule/jazz-funk-%e8%82%b2%e6%9a%89-3/2023-11-23/
CATEGORIES:Jazz Funk,常態課_一般,課程
END:VEVENT
BEGIN:VEVENT
DTSTART;TZID=Asia/Shanghai:20231116T205000
DTEND;TZID=Asia/Shanghai:20231116T215000
DTSTAMP:20260425T232456
CREATED:20231024T090021Z
LAST-MODIFIED:20231024T090021Z
UID:10018535-1700167800-1700171400@www.dancesoul.com.tw
SUMMARY:Jazz Funk-育暉
DESCRIPTION:
URL:https://www.dancesoul.com.tw/schedule/jazz-funk-%e8%82%b2%e6%9a%89-3/2023-11-16/
CATEGORIES:Jazz Funk,常態課_一般,課程
END:VEVENT
BEGIN:VEVENT
DTSTART;TZID=Asia/Shanghai:20231109T205000
DTEND;TZID=Asia/Shanghai:20231109T215000
DTSTAMP:20260425T232456
CREATED:20231024T090021Z
LAST-MODIFIED:20231024T090021Z
UID:10018534-1699563000-1699566600@www.dancesoul.com.tw
SUMMARY:Jazz Funk-育暉
DESCRIPTION:
URL:https://www.dancesoul.com.tw/schedule/jazz-funk-%e8%82%b2%e6%9a%89-3/2023-11-09/
CATEGORIES:Jazz Funk,常態課_一般,課程
END:VEVENT
BEGIN:VEVENT
DTSTART;TZID=Asia/Shanghai:20231102T205000
DTEND;TZID=Asia/Shanghai:20231102T215000
DTSTAMP:20260425T232456
CREATED:20231024T090021Z
LAST-MODIFIED:20231024T090021Z
UID:10018533-1698958200-1698961800@www.dancesoul.com.tw
SUMMARY:Jazz Funk-育暉
DESCRIPTION:
URL:https://www.dancesoul.com.tw/schedule/jazz-funk-%e8%82%b2%e6%9a%89-3/2023-11-02/
CATEGORIES:Jazz Funk,常態課_一般,課程
END:VEVENT
END:VCALENDAR