BEGIN:VCALENDAR
VERSION:2.0
PRODID:-//DANCE SOUL 舞魂街舞學校 - ECPv6.15.18//NONSGML v1.0//EN
CALSCALE:GREGORIAN
METHOD:PUBLISH
X-ORIGINAL-URL:https://www.dancesoul.com.tw
X-WR-CALDESC:Events for DANCE SOUL 舞魂街舞學校
REFRESH-INTERVAL;VALUE=DURATION:PT1H
X-Robots-Tag:noindex
X-PUBLISHED-TTL:PT1H
BEGIN:VTIMEZONE
TZID:Asia/Shanghai
BEGIN:STANDARD
TZOFFSETFROM:+0800
TZOFFSETTO:+0800
TZNAME:CST
DTSTART:20230101T000000
END:STANDARD
END:VTIMEZONE
BEGIN:VEVENT
DTSTART;TZID=Asia/Shanghai:20250627T203000
DTEND;TZID=Asia/Shanghai:20250627T213000
DTSTAMP:20260421T061027
CREATED:20250417T095943Z
LAST-MODIFIED:20250515T045301Z
UID:10021728-1751056200-1751059800@www.dancesoul.com.tw
SUMMARY:Jazz Funk-鈴鐺
DESCRIPTION:
URL:https://www.dancesoul.com.tw/schedule/jazz-funk-%e9%88%b4%e9%90%ba-29/2025-06-27/
CATEGORIES:Jazz Funk,常態課_一般,課程
END:VEVENT
BEGIN:VEVENT
DTSTART;TZID=Asia/Shanghai:20250620T203000
DTEND;TZID=Asia/Shanghai:20250620T213000
DTSTAMP:20260421T061027
CREATED:20250417T095943Z
LAST-MODIFIED:20250515T045301Z
UID:10021727-1750451400-1750455000@www.dancesoul.com.tw
SUMMARY:Jazz Funk-鈴鐺
DESCRIPTION:
URL:https://www.dancesoul.com.tw/schedule/jazz-funk-%e9%88%b4%e9%90%ba-29/2025-06-20/
CATEGORIES:Jazz Funk,常態課_一般,課程
END:VEVENT
BEGIN:VEVENT
DTSTART;TZID=Asia/Shanghai:20250613T203000
DTEND;TZID=Asia/Shanghai:20250613T213000
DTSTAMP:20260421T061027
CREATED:20250417T095943Z
LAST-MODIFIED:20250515T045301Z
UID:10021726-1749846600-1749850200@www.dancesoul.com.tw
SUMMARY:Jazz Funk-鈴鐺
DESCRIPTION:
URL:https://www.dancesoul.com.tw/schedule/jazz-funk-%e9%88%b4%e9%90%ba-29/2025-06-13/
CATEGORIES:Jazz Funk,常態課_一般,課程
END:VEVENT
BEGIN:VEVENT
DTSTART;TZID=Asia/Shanghai:20250606T203000
DTEND;TZID=Asia/Shanghai:20250606T213000
DTSTAMP:20260421T061027
CREATED:20250417T095943Z
LAST-MODIFIED:20250515T045301Z
UID:10021725-1749241800-1749245400@www.dancesoul.com.tw
SUMMARY:Jazz Funk-鈴鐺
DESCRIPTION:
URL:https://www.dancesoul.com.tw/schedule/jazz-funk-%e9%88%b4%e9%90%ba-29/2025-06-06/
CATEGORIES:Jazz Funk,常態課_一般,課程
END:VEVENT
BEGIN:VEVENT
DTSTART;TZID=Asia/Shanghai:20250530T203000
DTEND;TZID=Asia/Shanghai:20250530T213000
DTSTAMP:20260421T061027
CREATED:20250417T095943Z
LAST-MODIFIED:20250515T045301Z
UID:10021570-1748637000-1748640600@www.dancesoul.com.tw
SUMMARY:Jazz Funk-鈴鐺
DESCRIPTION:
URL:https://www.dancesoul.com.tw/schedule/jazz-funk-%e9%88%b4%e9%90%ba-29/2025-05-30/
CATEGORIES:Jazz Funk,常態課_一般,課程
END:VEVENT
BEGIN:VEVENT
DTSTART;TZID=Asia/Shanghai:20250523T203000
DTEND;TZID=Asia/Shanghai:20250523T213000
DTSTAMP:20260421T061027
CREATED:20250417T095943Z
LAST-MODIFIED:20250515T045301Z
UID:10021569-1748032200-1748035800@www.dancesoul.com.tw
SUMMARY:Jazz Funk-鈴鐺
DESCRIPTION:
URL:https://www.dancesoul.com.tw/schedule/jazz-funk-%e9%88%b4%e9%90%ba-29/2025-05-23/
CATEGORIES:Jazz Funk,常態課_一般,課程
END:VEVENT
BEGIN:VEVENT
DTSTART;TZID=Asia/Shanghai:20250509T203000
DTEND;TZID=Asia/Shanghai:20250509T213000
DTSTAMP:20260421T061027
CREATED:20250417T095943Z
LAST-MODIFIED:20250515T045301Z
UID:10021567-1746822600-1746826200@www.dancesoul.com.tw
SUMMARY:Jazz Funk-鈴鐺
DESCRIPTION:
URL:https://www.dancesoul.com.tw/schedule/jazz-funk-%e9%88%b4%e9%90%ba-29/2025-05-09/
CATEGORIES:Jazz Funk,常態課_一般,課程
END:VEVENT
BEGIN:VEVENT
DTSTART;TZID=Asia/Shanghai:20250502T203000
DTEND;TZID=Asia/Shanghai:20250502T213000
DTSTAMP:20260421T061027
CREATED:20250417T095943Z
LAST-MODIFIED:20250515T045301Z
UID:10021566-1746217800-1746221400@www.dancesoul.com.tw
SUMMARY:Jazz Funk-鈴鐺
DESCRIPTION:
URL:https://www.dancesoul.com.tw/schedule/jazz-funk-%e9%88%b4%e9%90%ba-29/2025-05-02/
CATEGORIES:Jazz Funk,常態課_一般,課程
END:VEVENT
BEGIN:VEVENT
DTSTART;TZID=Asia/Shanghai:20250425T203000
DTEND;TZID=Asia/Shanghai:20250425T213000
DTSTAMP:20260421T061027
CREATED:20250328T081148Z
LAST-MODIFIED:20250328T081148Z
UID:10021384-1745613000-1745616600@www.dancesoul.com.tw
SUMMARY:Jazz Funk-鈴鐺
DESCRIPTION:
URL:https://www.dancesoul.com.tw/schedule/jazz-funk-%e9%88%b4%e9%90%ba-28/2025-04-25/
CATEGORIES:Jazz Funk,常態課_一般,課程
END:VEVENT
BEGIN:VEVENT
DTSTART;TZID=Asia/Shanghai:20250418T203000
DTEND;TZID=Asia/Shanghai:20250418T213000
DTSTAMP:20260421T061027
CREATED:20250328T081148Z
LAST-MODIFIED:20250328T081148Z
UID:10021383-1745008200-1745011800@www.dancesoul.com.tw
SUMMARY:Jazz Funk-鈴鐺
DESCRIPTION:
URL:https://www.dancesoul.com.tw/schedule/jazz-funk-%e9%88%b4%e9%90%ba-28/2025-04-18/
CATEGORIES:Jazz Funk,常態課_一般,課程
END:VEVENT
BEGIN:VEVENT
DTSTART;TZID=Asia/Shanghai:20250411T203000
DTEND;TZID=Asia/Shanghai:20250411T213000
DTSTAMP:20260421T061027
CREATED:20250328T081148Z
LAST-MODIFIED:20250328T081148Z
UID:10021382-1744403400-1744407000@www.dancesoul.com.tw
SUMMARY:Jazz Funk-鈴鐺
DESCRIPTION:
URL:https://www.dancesoul.com.tw/schedule/jazz-funk-%e9%88%b4%e9%90%ba-28/2025-04-11/
CATEGORIES:Jazz Funk,常態課_一般,課程
END:VEVENT
BEGIN:VEVENT
DTSTART;TZID=Asia/Shanghai:20250404T203000
DTEND;TZID=Asia/Shanghai:20250404T213000
DTSTAMP:20260421T061027
CREATED:20250328T081148Z
LAST-MODIFIED:20250328T081148Z
UID:10021381-1743798600-1743802200@www.dancesoul.com.tw
SUMMARY:Jazz Funk-鈴鐺
DESCRIPTION:
URL:https://www.dancesoul.com.tw/schedule/jazz-funk-%e9%88%b4%e9%90%ba-28/2025-04-04/
CATEGORIES:Jazz Funk,常態課_一般,課程
END:VEVENT
BEGIN:VEVENT
DTSTART;TZID=Asia/Shanghai:20250328T203000
DTEND;TZID=Asia/Shanghai:20250328T213000
DTSTAMP:20260421T061027
CREATED:20250223T113931Z
LAST-MODIFIED:20250223T113931Z
UID:10021285-1743193800-1743197400@www.dancesoul.com.tw
SUMMARY:Jazz Funk-鈴鐺
DESCRIPTION:
URL:https://www.dancesoul.com.tw/schedule/jazz-funk-%e9%88%b4%e9%90%ba-27/2025-03-28/
CATEGORIES:Jazz Funk,常態課_一般,課程
END:VEVENT
BEGIN:VEVENT
DTSTART;TZID=Asia/Shanghai:20250321T203000
DTEND;TZID=Asia/Shanghai:20250321T213000
DTSTAMP:20260421T061027
CREATED:20250223T113931Z
LAST-MODIFIED:20250223T113931Z
UID:10021284-1742589000-1742592600@www.dancesoul.com.tw
SUMMARY:Jazz Funk-鈴鐺
DESCRIPTION:
URL:https://www.dancesoul.com.tw/schedule/jazz-funk-%e9%88%b4%e9%90%ba-27/2025-03-21/
CATEGORIES:Jazz Funk,常態課_一般,課程
END:VEVENT
BEGIN:VEVENT
DTSTART;TZID=Asia/Shanghai:20250314T203000
DTEND;TZID=Asia/Shanghai:20250314T213000
DTSTAMP:20260421T061027
CREATED:20250223T113931Z
LAST-MODIFIED:20250223T113931Z
UID:10021283-1741984200-1741987800@www.dancesoul.com.tw
SUMMARY:Jazz Funk-鈴鐺
DESCRIPTION:
URL:https://www.dancesoul.com.tw/schedule/jazz-funk-%e9%88%b4%e9%90%ba-27/2025-03-14/
CATEGORIES:Jazz Funk,常態課_一般,課程
END:VEVENT
BEGIN:VEVENT
DTSTART;TZID=Asia/Shanghai:20250307T203000
DTEND;TZID=Asia/Shanghai:20250307T213000
DTSTAMP:20260421T061027
CREATED:20250223T113931Z
LAST-MODIFIED:20250223T113931Z
UID:10021282-1741379400-1741383000@www.dancesoul.com.tw
SUMMARY:Jazz Funk-鈴鐺
DESCRIPTION:
URL:https://www.dancesoul.com.tw/schedule/jazz-funk-%e9%88%b4%e9%90%ba-27/2025-03-07/
CATEGORIES:Jazz Funk,常態課_一般,課程
END:VEVENT
BEGIN:VEVENT
DTSTART;TZID=Asia/Shanghai:20250124T203000
DTEND;TZID=Asia/Shanghai:20250124T213000
DTSTAMP:20260421T061027
CREATED:20241230T083806Z
LAST-MODIFIED:20241230T083806Z
UID:10020930-1737750600-1737754200@www.dancesoul.com.tw
SUMMARY:Jazz Funk-鈴鐺
DESCRIPTION:
URL:https://www.dancesoul.com.tw/schedule/jazz-funk-%e9%88%b4%e9%90%ba-26/2025-01-24/
CATEGORIES:Jazz Funk,Jazz Funk 初級,Waacking 初級,常態課_一般,課程
END:VEVENT
BEGIN:VEVENT
DTSTART;TZID=Asia/Shanghai:20250117T203000
DTEND;TZID=Asia/Shanghai:20250117T213000
DTSTAMP:20260421T061027
CREATED:20241230T083806Z
LAST-MODIFIED:20241230T083806Z
UID:10020929-1737145800-1737149400@www.dancesoul.com.tw
SUMMARY:Jazz Funk-鈴鐺
DESCRIPTION:
URL:https://www.dancesoul.com.tw/schedule/jazz-funk-%e9%88%b4%e9%90%ba-26/2025-01-17/
CATEGORIES:Jazz Funk,Jazz Funk 初級,Waacking 初級,常態課_一般,課程
END:VEVENT
BEGIN:VEVENT
DTSTART;TZID=Asia/Shanghai:20250110T203000
DTEND;TZID=Asia/Shanghai:20250110T213000
DTSTAMP:20260421T061027
CREATED:20241230T083806Z
LAST-MODIFIED:20241230T083806Z
UID:10020928-1736541000-1736544600@www.dancesoul.com.tw
SUMMARY:Jazz Funk-鈴鐺
DESCRIPTION:
URL:https://www.dancesoul.com.tw/schedule/jazz-funk-%e9%88%b4%e9%90%ba-26/2025-01-10/
CATEGORIES:Jazz Funk,Jazz Funk 初級,Waacking 初級,常態課_一般,課程
END:VEVENT
BEGIN:VEVENT
DTSTART;TZID=Asia/Shanghai:20250103T203000
DTEND;TZID=Asia/Shanghai:20250103T213000
DTSTAMP:20260421T061027
CREATED:20241230T083806Z
LAST-MODIFIED:20241230T083806Z
UID:10020927-1735936200-1735939800@www.dancesoul.com.tw
SUMMARY:Jazz Funk-鈴鐺
DESCRIPTION:
URL:https://www.dancesoul.com.tw/schedule/jazz-funk-%e9%88%b4%e9%90%ba-26/2025-01-03/
CATEGORIES:Jazz Funk,Jazz Funk 初級,Waacking 初級,常態課_一般,課程
END:VEVENT
BEGIN:VEVENT
DTSTART;TZID=Asia/Shanghai:20241227T205000
DTEND;TZID=Asia/Shanghai:20241227T215000
DTSTAMP:20260421T061027
CREATED:20241125T111620Z
LAST-MODIFIED:20241125T111620Z
UID:10020758-1735332600-1735336200@www.dancesoul.com.tw
SUMMARY:Jazz Funk-鈴鐺
DESCRIPTION:
URL:https://www.dancesoul.com.tw/schedule/jazz-funk-%e9%88%b4%e9%90%ba-25/2024-12-27/
CATEGORIES:Jazz Funk,Jazz Funk 初級,Waacking 初級,常態課_一般,課程
END:VEVENT
BEGIN:VEVENT
DTSTART;TZID=Asia/Shanghai:20241220T205000
DTEND;TZID=Asia/Shanghai:20241220T215000
DTSTAMP:20260421T061027
CREATED:20241125T111620Z
LAST-MODIFIED:20241125T111620Z
UID:10020757-1734727800-1734731400@www.dancesoul.com.tw
SUMMARY:Jazz Funk-鈴鐺
DESCRIPTION:
URL:https://www.dancesoul.com.tw/schedule/jazz-funk-%e9%88%b4%e9%90%ba-25/2024-12-20/
CATEGORIES:Jazz Funk,Jazz Funk 初級,Waacking 初級,常態課_一般,課程
END:VEVENT
BEGIN:VEVENT
DTSTART;TZID=Asia/Shanghai:20241213T205000
DTEND;TZID=Asia/Shanghai:20241213T215000
DTSTAMP:20260421T061027
CREATED:20241125T111620Z
LAST-MODIFIED:20241125T111620Z
UID:10020756-1734123000-1734126600@www.dancesoul.com.tw
SUMMARY:Jazz Funk-鈴鐺
DESCRIPTION:
URL:https://www.dancesoul.com.tw/schedule/jazz-funk-%e9%88%b4%e9%90%ba-25/2024-12-13/
CATEGORIES:Jazz Funk,Jazz Funk 初級,Waacking 初級,常態課_一般,課程
END:VEVENT
BEGIN:VEVENT
DTSTART;TZID=Asia/Shanghai:20241206T205000
DTEND;TZID=Asia/Shanghai:20241206T215000
DTSTAMP:20260421T061027
CREATED:20241125T111620Z
LAST-MODIFIED:20241125T111620Z
UID:10020755-1733518200-1733521800@www.dancesoul.com.tw
SUMMARY:Jazz Funk-鈴鐺
DESCRIPTION:
URL:https://www.dancesoul.com.tw/schedule/jazz-funk-%e9%88%b4%e9%90%ba-25/2024-12-06/
CATEGORIES:Jazz Funk,Jazz Funk 初級,Waacking 初級,常態課_一般,課程
END:VEVENT
BEGIN:VEVENT
DTSTART;TZID=Asia/Shanghai:20241129T205000
DTEND;TZID=Asia/Shanghai:20241129T215000
DTSTAMP:20260421T061027
CREATED:20241028T082305Z
LAST-MODIFIED:20241028T082305Z
UID:10020590-1732913400-1732917000@www.dancesoul.com.tw
SUMMARY:Jazz Funk-鈴鐺
DESCRIPTION:
URL:https://www.dancesoul.com.tw/schedule/jazz-funk-%e9%88%b4%e9%90%ba-24/2024-11-29/
CATEGORIES:Jazz Funk,常態課_一般,課程
END:VEVENT
BEGIN:VEVENT
DTSTART;TZID=Asia/Shanghai:20241122T205000
DTEND;TZID=Asia/Shanghai:20241122T215000
DTSTAMP:20260421T061027
CREATED:20241028T082305Z
LAST-MODIFIED:20241028T082305Z
UID:10020589-1732308600-1732312200@www.dancesoul.com.tw
SUMMARY:Jazz Funk-鈴鐺
DESCRIPTION:
URL:https://www.dancesoul.com.tw/schedule/jazz-funk-%e9%88%b4%e9%90%ba-24/2024-11-22/
CATEGORIES:Jazz Funk,常態課_一般,課程
END:VEVENT
BEGIN:VEVENT
DTSTART;TZID=Asia/Shanghai:20241115T205000
DTEND;TZID=Asia/Shanghai:20241115T215000
DTSTAMP:20260421T061027
CREATED:20241028T082305Z
LAST-MODIFIED:20241028T082305Z
UID:10020588-1731703800-1731707400@www.dancesoul.com.tw
SUMMARY:Jazz Funk-鈴鐺
DESCRIPTION:
URL:https://www.dancesoul.com.tw/schedule/jazz-funk-%e9%88%b4%e9%90%ba-24/2024-11-15/
CATEGORIES:Jazz Funk,常態課_一般,課程
END:VEVENT
BEGIN:VEVENT
DTSTART;TZID=Asia/Shanghai:20241108T205000
DTEND;TZID=Asia/Shanghai:20241108T215000
DTSTAMP:20260421T061027
CREATED:20241028T082305Z
LAST-MODIFIED:20241028T082305Z
UID:10020587-1731099000-1731102600@www.dancesoul.com.tw
SUMMARY:Jazz Funk-鈴鐺
DESCRIPTION:
URL:https://www.dancesoul.com.tw/schedule/jazz-funk-%e9%88%b4%e9%90%ba-24/2024-11-08/
CATEGORIES:Jazz Funk,常態課_一般,課程
END:VEVENT
BEGIN:VEVENT
DTSTART;TZID=Asia/Shanghai:20241025T205000
DTEND;TZID=Asia/Shanghai:20241025T215000
DTSTAMP:20260421T061027
CREATED:20240924T093551Z
LAST-MODIFIED:20240924T093551Z
UID:10020421-1729889400-1729893000@www.dancesoul.com.tw
SUMMARY:Jazz Funk-鈴鐺
DESCRIPTION:
URL:https://www.dancesoul.com.tw/schedule/jazz-funk-%e9%88%b4%e9%90%ba-23/2024-10-25/
CATEGORIES:Jazz Funk,常態課_一般,課程
END:VEVENT
BEGIN:VEVENT
DTSTART;TZID=Asia/Shanghai:20241018T205000
DTEND;TZID=Asia/Shanghai:20241018T215000
DTSTAMP:20260421T061027
CREATED:20240924T093551Z
LAST-MODIFIED:20240924T093551Z
UID:10020420-1729284600-1729288200@www.dancesoul.com.tw
SUMMARY:Jazz Funk-鈴鐺
DESCRIPTION:
URL:https://www.dancesoul.com.tw/schedule/jazz-funk-%e9%88%b4%e9%90%ba-23/2024-10-18/
CATEGORIES:Jazz Funk,常態課_一般,課程
END:VEVENT
END:VCALENDAR