BEGIN:VCALENDAR
VERSION:2.0
PRODID:-//DANCE SOUL 舞魂街舞學校 - ECPv6.15.18//NONSGML v1.0//EN
CALSCALE:GREGORIAN
METHOD:PUBLISH
X-WR-CALNAME:DANCE SOUL 舞魂街舞學校
X-ORIGINAL-URL:https://www.dancesoul.com.tw
X-WR-CALDESC:Events for DANCE SOUL 舞魂街舞學校
REFRESH-INTERVAL;VALUE=DURATION:PT1H
X-Robots-Tag:noindex
X-PUBLISHED-TTL:PT1H
BEGIN:VTIMEZONE
TZID:Asia/Shanghai
BEGIN:STANDARD
TZOFFSETFROM:+0800
TZOFFSETTO:+0800
TZNAME:CST
DTSTART:20220101T000000
END:STANDARD
END:VTIMEZONE
BEGIN:VEVENT
DTSTART;TZID=Asia/Shanghai:20240823T161000
DTEND;TZID=Asia/Shanghai:20240823T171000
DTSTAMP:20260423T092645
CREATED:20240726T121428Z
LAST-MODIFIED:20240726T121428Z
UID:10020096-1724429400-1724433000@www.dancesoul.com.tw
SUMMARY:Jazz Funk(初)-Larry
DESCRIPTION:
URL:https://www.dancesoul.com.tw/schedule/jazz-funk%e5%88%9d-larry-4/2024-08-23/
CATEGORIES:Jazz Funk 初級,常態課_初級,課程
END:VEVENT
BEGIN:VEVENT
DTSTART;TZID=Asia/Shanghai:20240816T161000
DTEND;TZID=Asia/Shanghai:20240816T171000
DTSTAMP:20260423T092645
CREATED:20240726T121428Z
LAST-MODIFIED:20240726T121428Z
UID:10020095-1723824600-1723828200@www.dancesoul.com.tw
SUMMARY:Jazz Funk(初)-Larry
DESCRIPTION:
URL:https://www.dancesoul.com.tw/schedule/jazz-funk%e5%88%9d-larry-4/2024-08-16/
CATEGORIES:Jazz Funk 初級,常態課_初級,課程
END:VEVENT
BEGIN:VEVENT
DTSTART;TZID=Asia/Shanghai:20240809T161000
DTEND;TZID=Asia/Shanghai:20240809T171000
DTSTAMP:20260423T092645
CREATED:20240726T121428Z
LAST-MODIFIED:20240726T121428Z
UID:10020094-1723219800-1723223400@www.dancesoul.com.tw
SUMMARY:Jazz Funk(初)-Larry
DESCRIPTION:
URL:https://www.dancesoul.com.tw/schedule/jazz-funk%e5%88%9d-larry-4/2024-08-09/
CATEGORIES:Jazz Funk 初級,常態課_初級,課程
END:VEVENT
BEGIN:VEVENT
DTSTART;TZID=Asia/Shanghai:20240802T161000
DTEND;TZID=Asia/Shanghai:20240802T171000
DTSTAMP:20260423T092645
CREATED:20240726T121428Z
LAST-MODIFIED:20240726T121428Z
UID:10020093-1722615000-1722618600@www.dancesoul.com.tw
SUMMARY:Jazz Funk(初)-Larry
DESCRIPTION:
URL:https://www.dancesoul.com.tw/schedule/jazz-funk%e5%88%9d-larry-4/2024-08-02/
CATEGORIES:Jazz Funk 初級,常態課_初級,課程
END:VEVENT
BEGIN:VEVENT
DTSTART;TZID=Asia/Shanghai:20240726T161000
DTEND;TZID=Asia/Shanghai:20240726T171000
DTSTAMP:20260423T092645
CREATED:20240624T093755Z
LAST-MODIFIED:20240624T093755Z
UID:10019893-1722010200-1722013800@www.dancesoul.com.tw
SUMMARY:Jazz Funk(初)-Larry
DESCRIPTION:
URL:https://www.dancesoul.com.tw/schedule/jazz-funk%e5%88%9d-larry-3/2024-07-26/
CATEGORIES:Jazz Funk 初級,常態課_初級,課程
END:VEVENT
BEGIN:VEVENT
DTSTART;TZID=Asia/Shanghai:20240719T161000
DTEND;TZID=Asia/Shanghai:20240719T171000
DTSTAMP:20260423T092645
CREATED:20240624T093755Z
LAST-MODIFIED:20240624T093755Z
UID:10019892-1721405400-1721409000@www.dancesoul.com.tw
SUMMARY:Jazz Funk(初)-Larry
DESCRIPTION:
URL:https://www.dancesoul.com.tw/schedule/jazz-funk%e5%88%9d-larry-3/2024-07-19/
CATEGORIES:Jazz Funk 初級,常態課_初級,課程
END:VEVENT
BEGIN:VEVENT
DTSTART;TZID=Asia/Shanghai:20240712T161000
DTEND;TZID=Asia/Shanghai:20240712T171000
DTSTAMP:20260423T092645
CREATED:20240624T093755Z
LAST-MODIFIED:20240624T093755Z
UID:10019891-1720800600-1720804200@www.dancesoul.com.tw
SUMMARY:Jazz Funk(初)-Larry
DESCRIPTION:
URL:https://www.dancesoul.com.tw/schedule/jazz-funk%e5%88%9d-larry-3/2024-07-12/
CATEGORIES:Jazz Funk 初級,常態課_初級,課程
END:VEVENT
BEGIN:VEVENT
DTSTART;TZID=Asia/Shanghai:20240705T161000
DTEND;TZID=Asia/Shanghai:20240705T171000
DTSTAMP:20260423T092645
CREATED:20240624T093755Z
LAST-MODIFIED:20240624T093755Z
UID:10019890-1720195800-1720199400@www.dancesoul.com.tw
SUMMARY:Jazz Funk(初)-Larry
DESCRIPTION:
URL:https://www.dancesoul.com.tw/schedule/jazz-funk%e5%88%9d-larry-3/2024-07-05/
CATEGORIES:Jazz Funk 初級,常態課_初級,課程
END:VEVENT
BEGIN:VEVENT
DTSTART;TZID=Asia/Shanghai:20230831T154000
DTEND;TZID=Asia/Shanghai:20230831T164000
DTSTAMP:20260423T092645
CREATED:20230729T103838Z
LAST-MODIFIED:20230729T103838Z
UID:10017786-1693496400-1693500000@www.dancesoul.com.tw
SUMMARY:Jazz Funk(初)-Larry
DESCRIPTION:
URL:https://www.dancesoul.com.tw/schedule/jazz-funk%e5%88%9d-larry-2/2023-08-31/
LOCATION:仁愛路四段425-1號\, Taipei City\, 104\, 台灣
CATEGORIES:Jazz Funk 初級,常態課_初級,課程
END:VEVENT
BEGIN:VEVENT
DTSTART;TZID=Asia/Shanghai:20230824T154000
DTEND;TZID=Asia/Shanghai:20230824T164000
DTSTAMP:20260423T092645
CREATED:20230729T103838Z
LAST-MODIFIED:20230729T103838Z
UID:10017785-1692891600-1692895200@www.dancesoul.com.tw
SUMMARY:Jazz Funk(初)-Larry
DESCRIPTION:
URL:https://www.dancesoul.com.tw/schedule/jazz-funk%e5%88%9d-larry-2/2023-08-24/
LOCATION:仁愛路四段425-1號\, Taipei City\, 104\, 台灣
CATEGORIES:Jazz Funk 初級,常態課_初級,課程
END:VEVENT
BEGIN:VEVENT
DTSTART;TZID=Asia/Shanghai:20230817T154000
DTEND;TZID=Asia/Shanghai:20230817T164000
DTSTAMP:20260423T092645
CREATED:20230729T103838Z
LAST-MODIFIED:20230729T103838Z
UID:10017784-1692286800-1692290400@www.dancesoul.com.tw
SUMMARY:Jazz Funk(初)-Larry
DESCRIPTION:
URL:https://www.dancesoul.com.tw/schedule/jazz-funk%e5%88%9d-larry-2/2023-08-17/
LOCATION:仁愛路四段425-1號\, Taipei City\, 104\, 台灣
CATEGORIES:Jazz Funk 初級,常態課_初級,課程
END:VEVENT
BEGIN:VEVENT
DTSTART;TZID=Asia/Shanghai:20230810T154000
DTEND;TZID=Asia/Shanghai:20230810T164000
DTSTAMP:20260423T092645
CREATED:20230729T103838Z
LAST-MODIFIED:20230729T103838Z
UID:10017783-1691682000-1691685600@www.dancesoul.com.tw
SUMMARY:Jazz Funk(初)-Larry
DESCRIPTION:
URL:https://www.dancesoul.com.tw/schedule/jazz-funk%e5%88%9d-larry-2/2023-08-10/
LOCATION:仁愛路四段425-1號\, Taipei City\, 104\, 台灣
CATEGORIES:Jazz Funk 初級,常態課_初級,課程
END:VEVENT
BEGIN:VEVENT
DTSTART;TZID=Asia/Shanghai:20230803T154000
DTEND;TZID=Asia/Shanghai:20230803T164000
DTSTAMP:20260423T092645
CREATED:20230729T103838Z
LAST-MODIFIED:20230729T103838Z
UID:10017782-1691077200-1691080800@www.dancesoul.com.tw
SUMMARY:Jazz Funk(初)-Larry
DESCRIPTION:
URL:https://www.dancesoul.com.tw/schedule/jazz-funk%e5%88%9d-larry-2/2023-08-03/
LOCATION:仁愛路四段425-1號\, Taipei City\, 104\, 台灣
CATEGORIES:Jazz Funk 初級,常態課_初級,課程
END:VEVENT
BEGIN:VEVENT
DTSTART;TZID=Asia/Shanghai:20230727T154000
DTEND;TZID=Asia/Shanghai:20230727T164000
DTSTAMP:20260423T092645
CREATED:20230627T121715Z
LAST-MODIFIED:20230627T121715Z
UID:10017604-1690472400-1690476000@www.dancesoul.com.tw
SUMMARY:Jazz Funk(初)-Larry
DESCRIPTION:
URL:https://www.dancesoul.com.tw/schedule/jazz-funk%e5%88%9d-larry/2023-07-27/
LOCATION:仁愛路四段425-1號\, Taipei City\, 104\, 台灣
CATEGORIES:Jazz Funk 初級,常態課_初級
END:VEVENT
BEGIN:VEVENT
DTSTART;TZID=Asia/Shanghai:20230720T154000
DTEND;TZID=Asia/Shanghai:20230720T164000
DTSTAMP:20260423T092645
CREATED:20230627T121715Z
LAST-MODIFIED:20230627T121715Z
UID:10017603-1689867600-1689871200@www.dancesoul.com.tw
SUMMARY:Jazz Funk(初)-Larry
DESCRIPTION:
URL:https://www.dancesoul.com.tw/schedule/jazz-funk%e5%88%9d-larry/2023-07-20/
LOCATION:仁愛路四段425-1號\, Taipei City\, 104\, 台灣
CATEGORIES:Jazz Funk 初級,常態課_初級
END:VEVENT
BEGIN:VEVENT
DTSTART;TZID=Asia/Shanghai:20230713T154000
DTEND;TZID=Asia/Shanghai:20230713T164000
DTSTAMP:20260423T092645
CREATED:20230627T121715Z
LAST-MODIFIED:20230627T121715Z
UID:10017602-1689262800-1689266400@www.dancesoul.com.tw
SUMMARY:Jazz Funk(初)-Larry
DESCRIPTION:
URL:https://www.dancesoul.com.tw/schedule/jazz-funk%e5%88%9d-larry/2023-07-13/
LOCATION:仁愛路四段425-1號\, Taipei City\, 104\, 台灣
CATEGORIES:Jazz Funk 初級,常態課_初級
END:VEVENT
BEGIN:VEVENT
DTSTART;TZID=Asia/Shanghai:20230706T154000
DTEND;TZID=Asia/Shanghai:20230706T164000
DTSTAMP:20260423T092645
CREATED:20230627T121715Z
LAST-MODIFIED:20230627T121715Z
UID:10017601-1688658000-1688661600@www.dancesoul.com.tw
SUMMARY:Jazz Funk(初)-Larry
DESCRIPTION:
URL:https://www.dancesoul.com.tw/schedule/jazz-funk%e5%88%9d-larry/2023-07-06/
LOCATION:仁愛路四段425-1號\, Taipei City\, 104\, 台灣
CATEGORIES:Jazz Funk 初級,常態課_初級
END:VEVENT
END:VCALENDAR