BEGIN:VCALENDAR
VERSION:2.0
PRODID:-//DANCE SOUL 舞魂街舞學校 - ECPv6.15.18//NONSGML v1.0//EN
CALSCALE:GREGORIAN
METHOD:PUBLISH
X-ORIGINAL-URL:https://www.dancesoul.com.tw
X-WR-CALDESC:Events for DANCE SOUL 舞魂街舞學校
REFRESH-INTERVAL;VALUE=DURATION:PT1H
X-Robots-Tag:noindex
X-PUBLISHED-TTL:PT1H
BEGIN:VTIMEZONE
TZID:Asia/Shanghai
BEGIN:STANDARD
TZOFFSETFROM:+0800
TZOFFSETTO:+0800
TZNAME:CST
DTSTART:20230101T000000
END:STANDARD
END:VTIMEZONE
BEGIN:VEVENT
DTSTART;TZID=Asia/Shanghai:20240630T165000
DTEND;TZID=Asia/Shanghai:20240630T175000
DTSTAMP:20260425T194920
CREATED:20240523T101700Z
LAST-MODIFIED:20240611T075853Z
UID:10019713-1719766200-1719769800@www.dancesoul.com.tw
SUMMARY:MV-(aespa - Supernova)-瑜庭
DESCRIPTION:
URL:https://www.dancesoul.com.tw/schedule/mv-aespa-supernova-%e7%91%9c%e5%ba%ad/2024-06-30/
CATEGORIES:MV課,課程
END:VEVENT
BEGIN:VEVENT
DTSTART;TZID=Asia/Shanghai:20240623T165000
DTEND;TZID=Asia/Shanghai:20240623T175000
DTSTAMP:20260425T194920
CREATED:20240523T101700Z
LAST-MODIFIED:20240611T075853Z
UID:10019712-1719161400-1719165000@www.dancesoul.com.tw
SUMMARY:MV-(aespa - Supernova)-瑜庭
DESCRIPTION:
URL:https://www.dancesoul.com.tw/schedule/mv-aespa-supernova-%e7%91%9c%e5%ba%ad/2024-06-23/
CATEGORIES:MV課,課程
END:VEVENT
BEGIN:VEVENT
DTSTART;TZID=Asia/Shanghai:20240616T165000
DTEND;TZID=Asia/Shanghai:20240616T175000
DTSTAMP:20260425T194920
CREATED:20240523T101700Z
LAST-MODIFIED:20240611T075853Z
UID:10019711-1718556600-1718560200@www.dancesoul.com.tw
SUMMARY:MV-(aespa - Supernova)-瑜庭
DESCRIPTION:
URL:https://www.dancesoul.com.tw/schedule/mv-aespa-supernova-%e7%91%9c%e5%ba%ad/2024-06-16/
CATEGORIES:MV課,課程
END:VEVENT
BEGIN:VEVENT
DTSTART;TZID=Asia/Shanghai:20240609T165000
DTEND;TZID=Asia/Shanghai:20240609T175000
DTSTAMP:20260425T194920
CREATED:20240523T101700Z
LAST-MODIFIED:20240611T075853Z
UID:10019710-1717951800-1717955400@www.dancesoul.com.tw
SUMMARY:MV-(aespa - Supernova)-瑜庭
DESCRIPTION:
URL:https://www.dancesoul.com.tw/schedule/mv-aespa-supernova-%e7%91%9c%e5%ba%ad/2024-06-09/
CATEGORIES:MV課,課程
END:VEVENT
BEGIN:VEVENT
DTSTART;TZID=Asia/Shanghai:20240602T165000
DTEND;TZID=Asia/Shanghai:20240602T175000
DTSTAMP:20260425T194920
CREATED:20240523T101700Z
LAST-MODIFIED:20240611T075853Z
UID:10019709-1717347000-1717350600@www.dancesoul.com.tw
SUMMARY:MV-(aespa - Supernova)-瑜庭
DESCRIPTION:
URL:https://www.dancesoul.com.tw/schedule/mv-aespa-supernova-%e7%91%9c%e5%ba%ad/2024-06-02/
CATEGORIES:MV課,課程
END:VEVENT
END:VCALENDAR