BEGIN:VCALENDAR
VERSION:2.0
PRODID:-//DANCE SOUL 舞魂街舞學校 - ECPv6.15.18//NONSGML v1.0//EN
CALSCALE:GREGORIAN
METHOD:PUBLISH
X-WR-CALNAME:DANCE SOUL 舞魂街舞學校
X-ORIGINAL-URL:https://www.dancesoul.com.tw
X-WR-CALDESC:Events for DANCE SOUL 舞魂街舞學校
REFRESH-INTERVAL;VALUE=DURATION:PT1H
X-Robots-Tag:noindex
X-PUBLISHED-TTL:PT1H
BEGIN:VTIMEZONE
TZID:Asia/Shanghai
BEGIN:STANDARD
TZOFFSETFROM:+0800
TZOFFSETTO:+0800
TZNAME:CST
DTSTART:20240101T000000
END:STANDARD
END:VTIMEZONE
BEGIN:VEVENT
DTSTART;TZID=Asia/Shanghai:20250330T165000
DTEND;TZID=Asia/Shanghai:20250330T175000
DTSTAMP:20260421T063304
CREATED:20250223T102620Z
LAST-MODIFIED:20250223T102620Z
UID:10021195-1743353400-1743357000@www.dancesoul.com.tw
SUMMARY:MV-(BABYMONSER - BILLIONAIRE)-瑜庭
DESCRIPTION:
URL:https://www.dancesoul.com.tw/schedule/mv-babymonser-billionaire-%e7%91%9c%e5%ba%ad/2025-03-30/
CATEGORIES:MV課,課程
END:VEVENT
BEGIN:VEVENT
DTSTART;TZID=Asia/Shanghai:20250323T165000
DTEND;TZID=Asia/Shanghai:20250323T175000
DTSTAMP:20260421T063304
CREATED:20250223T102620Z
LAST-MODIFIED:20250223T102620Z
UID:10021194-1742748600-1742752200@www.dancesoul.com.tw
SUMMARY:MV-(BABYMONSER - BILLIONAIRE)-瑜庭
DESCRIPTION:
URL:https://www.dancesoul.com.tw/schedule/mv-babymonser-billionaire-%e7%91%9c%e5%ba%ad/2025-03-23/
CATEGORIES:MV課,課程
END:VEVENT
BEGIN:VEVENT
DTSTART;TZID=Asia/Shanghai:20250316T165000
DTEND;TZID=Asia/Shanghai:20250316T175000
DTSTAMP:20260421T063304
CREATED:20250223T102620Z
LAST-MODIFIED:20250223T102620Z
UID:10021193-1742143800-1742147400@www.dancesoul.com.tw
SUMMARY:MV-(BABYMONSER - BILLIONAIRE)-瑜庭
DESCRIPTION:
URL:https://www.dancesoul.com.tw/schedule/mv-babymonser-billionaire-%e7%91%9c%e5%ba%ad/2025-03-16/
CATEGORIES:MV課,課程
END:VEVENT
BEGIN:VEVENT
DTSTART;TZID=Asia/Shanghai:20250309T165000
DTEND;TZID=Asia/Shanghai:20250309T175000
DTSTAMP:20260421T063304
CREATED:20250223T102620Z
LAST-MODIFIED:20250223T102620Z
UID:10021192-1741539000-1741542600@www.dancesoul.com.tw
SUMMARY:MV-(BABYMONSER - BILLIONAIRE)-瑜庭
DESCRIPTION:
URL:https://www.dancesoul.com.tw/schedule/mv-babymonser-billionaire-%e7%91%9c%e5%ba%ad/2025-03-09/
CATEGORIES:MV課,課程
END:VEVENT
BEGIN:VEVENT
DTSTART;TZID=Asia/Shanghai:20250302T165000
DTEND;TZID=Asia/Shanghai:20250302T175000
DTSTAMP:20260421T063304
CREATED:20250223T102620Z
LAST-MODIFIED:20250223T102620Z
UID:10021191-1740934200-1740937800@www.dancesoul.com.tw
SUMMARY:MV-(BABYMONSER - BILLIONAIRE)-瑜庭
DESCRIPTION:
URL:https://www.dancesoul.com.tw/schedule/mv-babymonser-billionaire-%e7%91%9c%e5%ba%ad/2025-03-02/
CATEGORIES:MV課,課程
END:VEVENT
END:VCALENDAR