BEGIN:VCALENDAR
VERSION:2.0
PRODID:-//DANCE SOUL 舞魂街舞學校 - ECPv6.15.18//NONSGML v1.0//EN
CALSCALE:GREGORIAN
METHOD:PUBLISH
X-WR-CALNAME:DANCE SOUL 舞魂街舞學校
X-ORIGINAL-URL:https://www.dancesoul.com.tw
X-WR-CALDESC:Events for DANCE SOUL 舞魂街舞學校
REFRESH-INTERVAL;VALUE=DURATION:PT1H
X-Robots-Tag:noindex
X-PUBLISHED-TTL:PT1H
BEGIN:VTIMEZONE
TZID:Asia/Shanghai
BEGIN:STANDARD
TZOFFSETFROM:+0800
TZOFFSETTO:+0800
TZNAME:CST
DTSTART:20210101T000000
END:STANDARD
END:VTIMEZONE
BEGIN:VEVENT
DTSTART;TZID=Asia/Shanghai:20221029T165000
DTEND;TZID=Asia/Shanghai:20221029T175000
DTSTAMP:20260425T232940
CREATED:20220925T093448Z
LAST-MODIFIED:20220925T093613Z
UID:10016748-1667062200-1667065800@www.dancesoul.com.tw
SUMMARY:MV-(BLACKPINK - Shut Down)-薇臻
DESCRIPTION:
URL:https://www.dancesoul.com.tw/schedule/mv-blackpink-shut-down-%e8%96%87%e8%87%bb/2022-10-29/
LOCATION:仁愛路四段425-1號\, Taipei City\, 104\, 台灣
CATEGORIES:MV課,課程
END:VEVENT
BEGIN:VEVENT
DTSTART;TZID=Asia/Shanghai:20221022T165000
DTEND;TZID=Asia/Shanghai:20221022T175000
DTSTAMP:20260425T232940
CREATED:20220925T093448Z
LAST-MODIFIED:20220925T093613Z
UID:10016747-1666457400-1666461000@www.dancesoul.com.tw
SUMMARY:MV-(BLACKPINK - Shut Down)-薇臻
DESCRIPTION:
URL:https://www.dancesoul.com.tw/schedule/mv-blackpink-shut-down-%e8%96%87%e8%87%bb/2022-10-22/
LOCATION:仁愛路四段425-1號\, Taipei City\, 104\, 台灣
CATEGORIES:MV課,課程
END:VEVENT
BEGIN:VEVENT
DTSTART;TZID=Asia/Shanghai:20221015T165000
DTEND;TZID=Asia/Shanghai:20221015T175000
DTSTAMP:20260425T232940
CREATED:20220925T093448Z
LAST-MODIFIED:20220925T093613Z
UID:10016746-1665852600-1665856200@www.dancesoul.com.tw
SUMMARY:MV-(BLACKPINK - Shut Down)-薇臻
DESCRIPTION:
URL:https://www.dancesoul.com.tw/schedule/mv-blackpink-shut-down-%e8%96%87%e8%87%bb/2022-10-15/
LOCATION:仁愛路四段425-1號\, Taipei City\, 104\, 台灣
CATEGORIES:MV課,課程
END:VEVENT
BEGIN:VEVENT
DTSTART;TZID=Asia/Shanghai:20221008T165000
DTEND;TZID=Asia/Shanghai:20221008T175000
DTSTAMP:20260425T232940
CREATED:20220925T093448Z
LAST-MODIFIED:20220925T093613Z
UID:10016745-1665247800-1665251400@www.dancesoul.com.tw
SUMMARY:MV-(BLACKPINK - Shut Down)-薇臻
DESCRIPTION:
URL:https://www.dancesoul.com.tw/schedule/mv-blackpink-shut-down-%e8%96%87%e8%87%bb/2022-10-08/
LOCATION:仁愛路四段425-1號\, Taipei City\, 104\, 台灣
CATEGORIES:MV課,課程
END:VEVENT
BEGIN:VEVENT
DTSTART;TZID=Asia/Shanghai:20221001T165000
DTEND;TZID=Asia/Shanghai:20221001T175000
DTSTAMP:20260425T232940
CREATED:20220925T093448Z
LAST-MODIFIED:20220925T093613Z
UID:10016744-1664643000-1664646600@www.dancesoul.com.tw
SUMMARY:MV-(BLACKPINK - Shut Down)-薇臻
DESCRIPTION:
URL:https://www.dancesoul.com.tw/schedule/mv-blackpink-shut-down-%e8%96%87%e8%87%bb/2022-10-01/
LOCATION:仁愛路四段425-1號\, Taipei City\, 104\, 台灣
CATEGORIES:MV課,課程
END:VEVENT
END:VCALENDAR