BEGIN:VCALENDAR
VERSION:2.0
PRODID:-//DANCE SOUL 舞魂街舞學校 - ECPv6.15.18//NONSGML v1.0//EN
CALSCALE:GREGORIAN
METHOD:PUBLISH
X-ORIGINAL-URL:https://www.dancesoul.com.tw
X-WR-CALDESC:Events for DANCE SOUL 舞魂街舞學校
REFRESH-INTERVAL;VALUE=DURATION:PT1H
X-Robots-Tag:noindex
X-PUBLISHED-TTL:PT1H
BEGIN:VTIMEZONE
TZID:Asia/Shanghai
BEGIN:STANDARD
TZOFFSETFROM:+0800
TZOFFSETTO:+0800
TZNAME:CST
DTSTART:20230101T000000
END:STANDARD
END:VTIMEZONE
BEGIN:VEVENT
DTSTART;TZID=Asia/Shanghai:20240331T165000
DTEND;TZID=Asia/Shanghai:20240331T175000
DTSTAMP:20260426T045835
CREATED:20240225T081824Z
LAST-MODIFIED:20240225T081824Z
UID:10019262-1711903800-1711907400@www.dancesoul.com.tw
SUMMARY:MV-((G)I-DLE - Super Lady)-瑜庭
DESCRIPTION:
URL:https://www.dancesoul.com.tw/schedule/mv-gi-dle-super-lady-%e7%91%9c%e5%ba%ad/2024-03-31/
CATEGORIES:MV課,課程
END:VEVENT
BEGIN:VEVENT
DTSTART;TZID=Asia/Shanghai:20240324T165000
DTEND;TZID=Asia/Shanghai:20240324T175000
DTSTAMP:20260426T045835
CREATED:20240225T081824Z
LAST-MODIFIED:20240225T081824Z
UID:10019261-1711299000-1711302600@www.dancesoul.com.tw
SUMMARY:MV-((G)I-DLE - Super Lady)-瑜庭
DESCRIPTION:
URL:https://www.dancesoul.com.tw/schedule/mv-gi-dle-super-lady-%e7%91%9c%e5%ba%ad/2024-03-24/
CATEGORIES:MV課,課程
END:VEVENT
BEGIN:VEVENT
DTSTART;TZID=Asia/Shanghai:20240317T165000
DTEND;TZID=Asia/Shanghai:20240317T175000
DTSTAMP:20260426T045835
CREATED:20240225T081824Z
LAST-MODIFIED:20240225T081824Z
UID:10019260-1710694200-1710697800@www.dancesoul.com.tw
SUMMARY:MV-((G)I-DLE - Super Lady)-瑜庭
DESCRIPTION:
URL:https://www.dancesoul.com.tw/schedule/mv-gi-dle-super-lady-%e7%91%9c%e5%ba%ad/2024-03-17/
CATEGORIES:MV課,課程
END:VEVENT
BEGIN:VEVENT
DTSTART;TZID=Asia/Shanghai:20240310T165000
DTEND;TZID=Asia/Shanghai:20240310T175000
DTSTAMP:20260426T045835
CREATED:20240225T081824Z
LAST-MODIFIED:20240225T081824Z
UID:10019259-1710089400-1710093000@www.dancesoul.com.tw
SUMMARY:MV-((G)I-DLE - Super Lady)-瑜庭
DESCRIPTION:
URL:https://www.dancesoul.com.tw/schedule/mv-gi-dle-super-lady-%e7%91%9c%e5%ba%ad/2024-03-10/
CATEGORIES:MV課,課程
END:VEVENT
BEGIN:VEVENT
DTSTART;TZID=Asia/Shanghai:20240303T165000
DTEND;TZID=Asia/Shanghai:20240303T175000
DTSTAMP:20260426T045835
CREATED:20240225T081824Z
LAST-MODIFIED:20240225T081824Z
UID:10019258-1709484600-1709488200@www.dancesoul.com.tw
SUMMARY:MV-((G)I-DLE - Super Lady)-瑜庭
DESCRIPTION:
URL:https://www.dancesoul.com.tw/schedule/mv-gi-dle-super-lady-%e7%91%9c%e5%ba%ad/2024-03-03/
CATEGORIES:MV課,課程
END:VEVENT
END:VCALENDAR