BEGIN:VCALENDAR
VERSION:2.0
PRODID:-//DANCE SOUL 舞魂街舞學校 - ECPv6.15.18//NONSGML v1.0//EN
CALSCALE:GREGORIAN
METHOD:PUBLISH
X-WR-CALNAME:DANCE SOUL 舞魂街舞學校
X-ORIGINAL-URL:https://www.dancesoul.com.tw
X-WR-CALDESC:Events for DANCE SOUL 舞魂街舞學校
REFRESH-INTERVAL;VALUE=DURATION:PT1H
X-Robots-Tag:noindex
X-PUBLISHED-TTL:PT1H
BEGIN:VTIMEZONE
TZID:Asia/Shanghai
BEGIN:STANDARD
TZOFFSETFROM:+0800
TZOFFSETTO:+0800
TZNAME:CST
DTSTART:20230101T000000
END:STANDARD
END:VTIMEZONE
BEGIN:VEVENT
DTSTART;TZID=Asia/Shanghai:20240525T165000
DTEND;TZID=Asia/Shanghai:20240525T175000
DTSTAMP:20260425T214215
CREATED:20240423T084730Z
LAST-MODIFIED:20240423T084730Z
UID:10019472-1716655800-1716659400@www.dancesoul.com.tw
SUMMARY:MV-(ILLIT - Magnetic)-怡妏
DESCRIPTION:
URL:https://www.dancesoul.com.tw/schedule/mv-illit-magnetic-%e6%80%a1%e5%a6%8f/2024-05-25/
CATEGORIES:MV課,課程
END:VEVENT
BEGIN:VEVENT
DTSTART;TZID=Asia/Shanghai:20240518T165000
DTEND;TZID=Asia/Shanghai:20240518T175000
DTSTAMP:20260425T214215
CREATED:20240423T084730Z
LAST-MODIFIED:20240423T084730Z
UID:10019471-1716051000-1716054600@www.dancesoul.com.tw
SUMMARY:MV-(ILLIT - Magnetic)-怡妏
DESCRIPTION:
URL:https://www.dancesoul.com.tw/schedule/mv-illit-magnetic-%e6%80%a1%e5%a6%8f/2024-05-18/
CATEGORIES:MV課,課程
END:VEVENT
BEGIN:VEVENT
DTSTART;TZID=Asia/Shanghai:20240511T165000
DTEND;TZID=Asia/Shanghai:20240511T175000
DTSTAMP:20260425T214215
CREATED:20240423T084730Z
LAST-MODIFIED:20240423T084730Z
UID:10019470-1715446200-1715449800@www.dancesoul.com.tw
SUMMARY:MV-(ILLIT - Magnetic)-怡妏
DESCRIPTION:
URL:https://www.dancesoul.com.tw/schedule/mv-illit-magnetic-%e6%80%a1%e5%a6%8f/2024-05-11/
CATEGORIES:MV課,課程
END:VEVENT
BEGIN:VEVENT
DTSTART;TZID=Asia/Shanghai:20240504T165000
DTEND;TZID=Asia/Shanghai:20240504T175000
DTSTAMP:20260425T214215
CREATED:20240423T084730Z
LAST-MODIFIED:20240423T084730Z
UID:10019469-1714841400-1714845000@www.dancesoul.com.tw
SUMMARY:MV-(ILLIT - Magnetic)-怡妏
DESCRIPTION:
URL:https://www.dancesoul.com.tw/schedule/mv-illit-magnetic-%e6%80%a1%e5%a6%8f/2024-05-04/
CATEGORIES:MV課,課程
END:VEVENT
END:VCALENDAR