BEGIN:VCALENDAR
VERSION:2.0
PRODID:-//DANCE SOUL 舞魂街舞學校 - ECPv6.15.18//NONSGML v1.0//EN
CALSCALE:GREGORIAN
METHOD:PUBLISH
X-ORIGINAL-URL:https://www.dancesoul.com.tw
X-WR-CALDESC:Events for DANCE SOUL 舞魂街舞學校
REFRESH-INTERVAL;VALUE=DURATION:PT1H
X-Robots-Tag:noindex
X-PUBLISHED-TTL:PT1H
BEGIN:VTIMEZONE
TZID:Asia/Shanghai
BEGIN:STANDARD
TZOFFSETFROM:+0800
TZOFFSETTO:+0800
TZNAME:CST
DTSTART:20230101T000000
END:STANDARD
END:VTIMEZONE
BEGIN:VEVENT
DTSTART;TZID=Asia/Shanghai:20240302T165000
DTEND;TZID=Asia/Shanghai:20240302T175000
DTSTAMP:20260422T123355
CREATED:20240225T071020Z
LAST-MODIFIED:20240225T071020Z
UID:10019223-1709398200-1709401800@www.dancesoul.com.tw
SUMMARY:MV-(ITZY - Untouchable)-怡妏
DESCRIPTION:
URL:https://www.dancesoul.com.tw/schedule/mv-itzy-untouchable-%e6%80%a1%e5%a6%8f-3/
CATEGORIES:MV課,課程
END:VEVENT
BEGIN:VEVENT
DTSTART;TZID=Asia/Shanghai:20240224T165000
DTEND;TZID=Asia/Shanghai:20240224T175000
DTSTAMP:20260422T123355
CREATED:20240128T064602Z
LAST-MODIFIED:20240128T064602Z
UID:10019075-1708793400-1708797000@www.dancesoul.com.tw
SUMMARY:MV-(ITZY - UNTOUCHABLE)-怡妏
DESCRIPTION:
URL:https://www.dancesoul.com.tw/schedule/mv-itzy-untouchable-%e6%80%a1%e5%a6%8f-2/2024-02-24/
CATEGORIES:MV課,課程
END:VEVENT
BEGIN:VEVENT
DTSTART;TZID=Asia/Shanghai:20240217T165000
DTEND;TZID=Asia/Shanghai:20240217T175000
DTSTAMP:20260422T123355
CREATED:20240128T064602Z
LAST-MODIFIED:20240128T064602Z
UID:10019074-1708188600-1708192200@www.dancesoul.com.tw
SUMMARY:MV-(ITZY - UNTOUCHABLE)-怡妏
DESCRIPTION:
URL:https://www.dancesoul.com.tw/schedule/mv-itzy-untouchable-%e6%80%a1%e5%a6%8f-2/2024-02-17/
CATEGORIES:MV課,課程
END:VEVENT
BEGIN:VEVENT
DTSTART;TZID=Asia/Shanghai:20240203T165000
DTEND;TZID=Asia/Shanghai:20240203T175000
DTSTAMP:20260422T123355
CREATED:20240128T064512Z
LAST-MODIFIED:20240128T064512Z
UID:10019073-1706979000-1706982600@www.dancesoul.com.tw
SUMMARY:MV-(ITZY - UNTOUCHABLE)-怡妏
DESCRIPTION:
URL:https://www.dancesoul.com.tw/schedule/mv-itzy-untouchable-%e6%80%a1%e5%a6%8f/
CATEGORIES:MV課,課程
END:VEVENT
END:VCALENDAR