BEGIN:VCALENDAR
VERSION:2.0
PRODID:-//DANCE SOUL 舞魂街舞學校 - ECPv6.15.18//NONSGML v1.0//EN
CALSCALE:GREGORIAN
METHOD:PUBLISH
X-WR-CALNAME:DANCE SOUL 舞魂街舞學校
X-ORIGINAL-URL:https://www.dancesoul.com.tw
X-WR-CALDESC:Events for DANCE SOUL 舞魂街舞學校
REFRESH-INTERVAL;VALUE=DURATION:PT1H
X-Robots-Tag:noindex
X-PUBLISHED-TTL:PT1H
BEGIN:VTIMEZONE
TZID:Asia/Shanghai
BEGIN:STANDARD
TZOFFSETFROM:+0800
TZOFFSETTO:+0800
TZNAME:CST
DTSTART:20240101T000000
END:STANDARD
END:VTIMEZONE
BEGIN:VEVENT
DTSTART;TZID=Asia/Shanghai:20250329T165000
DTEND;TZID=Asia/Shanghai:20250329T175000
DTSTAMP:20260421T072528
CREATED:20250223T084032Z
LAST-MODIFIED:20250223T084032Z
UID:10021160-1743267000-1743270600@www.dancesoul.com.tw
SUMMARY:MV-(IVE - ATTITUDE)-凝琦
DESCRIPTION:
URL:https://www.dancesoul.com.tw/schedule/mv-ive-attitude-%e5%87%9d%e7%90%a6/2025-03-29/
CATEGORIES:MV課,課程
END:VEVENT
BEGIN:VEVENT
DTSTART;TZID=Asia/Shanghai:20250322T165000
DTEND;TZID=Asia/Shanghai:20250322T175000
DTSTAMP:20260421T072528
CREATED:20250223T084032Z
LAST-MODIFIED:20250223T084032Z
UID:10021159-1742662200-1742665800@www.dancesoul.com.tw
SUMMARY:MV-(IVE - ATTITUDE)-凝琦
DESCRIPTION:
URL:https://www.dancesoul.com.tw/schedule/mv-ive-attitude-%e5%87%9d%e7%90%a6/2025-03-22/
CATEGORIES:MV課,課程
END:VEVENT
BEGIN:VEVENT
DTSTART;TZID=Asia/Shanghai:20250315T165000
DTEND;TZID=Asia/Shanghai:20250315T175000
DTSTAMP:20260421T072528
CREATED:20250223T084032Z
LAST-MODIFIED:20250223T084032Z
UID:10021158-1742057400-1742061000@www.dancesoul.com.tw
SUMMARY:MV-(IVE - ATTITUDE)-凝琦
DESCRIPTION:
URL:https://www.dancesoul.com.tw/schedule/mv-ive-attitude-%e5%87%9d%e7%90%a6/2025-03-15/
CATEGORIES:MV課,課程
END:VEVENT
BEGIN:VEVENT
DTSTART;TZID=Asia/Shanghai:20250308T165000
DTEND;TZID=Asia/Shanghai:20250308T175000
DTSTAMP:20260421T072528
CREATED:20250223T084032Z
LAST-MODIFIED:20250223T084032Z
UID:10021157-1741452600-1741456200@www.dancesoul.com.tw
SUMMARY:MV-(IVE - ATTITUDE)-凝琦
DESCRIPTION:
URL:https://www.dancesoul.com.tw/schedule/mv-ive-attitude-%e5%87%9d%e7%90%a6/2025-03-08/
CATEGORIES:MV課,課程
END:VEVENT
BEGIN:VEVENT
DTSTART;TZID=Asia/Shanghai:20250301T165000
DTEND;TZID=Asia/Shanghai:20250301T175000
DTSTAMP:20260421T072528
CREATED:20250223T084032Z
LAST-MODIFIED:20250223T084032Z
UID:10021156-1740847800-1740851400@www.dancesoul.com.tw
SUMMARY:MV-(IVE - ATTITUDE)-凝琦
DESCRIPTION:
URL:https://www.dancesoul.com.tw/schedule/mv-ive-attitude-%e5%87%9d%e7%90%a6/2025-03-01/
CATEGORIES:MV課,課程
END:VEVENT
END:VCALENDAR