BEGIN:VCALENDAR
VERSION:2.0
PRODID:-//DANCE SOUL 舞魂街舞學校 - ECPv6.15.18//NONSGML v1.0//EN
CALSCALE:GREGORIAN
METHOD:PUBLISH
X-WR-CALNAME:DANCE SOUL 舞魂街舞學校
X-ORIGINAL-URL:https://www.dancesoul.com.tw
X-WR-CALDESC:Events for DANCE SOUL 舞魂街舞學校
REFRESH-INTERVAL;VALUE=DURATION:PT1H
X-Robots-Tag:noindex
X-PUBLISHED-TTL:PT1H
BEGIN:VTIMEZONE
TZID:Asia/Shanghai
BEGIN:STANDARD
TZOFFSETFROM:+0800
TZOFFSETTO:+0800
TZNAME:CST
DTSTART:20220101T000000
END:STANDARD
END:VTIMEZONE
BEGIN:VEVENT
DTSTART;TZID=Asia/Shanghai:20230528T165000
DTEND;TZID=Asia/Shanghai:20230528T175000
DTSTAMP:20260423T074535
CREATED:20230426T090713Z
LAST-MODIFIED:20230426T090713Z
UID:10016106-1685292600-1685296200@www.dancesoul.com.tw
SUMMARY:MV-(IVE-Kitsch)- 賴賴
DESCRIPTION:
URL:https://www.dancesoul.com.tw/schedule/mv-ive-kitsch-%e8%b3%b4%e8%b3%b4/2023-05-28/
LOCATION:仁愛路四段425-1號\, Taipei City\, 104\, 台灣
CATEGORIES:MV課,課程
END:VEVENT
BEGIN:VEVENT
DTSTART;TZID=Asia/Shanghai:20230521T165000
DTEND;TZID=Asia/Shanghai:20230521T175000
DTSTAMP:20260423T074535
CREATED:20230426T090713Z
LAST-MODIFIED:20230426T090713Z
UID:10016105-1684687800-1684691400@www.dancesoul.com.tw
SUMMARY:MV-(IVE-Kitsch)- 賴賴
DESCRIPTION:
URL:https://www.dancesoul.com.tw/schedule/mv-ive-kitsch-%e8%b3%b4%e8%b3%b4/2023-05-21/
LOCATION:仁愛路四段425-1號\, Taipei City\, 104\, 台灣
CATEGORIES:MV課,課程
END:VEVENT
BEGIN:VEVENT
DTSTART;TZID=Asia/Shanghai:20230514T165000
DTEND;TZID=Asia/Shanghai:20230514T175000
DTSTAMP:20260423T074535
CREATED:20230426T090713Z
LAST-MODIFIED:20230426T090713Z
UID:10016104-1684083000-1684086600@www.dancesoul.com.tw
SUMMARY:MV-(IVE-Kitsch)- 賴賴
DESCRIPTION:
URL:https://www.dancesoul.com.tw/schedule/mv-ive-kitsch-%e8%b3%b4%e8%b3%b4/2023-05-14/
LOCATION:仁愛路四段425-1號\, Taipei City\, 104\, 台灣
CATEGORIES:MV課,課程
END:VEVENT
BEGIN:VEVENT
DTSTART;TZID=Asia/Shanghai:20230507T165000
DTEND;TZID=Asia/Shanghai:20230507T175000
DTSTAMP:20260423T074535
CREATED:20230426T090713Z
LAST-MODIFIED:20230426T090713Z
UID:10016103-1683478200-1683481800@www.dancesoul.com.tw
SUMMARY:MV-(IVE-Kitsch)- 賴賴
DESCRIPTION:
URL:https://www.dancesoul.com.tw/schedule/mv-ive-kitsch-%e8%b3%b4%e8%b3%b4/2023-05-07/
LOCATION:仁愛路四段425-1號\, Taipei City\, 104\, 台灣
CATEGORIES:MV課,課程
END:VEVENT
END:VCALENDAR