BEGIN:VCALENDAR
VERSION:2.0
PRODID:-//DANCE SOUL 舞魂街舞學校 - ECPv6.15.18//NONSGML v1.0//EN
CALSCALE:GREGORIAN
METHOD:PUBLISH
X-WR-CALNAME:DANCE SOUL 舞魂街舞學校
X-ORIGINAL-URL:https://www.dancesoul.com.tw
X-WR-CALDESC:Events for DANCE SOUL 舞魂街舞學校
REFRESH-INTERVAL;VALUE=DURATION:PT1H
X-Robots-Tag:noindex
X-PUBLISHED-TTL:PT1H
BEGIN:VTIMEZONE
TZID:Asia/Shanghai
BEGIN:STANDARD
TZOFFSETFROM:+0800
TZOFFSETTO:+0800
TZNAME:CST
DTSTART:20230101T000000
END:STANDARD
END:VTIMEZONE
BEGIN:VEVENT
DTSTART;TZID=Asia/Shanghai:20241124T165000
DTEND;TZID=Asia/Shanghai:20241124T175000
DTSTAMP:20260422T233252
CREATED:20241028T070658Z
LAST-MODIFIED:20241028T070658Z
UID:10020494-1732467000-1732470600@www.dancesoul.com.tw
SUMMARY:MV-(KISS OF LIFE - Get Loud)-傘傘
DESCRIPTION:
URL:https://www.dancesoul.com.tw/schedule/mv-kiss-of-life-get-loud-%e5%82%98%e5%82%98/2024-11-24/
CATEGORIES:MV課,課程
END:VEVENT
BEGIN:VEVENT
DTSTART;TZID=Asia/Shanghai:20241117T165000
DTEND;TZID=Asia/Shanghai:20241117T175000
DTSTAMP:20260422T233252
CREATED:20241028T070658Z
LAST-MODIFIED:20241028T070658Z
UID:10020493-1731862200-1731865800@www.dancesoul.com.tw
SUMMARY:MV-(KISS OF LIFE - Get Loud)-傘傘
DESCRIPTION:
URL:https://www.dancesoul.com.tw/schedule/mv-kiss-of-life-get-loud-%e5%82%98%e5%82%98/2024-11-17/
CATEGORIES:MV課,課程
END:VEVENT
BEGIN:VEVENT
DTSTART;TZID=Asia/Shanghai:20241110T165000
DTEND;TZID=Asia/Shanghai:20241110T175000
DTSTAMP:20260422T233252
CREATED:20241028T070658Z
LAST-MODIFIED:20241028T070658Z
UID:10020492-1731257400-1731261000@www.dancesoul.com.tw
SUMMARY:MV-(KISS OF LIFE - Get Loud)-傘傘
DESCRIPTION:
URL:https://www.dancesoul.com.tw/schedule/mv-kiss-of-life-get-loud-%e5%82%98%e5%82%98/2024-11-10/
CATEGORIES:MV課,課程
END:VEVENT
BEGIN:VEVENT
DTSTART;TZID=Asia/Shanghai:20241103T165000
DTEND;TZID=Asia/Shanghai:20241103T175000
DTSTAMP:20260422T233252
CREATED:20241028T070658Z
LAST-MODIFIED:20241028T070658Z
UID:10020491-1730652600-1730656200@www.dancesoul.com.tw
SUMMARY:MV-(KISS OF LIFE - Get Loud)-傘傘
DESCRIPTION:
URL:https://www.dancesoul.com.tw/schedule/mv-kiss-of-life-get-loud-%e5%82%98%e5%82%98/2024-11-03/
CATEGORIES:MV課,課程
END:VEVENT
END:VCALENDAR