BEGIN:VCALENDAR
VERSION:2.0
PRODID:-//DANCE SOUL 舞魂街舞學校 - ECPv6.15.18//NONSGML v1.0//EN
CALSCALE:GREGORIAN
METHOD:PUBLISH
X-WR-CALNAME:DANCE SOUL 舞魂街舞學校
X-ORIGINAL-URL:https://www.dancesoul.com.tw
X-WR-CALDESC:Events for DANCE SOUL 舞魂街舞學校
REFRESH-INTERVAL;VALUE=DURATION:PT1H
X-Robots-Tag:noindex
X-PUBLISHED-TTL:PT1H
BEGIN:VTIMEZONE
TZID:Asia/Shanghai
BEGIN:STANDARD
TZOFFSETFROM:+0800
TZOFFSETTO:+0800
TZNAME:CST
DTSTART:20230101T000000
END:STANDARD
END:VTIMEZONE
BEGIN:VEVENT
DTSTART;TZID=Asia/Shanghai:20241228T165000
DTEND;TZID=Asia/Shanghai:20241228T175000
DTSTAMP:20260422T033818
CREATED:20241125T102718Z
LAST-MODIFIED:20241125T102718Z
UID:10020643-1735404600-1735408200@www.dancesoul.com.tw
SUMMARY:MV-(Kiss of Life - Igloo)-姿昀
DESCRIPTION:
URL:https://www.dancesoul.com.tw/schedule/mv-kiss-of-life-igloo-%e5%a7%bf%e6%98%80/2024-12-28/
CATEGORIES:MV課,課程
END:VEVENT
BEGIN:VEVENT
DTSTART;TZID=Asia/Shanghai:20241221T165000
DTEND;TZID=Asia/Shanghai:20241221T175000
DTSTAMP:20260422T033818
CREATED:20241125T102718Z
LAST-MODIFIED:20241125T102718Z
UID:10020642-1734799800-1734803400@www.dancesoul.com.tw
SUMMARY:MV-(Kiss of Life - Igloo)-姿昀
DESCRIPTION:
URL:https://www.dancesoul.com.tw/schedule/mv-kiss-of-life-igloo-%e5%a7%bf%e6%98%80/2024-12-21/
CATEGORIES:MV課,課程
END:VEVENT
BEGIN:VEVENT
DTSTART;TZID=Asia/Shanghai:20241214T165000
DTEND;TZID=Asia/Shanghai:20241214T175000
DTSTAMP:20260422T033818
CREATED:20241125T102718Z
LAST-MODIFIED:20241125T102718Z
UID:10020641-1734195000-1734198600@www.dancesoul.com.tw
SUMMARY:MV-(Kiss of Life - Igloo)-姿昀
DESCRIPTION:
URL:https://www.dancesoul.com.tw/schedule/mv-kiss-of-life-igloo-%e5%a7%bf%e6%98%80/2024-12-14/
CATEGORIES:MV課,課程
END:VEVENT
BEGIN:VEVENT
DTSTART;TZID=Asia/Shanghai:20241207T165000
DTEND;TZID=Asia/Shanghai:20241207T175000
DTSTAMP:20260422T033818
CREATED:20241125T102718Z
LAST-MODIFIED:20241125T102718Z
UID:10020640-1733590200-1733593800@www.dancesoul.com.tw
SUMMARY:MV-(Kiss of Life - Igloo)-姿昀
DESCRIPTION:
URL:https://www.dancesoul.com.tw/schedule/mv-kiss-of-life-igloo-%e5%a7%bf%e6%98%80/2024-12-07/
CATEGORIES:MV課,課程
END:VEVENT
END:VCALENDAR