BEGIN:VCALENDAR
VERSION:2.0
PRODID:-//DANCE SOUL 舞魂街舞學校 - ECPv6.15.18//NONSGML v1.0//EN
CALSCALE:GREGORIAN
METHOD:PUBLISH
X-WR-CALNAME:DANCE SOUL 舞魂街舞學校
X-ORIGINAL-URL:https://www.dancesoul.com.tw
X-WR-CALDESC:Events for DANCE SOUL 舞魂街舞學校
REFRESH-INTERVAL;VALUE=DURATION:PT1H
X-Robots-Tag:noindex
X-PUBLISHED-TTL:PT1H
BEGIN:VTIMEZONE
TZID:Asia/Shanghai
BEGIN:STANDARD
TZOFFSETFROM:+0800
TZOFFSETTO:+0800
TZNAME:CST
DTSTART:20210101T000000
END:STANDARD
END:VTIMEZONE
BEGIN:VEVENT
DTSTART;TZID=Asia/Shanghai:20221126T165000
DTEND;TZID=Asia/Shanghai:20221126T175000
DTSTAMP:20260423T093935
CREATED:20221028T133006Z
LAST-MODIFIED:20221028T133006Z
UID:10016803-1669481400-1669485000@www.dancesoul.com.tw
SUMMARY:MV-(LE SSERAFIM - ANTIFRAGILE)-薇臻
DESCRIPTION:
URL:https://www.dancesoul.com.tw/schedule/mv-le-sserafim-antifragile-%e8%96%87%e8%87%bb/2022-11-26/
LOCATION:仁愛路四段425-1號\, Taipei City\, 104\, 台灣
CATEGORIES:MV課,課程
END:VEVENT
BEGIN:VEVENT
DTSTART;TZID=Asia/Shanghai:20221119T165000
DTEND;TZID=Asia/Shanghai:20221119T175000
DTSTAMP:20260423T093935
CREATED:20221028T133006Z
LAST-MODIFIED:20221028T133006Z
UID:10016802-1668876600-1668880200@www.dancesoul.com.tw
SUMMARY:MV-(LE SSERAFIM - ANTIFRAGILE)-薇臻
DESCRIPTION:
URL:https://www.dancesoul.com.tw/schedule/mv-le-sserafim-antifragile-%e8%96%87%e8%87%bb/2022-11-19/
LOCATION:仁愛路四段425-1號\, Taipei City\, 104\, 台灣
CATEGORIES:MV課,課程
END:VEVENT
BEGIN:VEVENT
DTSTART;TZID=Asia/Shanghai:20221112T165000
DTEND;TZID=Asia/Shanghai:20221112T175000
DTSTAMP:20260423T093935
CREATED:20221028T133006Z
LAST-MODIFIED:20221028T133006Z
UID:10016801-1668271800-1668275400@www.dancesoul.com.tw
SUMMARY:MV-(LE SSERAFIM - ANTIFRAGILE)-薇臻
DESCRIPTION:
URL:https://www.dancesoul.com.tw/schedule/mv-le-sserafim-antifragile-%e8%96%87%e8%87%bb/2022-11-12/
LOCATION:仁愛路四段425-1號\, Taipei City\, 104\, 台灣
CATEGORIES:MV課,課程
END:VEVENT
BEGIN:VEVENT
DTSTART;TZID=Asia/Shanghai:20221105T165000
DTEND;TZID=Asia/Shanghai:20221105T175000
DTSTAMP:20260423T093935
CREATED:20221028T133006Z
LAST-MODIFIED:20221028T133006Z
UID:10016800-1667667000-1667670600@www.dancesoul.com.tw
SUMMARY:MV-(LE SSERAFIM - ANTIFRAGILE)-薇臻
DESCRIPTION:
URL:https://www.dancesoul.com.tw/schedule/mv-le-sserafim-antifragile-%e8%96%87%e8%87%bb/2022-11-05/
LOCATION:仁愛路四段425-1號\, Taipei City\, 104\, 台灣
CATEGORIES:MV課,課程
END:VEVENT
END:VCALENDAR