BEGIN:VCALENDAR
VERSION:2.0
PRODID:-//DANCE SOUL 舞魂街舞學校 - ECPv6.15.18//NONSGML v1.0//EN
CALSCALE:GREGORIAN
METHOD:PUBLISH
X-ORIGINAL-URL:https://www.dancesoul.com.tw
X-WR-CALDESC:Events for DANCE SOUL 舞魂街舞學校
REFRESH-INTERVAL;VALUE=DURATION:PT1H
X-Robots-Tag:noindex
X-PUBLISHED-TTL:PT1H
BEGIN:VTIMEZONE
TZID:Asia/Shanghai
BEGIN:STANDARD
TZOFFSETFROM:+0800
TZOFFSETTO:+0800
TZNAME:CST
DTSTART:20210101T000000
END:STANDARD
END:VTIMEZONE
BEGIN:VEVENT
DTSTART;TZID=Asia/Shanghai:20221030T165000
DTEND;TZID=Asia/Shanghai:20221030T175000
DTSTAMP:20260425T232051
CREATED:20220926T055401Z
LAST-MODIFIED:20220926T055401Z
UID:10015364-1667148600-1667152200@www.dancesoul.com.tw
SUMMARY:MV-(NCT 127 - 2 Baddies)-星云
DESCRIPTION:
URL:https://www.dancesoul.com.tw/schedule/mv-nct-127-2-baddies-%e6%98%9f%e4%ba%91-2/2022-10-30/
LOCATION:仁愛路四段425-1號\, Taipei City\, 104\, 台灣
CATEGORIES:MV課,課程
END:VEVENT
BEGIN:VEVENT
DTSTART;TZID=Asia/Shanghai:20221023T165000
DTEND;TZID=Asia/Shanghai:20221023T175000
DTSTAMP:20260425T232051
CREATED:20220926T055401Z
LAST-MODIFIED:20220926T055401Z
UID:10015363-1666543800-1666547400@www.dancesoul.com.tw
SUMMARY:MV-(NCT 127 - 2 Baddies)-星云
DESCRIPTION:
URL:https://www.dancesoul.com.tw/schedule/mv-nct-127-2-baddies-%e6%98%9f%e4%ba%91-2/2022-10-23/
LOCATION:仁愛路四段425-1號\, Taipei City\, 104\, 台灣
CATEGORIES:MV課,課程
END:VEVENT
BEGIN:VEVENT
DTSTART;TZID=Asia/Shanghai:20221016T165000
DTEND;TZID=Asia/Shanghai:20221016T175000
DTSTAMP:20260425T232051
CREATED:20220926T055401Z
LAST-MODIFIED:20220926T055401Z
UID:10015362-1665939000-1665942600@www.dancesoul.com.tw
SUMMARY:MV-(NCT 127 - 2 Baddies)-星云
DESCRIPTION:
URL:https://www.dancesoul.com.tw/schedule/mv-nct-127-2-baddies-%e6%98%9f%e4%ba%91-2/2022-10-16/
LOCATION:仁愛路四段425-1號\, Taipei City\, 104\, 台灣
CATEGORIES:MV課,課程
END:VEVENT
BEGIN:VEVENT
DTSTART;TZID=Asia/Shanghai:20221002T165000
DTEND;TZID=Asia/Shanghai:20221002T175000
DTSTAMP:20260425T232051
CREATED:20220926T055317Z
LAST-MODIFIED:20220926T055317Z
UID:10015360-1664729400-1664733000@www.dancesoul.com.tw
SUMMARY:MV-(NCT 127 - 2 Baddies)-星云
DESCRIPTION:
URL:https://www.dancesoul.com.tw/schedule/mv-nct-127-2-baddies-%e6%98%9f%e4%ba%91/
LOCATION:仁愛路四段425-1號\, Taipei City\, 104\, 台灣
CATEGORIES:MV課,課程
END:VEVENT
END:VCALENDAR