BEGIN:VCALENDAR
VERSION:2.0
PRODID:-//DANCE SOUL 舞魂街舞學校 - ECPv6.15.18//NONSGML v1.0//EN
CALSCALE:GREGORIAN
METHOD:PUBLISH
X-WR-CALNAME:DANCE SOUL 舞魂街舞學校
X-ORIGINAL-URL:https://www.dancesoul.com.tw
X-WR-CALDESC:Events for DANCE SOUL 舞魂街舞學校
REFRESH-INTERVAL;VALUE=DURATION:PT1H
X-Robots-Tag:noindex
X-PUBLISHED-TTL:PT1H
BEGIN:VTIMEZONE
TZID:Asia/Shanghai
BEGIN:STANDARD
TZOFFSETFROM:+0800
TZOFFSETTO:+0800
TZNAME:CST
DTSTART:20220101T000000
END:STANDARD
END:VTIMEZONE
BEGIN:VEVENT
DTSTART;TZID=Asia/Shanghai:20230826T165000
DTEND;TZID=Asia/Shanghai:20230826T175000
DTSTAMP:20260425T213007
CREATED:20230729T105706Z
LAST-MODIFIED:20230729T105706Z
UID:10016427-1693068600-1693072200@www.dancesoul.com.tw
SUMMARY:MV-(NewJeans - Super Shy)-怡妏
DESCRIPTION:
URL:https://www.dancesoul.com.tw/schedule/mv-newjeans-super-shy-%e6%80%a1%e5%a6%8f/2023-08-26/
LOCATION:仁愛路四段425-1號\, Taipei City\, 104\, 台灣
CATEGORIES:MV課,課程
END:VEVENT
BEGIN:VEVENT
DTSTART;TZID=Asia/Shanghai:20230819T165000
DTEND;TZID=Asia/Shanghai:20230819T175000
DTSTAMP:20260425T213007
CREATED:20230729T105706Z
LAST-MODIFIED:20230729T105706Z
UID:10016426-1692463800-1692467400@www.dancesoul.com.tw
SUMMARY:MV-(NewJeans - Super Shy)-怡妏
DESCRIPTION:
URL:https://www.dancesoul.com.tw/schedule/mv-newjeans-super-shy-%e6%80%a1%e5%a6%8f/2023-08-19/
LOCATION:仁愛路四段425-1號\, Taipei City\, 104\, 台灣
CATEGORIES:MV課,課程
END:VEVENT
BEGIN:VEVENT
DTSTART;TZID=Asia/Shanghai:20230812T165000
DTEND;TZID=Asia/Shanghai:20230812T175000
DTSTAMP:20260425T213008
CREATED:20230729T105706Z
LAST-MODIFIED:20230729T105706Z
UID:10016425-1691859000-1691862600@www.dancesoul.com.tw
SUMMARY:MV-(NewJeans - Super Shy)-怡妏
DESCRIPTION:
URL:https://www.dancesoul.com.tw/schedule/mv-newjeans-super-shy-%e6%80%a1%e5%a6%8f/2023-08-12/
LOCATION:仁愛路四段425-1號\, Taipei City\, 104\, 台灣
CATEGORIES:MV課,課程
END:VEVENT
BEGIN:VEVENT
DTSTART;TZID=Asia/Shanghai:20230805T165000
DTEND;TZID=Asia/Shanghai:20230805T175000
DTSTAMP:20260425T213008
CREATED:20230729T105706Z
LAST-MODIFIED:20230729T105706Z
UID:10016424-1691254200-1691257800@www.dancesoul.com.tw
SUMMARY:MV-(NewJeans - Super Shy)-怡妏
DESCRIPTION:
URL:https://www.dancesoul.com.tw/schedule/mv-newjeans-super-shy-%e6%80%a1%e5%a6%8f/2023-08-05/
LOCATION:仁愛路四段425-1號\, Taipei City\, 104\, 台灣
CATEGORIES:MV課,課程
END:VEVENT
END:VCALENDAR