BEGIN:VCALENDAR
VERSION:2.0
PRODID:-//DANCE SOUL 舞魂街舞學校 - ECPv6.15.18//NONSGML v1.0//EN
CALSCALE:GREGORIAN
METHOD:PUBLISH
X-ORIGINAL-URL:https://www.dancesoul.com.tw
X-WR-CALDESC:Events for DANCE SOUL 舞魂街舞學校
REFRESH-INTERVAL;VALUE=DURATION:PT1H
X-Robots-Tag:noindex
X-PUBLISHED-TTL:PT1H
BEGIN:VTIMEZONE
TZID:Asia/Shanghai
BEGIN:STANDARD
TZOFFSETFROM:+0800
TZOFFSETTO:+0800
TZNAME:CST
DTSTART:20210101T000000
END:STANDARD
END:VTIMEZONE
BEGIN:VEVENT
DTSTART;TZID=Asia/Shanghai:20220227T165000
DTEND;TZID=Asia/Shanghai:20220227T175000
DTSTAMP:20260426T101151
CREATED:20220127T093802Z
LAST-MODIFIED:20220127T093802Z
UID:10015002-1645980600-1645984200@www.dancesoul.com.tw
SUMMARY:MV-星云( ENHYPEN - Blessed-Cursed)
DESCRIPTION:
URL:https://www.dancesoul.com.tw/schedule/mv-%e6%98%9f%e4%ba%91-enhypen-blessed-cursed/2022-02-27/
LOCATION:仁愛路四段425-1號\, Taipei City\, 104\, 台灣
CATEGORIES:MV課,課程
END:VEVENT
BEGIN:VEVENT
DTSTART;TZID=Asia/Shanghai:20220220T165000
DTEND;TZID=Asia/Shanghai:20220220T175000
DTSTAMP:20260426T101151
CREATED:20220127T093802Z
LAST-MODIFIED:20220127T093802Z
UID:10015001-1645375800-1645379400@www.dancesoul.com.tw
SUMMARY:MV-星云( ENHYPEN - Blessed-Cursed)
DESCRIPTION:
URL:https://www.dancesoul.com.tw/schedule/mv-%e6%98%9f%e4%ba%91-enhypen-blessed-cursed/2022-02-20/
LOCATION:仁愛路四段425-1號\, Taipei City\, 104\, 台灣
CATEGORIES:MV課,課程
END:VEVENT
BEGIN:VEVENT
DTSTART;TZID=Asia/Shanghai:20220213T165000
DTEND;TZID=Asia/Shanghai:20220213T175000
DTSTAMP:20260426T101151
CREATED:20220127T093802Z
LAST-MODIFIED:20220127T093802Z
UID:10015000-1644771000-1644774600@www.dancesoul.com.tw
SUMMARY:MV-星云( ENHYPEN - Blessed-Cursed)
DESCRIPTION:
URL:https://www.dancesoul.com.tw/schedule/mv-%e6%98%9f%e4%ba%91-enhypen-blessed-cursed/2022-02-13/
LOCATION:仁愛路四段425-1號\, Taipei City\, 104\, 台灣
CATEGORIES:MV課,課程
END:VEVENT
BEGIN:VEVENT
DTSTART;TZID=Asia/Shanghai:20220206T165000
DTEND;TZID=Asia/Shanghai:20220206T175000
DTSTAMP:20260426T101151
CREATED:20220127T093802Z
LAST-MODIFIED:20220127T093802Z
UID:10014999-1644166200-1644169800@www.dancesoul.com.tw
SUMMARY:MV-星云( ENHYPEN - Blessed-Cursed)
DESCRIPTION:
URL:https://www.dancesoul.com.tw/schedule/mv-%e6%98%9f%e4%ba%91-enhypen-blessed-cursed/2022-02-06/
LOCATION:仁愛路四段425-1號\, Taipei City\, 104\, 台灣
CATEGORIES:MV課,課程
END:VEVENT
END:VCALENDAR