BEGIN:VCALENDAR
VERSION:2.0
PRODID:-//DANCE SOUL 舞魂街舞學校 - ECPv6.15.18//NONSGML v1.0//EN
CALSCALE:GREGORIAN
METHOD:PUBLISH
X-ORIGINAL-URL:https://www.dancesoul.com.tw
X-WR-CALDESC:Events for DANCE SOUL 舞魂街舞學校
REFRESH-INTERVAL;VALUE=DURATION:PT1H
X-Robots-Tag:noindex
X-PUBLISHED-TTL:PT1H
BEGIN:VTIMEZONE
TZID:Asia/Shanghai
BEGIN:STANDARD
TZOFFSETFROM:+0800
TZOFFSETTO:+0800
TZNAME:CST
DTSTART:20210101T000000
END:STANDARD
END:VTIMEZONE
BEGIN:VEVENT
DTSTART;TZID=Asia/Shanghai:20220828T165000
DTEND;TZID=Asia/Shanghai:20220828T175000
DTSTAMP:20260423T073514
CREATED:20220728T104338Z
LAST-MODIFIED:20220728T104338Z
UID:10014937-1661705400-1661709000@www.dancesoul.com.tw
SUMMARY:MV-(羅志祥 - TRAP GAME)-小虎
DESCRIPTION:
URL:https://www.dancesoul.com.tw/schedule/mv-%e7%be%85%e5%bf%97%e7%a5%a5-trap-game-%e5%b0%8f%e8%99%8e/2022-08-28/
LOCATION:仁愛路四段425-1號\, Taipei City\, 104\, 台灣
CATEGORIES:MV課,課程
END:VEVENT
BEGIN:VEVENT
DTSTART;TZID=Asia/Shanghai:20220821T165000
DTEND;TZID=Asia/Shanghai:20220821T175000
DTSTAMP:20260423T073514
CREATED:20220728T104338Z
LAST-MODIFIED:20220728T104338Z
UID:10014936-1661100600-1661104200@www.dancesoul.com.tw
SUMMARY:MV-(羅志祥 - TRAP GAME)-小虎
DESCRIPTION:
URL:https://www.dancesoul.com.tw/schedule/mv-%e7%be%85%e5%bf%97%e7%a5%a5-trap-game-%e5%b0%8f%e8%99%8e/2022-08-21/
LOCATION:仁愛路四段425-1號\, Taipei City\, 104\, 台灣
CATEGORIES:MV課,課程
END:VEVENT
BEGIN:VEVENT
DTSTART;TZID=Asia/Shanghai:20220814T165000
DTEND;TZID=Asia/Shanghai:20220814T175000
DTSTAMP:20260423T073514
CREATED:20220728T104338Z
LAST-MODIFIED:20220728T104338Z
UID:10014935-1660495800-1660499400@www.dancesoul.com.tw
SUMMARY:MV-(羅志祥 - TRAP GAME)-小虎
DESCRIPTION:
URL:https://www.dancesoul.com.tw/schedule/mv-%e7%be%85%e5%bf%97%e7%a5%a5-trap-game-%e5%b0%8f%e8%99%8e/2022-08-14/
LOCATION:仁愛路四段425-1號\, Taipei City\, 104\, 台灣
CATEGORIES:MV課,課程
END:VEVENT
BEGIN:VEVENT
DTSTART;TZID=Asia/Shanghai:20220807T165000
DTEND;TZID=Asia/Shanghai:20220807T175000
DTSTAMP:20260423T073514
CREATED:20220728T104338Z
LAST-MODIFIED:20220728T104338Z
UID:10014934-1659891000-1659894600@www.dancesoul.com.tw
SUMMARY:MV-(羅志祥 - TRAP GAME)-小虎
DESCRIPTION:
URL:https://www.dancesoul.com.tw/schedule/mv-%e7%be%85%e5%bf%97%e7%a5%a5-trap-game-%e5%b0%8f%e8%99%8e/2022-08-07/
LOCATION:仁愛路四段425-1號\, Taipei City\, 104\, 台灣
CATEGORIES:MV課,課程
END:VEVENT
END:VCALENDAR