BEGIN:VCALENDAR
VERSION:2.0
PRODID:-//DANCE SOUL 舞魂街舞學校 - ECPv6.15.18//NONSGML v1.0//EN
CALSCALE:GREGORIAN
METHOD:PUBLISH
X-ORIGINAL-URL:https://www.dancesoul.com.tw
X-WR-CALDESC:Events for DANCE SOUL 舞魂街舞學校
REFRESH-INTERVAL;VALUE=DURATION:PT1H
X-Robots-Tag:noindex
X-PUBLISHED-TTL:PT1H
BEGIN:VTIMEZONE
TZID:Asia/Shanghai
BEGIN:STANDARD
TZOFFSETFROM:+0800
TZOFFSETTO:+0800
TZNAME:CST
DTSTART:20230101T000000
END:STANDARD
END:VTIMEZONE
BEGIN:VEVENT
DTSTART;TZID=Asia/Shanghai:20240526T165000
DTEND;TZID=Asia/Shanghai:20240526T175000
DTSTAMP:20260423T054948
CREATED:20240423T092517Z
LAST-MODIFIED:20240423T092517Z
UID:10019500-1716742200-1716745800@www.dancesoul.com.tw
SUMMARY:MV-(솔라 Solar - GLAM SILVER)-瑜庭
DESCRIPTION:
URL:https://www.dancesoul.com.tw/schedule/mv-%ec%86%94%eb%9d%bc-solar-glam-silver-%e7%91%9c%e5%ba%ad/2024-05-26/
CATEGORIES:MV課,課程
END:VEVENT
BEGIN:VEVENT
DTSTART;TZID=Asia/Shanghai:20240519T165000
DTEND;TZID=Asia/Shanghai:20240519T175000
DTSTAMP:20260423T054948
CREATED:20240423T092517Z
LAST-MODIFIED:20240423T092517Z
UID:10019499-1716137400-1716141000@www.dancesoul.com.tw
SUMMARY:MV-(솔라 Solar - GLAM SILVER)-瑜庭
DESCRIPTION:
URL:https://www.dancesoul.com.tw/schedule/mv-%ec%86%94%eb%9d%bc-solar-glam-silver-%e7%91%9c%e5%ba%ad/2024-05-19/
CATEGORIES:MV課,課程
END:VEVENT
BEGIN:VEVENT
DTSTART;TZID=Asia/Shanghai:20240512T165000
DTEND;TZID=Asia/Shanghai:20240512T175000
DTSTAMP:20260423T054948
CREATED:20240423T092517Z
LAST-MODIFIED:20240423T092517Z
UID:10019498-1715532600-1715536200@www.dancesoul.com.tw
SUMMARY:MV-(솔라 Solar - GLAM SILVER)-瑜庭
DESCRIPTION:
URL:https://www.dancesoul.com.tw/schedule/mv-%ec%86%94%eb%9d%bc-solar-glam-silver-%e7%91%9c%e5%ba%ad/2024-05-12/
CATEGORIES:MV課,課程
END:VEVENT
BEGIN:VEVENT
DTSTART;TZID=Asia/Shanghai:20240505T165000
DTEND;TZID=Asia/Shanghai:20240505T175000
DTSTAMP:20260423T054948
CREATED:20240423T092517Z
LAST-MODIFIED:20240423T092517Z
UID:10019497-1714927800-1714931400@www.dancesoul.com.tw
SUMMARY:MV-(솔라 Solar - GLAM SILVER)-瑜庭
DESCRIPTION:
URL:https://www.dancesoul.com.tw/schedule/mv-%ec%86%94%eb%9d%bc-solar-glam-silver-%e7%91%9c%e5%ba%ad/2024-05-05/
CATEGORIES:MV課,課程
END:VEVENT
END:VCALENDAR