BEGIN:VCALENDAR
VERSION:2.0
PRODID:-//DANCE SOUL 舞魂街舞學校 - ECPv6.15.18//NONSGML v1.0//EN
CALSCALE:GREGORIAN
METHOD:PUBLISH
X-ORIGINAL-URL:https://www.dancesoul.com.tw
X-WR-CALDESC:Events for DANCE SOUL 舞魂街舞學校
REFRESH-INTERVAL;VALUE=DURATION:PT1H
X-Robots-Tag:noindex
X-PUBLISHED-TTL:PT1H
BEGIN:VTIMEZONE
TZID:Asia/Shanghai
BEGIN:STANDARD
TZOFFSETFROM:+0800
TZOFFSETTO:+0800
TZNAME:CST
DTSTART:20220101T000000
END:STANDARD
END:VTIMEZONE
BEGIN:VEVENT
DTSTART;TZID=Asia/Shanghai:20230208T165000
DTEND;TZID=Asia/Shanghai:20230208T175000
DTSTAMP:20260426T063027
CREATED:20230130T080606Z
LAST-MODIFIED:20230130T085717Z
UID:10015793-1675875000-1675878600@www.dancesoul.com.tw
SUMMARY:Street Jazz-Kyle
DESCRIPTION:
URL:https://www.dancesoul.com.tw/schedule/street-jazz-kyle-2/2023-02-08/
LOCATION:仁愛路四段425-1號\, Taipei City\, 104\, 台灣
CATEGORIES:STREET JAZZ,常態課_一般
END:VEVENT
BEGIN:VEVENT
DTSTART;TZID=Asia/Shanghai:20230201T165000
DTEND;TZID=Asia/Shanghai:20230201T175000
DTSTAMP:20260426T063027
CREATED:20230130T080606Z
LAST-MODIFIED:20230130T085717Z
UID:10015792-1675270200-1675273800@www.dancesoul.com.tw
SUMMARY:Street Jazz-Kyle
DESCRIPTION:
URL:https://www.dancesoul.com.tw/schedule/street-jazz-kyle-2/2023-02-01/
LOCATION:仁愛路四段425-1號\, Taipei City\, 104\, 台灣
CATEGORIES:STREET JAZZ,常態課_一般
END:VEVENT
BEGIN:VEVENT
DTSTART;TZID=Asia/Shanghai:20230118T165000
DTEND;TZID=Asia/Shanghai:20230118T175000
DTSTAMP:20260426T063027
CREATED:20230102T094651Z
LAST-MODIFIED:20230102T094651Z
UID:10015744-1674060600-1674064200@www.dancesoul.com.tw
SUMMARY:Street Jazz-Kyle
DESCRIPTION:
URL:https://www.dancesoul.com.tw/schedule/street-jazz-kyle/
LOCATION:仁愛路四段425-1號\, Taipei City\, 104\, 台灣
CATEGORIES:STREET JAZZ,常態課_一般,課程
END:VEVENT
END:VCALENDAR