BEGIN:VCALENDAR
VERSION:2.0
PRODID:-//DANCE SOUL 舞魂街舞學校 - ECPv6.15.18//NONSGML v1.0//EN
CALSCALE:GREGORIAN
METHOD:PUBLISH
X-ORIGINAL-URL:https://www.dancesoul.com.tw
X-WR-CALDESC:Events for DANCE SOUL 舞魂街舞學校
REFRESH-INTERVAL;VALUE=DURATION:PT1H
X-Robots-Tag:noindex
X-PUBLISHED-TTL:PT1H
BEGIN:VTIMEZONE
TZID:Asia/Shanghai
BEGIN:STANDARD
TZOFFSETFROM:+0800
TZOFFSETTO:+0800
TZNAME:CST
DTSTART:20240101T000000
END:STANDARD
END:VTIMEZONE
BEGIN:VEVENT
DTSTART;TZID=Asia/Shanghai:20250402T192500
DTEND;TZID=Asia/Shanghai:20250402T202500
DTSTAMP:20260426T003950
CREATED:20250328T075545Z
LAST-MODIFIED:20250328T075545Z
UID:10021342-1743621900-1743625500@www.dancesoul.com.tw
SUMMARY:Street Jazz-Larry
DESCRIPTION:
URL:https://www.dancesoul.com.tw/schedule/street-jazz-larry-27/2025-04-02/
CATEGORIES:STREET JAZZ,常態課_一般,課程
END:VEVENT
BEGIN:VEVENT
DTSTART;TZID=Asia/Shanghai:20250409T192500
DTEND;TZID=Asia/Shanghai:20250409T202500
DTSTAMP:20260426T003950
CREATED:20250328T075545Z
LAST-MODIFIED:20250328T075545Z
UID:10021343-1744226700-1744230300@www.dancesoul.com.tw
SUMMARY:Street Jazz-Larry
DESCRIPTION:
URL:https://www.dancesoul.com.tw/schedule/street-jazz-larry-27/2025-04-09/
CATEGORIES:STREET JAZZ,常態課_一般,課程
END:VEVENT
BEGIN:VEVENT
DTSTART;TZID=Asia/Shanghai:20250416T192500
DTEND;TZID=Asia/Shanghai:20250416T202500
DTSTAMP:20260426T003950
CREATED:20250328T075545Z
LAST-MODIFIED:20250328T075545Z
UID:10021344-1744831500-1744835100@www.dancesoul.com.tw
SUMMARY:Street Jazz-Larry
DESCRIPTION:
URL:https://www.dancesoul.com.tw/schedule/street-jazz-larry-27/2025-04-16/
CATEGORIES:STREET JAZZ,常態課_一般,課程
END:VEVENT
BEGIN:VEVENT
DTSTART;TZID=Asia/Shanghai:20250423T192500
DTEND;TZID=Asia/Shanghai:20250423T202500
DTSTAMP:20260426T003950
CREATED:20250328T075545Z
LAST-MODIFIED:20250328T075545Z
UID:10021345-1745436300-1745439900@www.dancesoul.com.tw
SUMMARY:Street Jazz-Larry
DESCRIPTION:
URL:https://www.dancesoul.com.tw/schedule/street-jazz-larry-27/2025-04-23/
CATEGORIES:STREET JAZZ,常態課_一般,課程
END:VEVENT
BEGIN:VEVENT
DTSTART;TZID=Asia/Shanghai:20250430T192500
DTEND;TZID=Asia/Shanghai:20250430T202500
DTSTAMP:20260426T003950
CREATED:20250328T075545Z
LAST-MODIFIED:20250328T075545Z
UID:10021346-1746041100-1746044700@www.dancesoul.com.tw
SUMMARY:Street Jazz-Larry
DESCRIPTION:
URL:https://www.dancesoul.com.tw/schedule/street-jazz-larry-27/2025-04-30/
CATEGORIES:STREET JAZZ,常態課_一般,課程
END:VEVENT
END:VCALENDAR