BEGIN:VCALENDAR
VERSION:2.0
PRODID:-//DANCE SOUL 舞魂街舞學校 - ECPv6.15.18//NONSGML v1.0//EN
CALSCALE:GREGORIAN
METHOD:PUBLISH
X-ORIGINAL-URL:https://www.dancesoul.com.tw
X-WR-CALDESC:Events for DANCE SOUL 舞魂街舞學校
REFRESH-INTERVAL;VALUE=DURATION:PT1H
X-Robots-Tag:noindex
X-PUBLISHED-TTL:PT1H
BEGIN:VTIMEZONE
TZID:Asia/Shanghai
BEGIN:STANDARD
TZOFFSETFROM:+0800
TZOFFSETTO:+0800
TZNAME:CST
DTSTART:20210101T000000
END:STANDARD
END:VTIMEZONE
BEGIN:VEVENT
DTSTART;TZID=Asia/Shanghai:20230130T180000
DTEND;TZID=Asia/Shanghai:20230130T190000
DTSTAMP:20260421T233505
CREATED:20221231T193209Z
LAST-MODIFIED:20221231T193209Z
UID:10015648-1675101600-1675105200@www.dancesoul.com.tw
SUMMARY:Street Jazz-小恐龍
DESCRIPTION:
URL:https://www.dancesoul.com.tw/schedule/street-jazz-%e5%b0%8f%e6%81%90%e9%be%8d-23/
LOCATION:仁愛路四段425-1號\, Taipei City\, 104\, 台灣
CATEGORIES:STREET JAZZ,常態課_一般,課程
END:VEVENT
BEGIN:VEVENT
DTSTART;TZID=Asia/Shanghai:20230116T180000
DTEND;TZID=Asia/Shanghai:20230116T190000
DTSTAMP:20260421T233505
CREATED:20221231T193144Z
LAST-MODIFIED:20221231T193144Z
UID:10015647-1673892000-1673895600@www.dancesoul.com.tw
SUMMARY:Street Jazz-小恐龍
DESCRIPTION:
URL:https://www.dancesoul.com.tw/schedule/street-jazz-%e5%b0%8f%e6%81%90%e9%be%8d-22/2023-01-16/
LOCATION:仁愛路四段425-1號\, Taipei City\, 104\, 台灣
CATEGORIES:STREET JAZZ,常態課_一般,課程
END:VEVENT
BEGIN:VEVENT
DTSTART;TZID=Asia/Shanghai:20230109T180000
DTEND;TZID=Asia/Shanghai:20230109T190000
DTSTAMP:20260421T233506
CREATED:20221231T193144Z
LAST-MODIFIED:20221231T193144Z
UID:10015646-1673287200-1673290800@www.dancesoul.com.tw
SUMMARY:Street Jazz-小恐龍
DESCRIPTION:
URL:https://www.dancesoul.com.tw/schedule/street-jazz-%e5%b0%8f%e6%81%90%e9%be%8d-22/2023-01-09/
LOCATION:仁愛路四段425-1號\, Taipei City\, 104\, 台灣
CATEGORIES:STREET JAZZ,常態課_一般,課程
END:VEVENT
BEGIN:VEVENT
DTSTART;TZID=Asia/Shanghai:20230102T180000
DTEND;TZID=Asia/Shanghai:20230102T190000
DTSTAMP:20260421T233506
CREATED:20221231T193144Z
LAST-MODIFIED:20221231T193144Z
UID:10015645-1672682400-1672686000@www.dancesoul.com.tw
SUMMARY:Street Jazz-小恐龍
DESCRIPTION:
URL:https://www.dancesoul.com.tw/schedule/street-jazz-%e5%b0%8f%e6%81%90%e9%be%8d-22/2023-01-02/
LOCATION:仁愛路四段425-1號\, Taipei City\, 104\, 台灣
CATEGORIES:STREET JAZZ,常態課_一般,課程
END:VEVENT
BEGIN:VEVENT
DTSTART;TZID=Asia/Shanghai:20221226T180000
DTEND;TZID=Asia/Shanghai:20221226T190000
DTSTAMP:20260421T233506
CREATED:20221128T133206Z
LAST-MODIFIED:20221128T133440Z
UID:10016933-1672077600-1672081200@www.dancesoul.com.tw
SUMMARY:Street Jazz-小恐龍
DESCRIPTION:
URL:https://www.dancesoul.com.tw/schedule/street-jazz-%e5%b0%8f%e6%81%90%e9%be%8d-21/2022-12-26/
LOCATION:仁愛路四段425-1號\, Taipei City\, 104\, 台灣
CATEGORIES:STREET JAZZ,常態課_一般,課程
END:VEVENT
BEGIN:VEVENT
DTSTART;TZID=Asia/Shanghai:20221219T180000
DTEND;TZID=Asia/Shanghai:20221219T190000
DTSTAMP:20260421T233506
CREATED:20221128T133206Z
LAST-MODIFIED:20221128T133440Z
UID:10016932-1671472800-1671476400@www.dancesoul.com.tw
SUMMARY:Street Jazz-小恐龍
DESCRIPTION:
URL:https://www.dancesoul.com.tw/schedule/street-jazz-%e5%b0%8f%e6%81%90%e9%be%8d-21/2022-12-19/
LOCATION:仁愛路四段425-1號\, Taipei City\, 104\, 台灣
CATEGORIES:STREET JAZZ,常態課_一般,課程
END:VEVENT
BEGIN:VEVENT
DTSTART;TZID=Asia/Shanghai:20221212T180000
DTEND;TZID=Asia/Shanghai:20221212T190000
DTSTAMP:20260421T233506
CREATED:20221128T133206Z
LAST-MODIFIED:20221128T133440Z
UID:10016931-1670868000-1670871600@www.dancesoul.com.tw
SUMMARY:Street Jazz-小恐龍
DESCRIPTION:
URL:https://www.dancesoul.com.tw/schedule/street-jazz-%e5%b0%8f%e6%81%90%e9%be%8d-21/2022-12-12/
LOCATION:仁愛路四段425-1號\, Taipei City\, 104\, 台灣
CATEGORIES:STREET JAZZ,常態課_一般,課程
END:VEVENT
BEGIN:VEVENT
DTSTART;TZID=Asia/Shanghai:20221205T180000
DTEND;TZID=Asia/Shanghai:20221205T190000
DTSTAMP:20260421T233506
CREATED:20221128T133206Z
LAST-MODIFIED:20221128T133440Z
UID:10016930-1670263200-1670266800@www.dancesoul.com.tw
SUMMARY:Street Jazz-小恐龍
DESCRIPTION:
URL:https://www.dancesoul.com.tw/schedule/street-jazz-%e5%b0%8f%e6%81%90%e9%be%8d-21/2022-12-05/
LOCATION:仁愛路四段425-1號\, Taipei City\, 104\, 台灣
CATEGORIES:STREET JAZZ,常態課_一般,課程
END:VEVENT
BEGIN:VEVENT
DTSTART;TZID=Asia/Shanghai:20221128T180000
DTEND;TZID=Asia/Shanghai:20221128T190000
DTSTAMP:20260421T233506
CREATED:20221028T131734Z
LAST-MODIFIED:20221028T131955Z
UID:10016775-1669658400-1669662000@www.dancesoul.com.tw
SUMMARY:Street Jazz-小恐龍
DESCRIPTION:
URL:https://www.dancesoul.com.tw/schedule/street-jazz-%e5%b0%8f%e6%81%90%e9%be%8d-20/2022-11-28/
LOCATION:仁愛路四段425-1號\, Taipei City\, 104\, 台灣
CATEGORIES:STREET JAZZ,常態課_一般,課程
END:VEVENT
BEGIN:VEVENT
DTSTART;TZID=Asia/Shanghai:20221121T180000
DTEND;TZID=Asia/Shanghai:20221121T190000
DTSTAMP:20260421T233506
CREATED:20221028T131734Z
LAST-MODIFIED:20221028T131955Z
UID:10016774-1669053600-1669057200@www.dancesoul.com.tw
SUMMARY:Street Jazz-小恐龍
DESCRIPTION:
URL:https://www.dancesoul.com.tw/schedule/street-jazz-%e5%b0%8f%e6%81%90%e9%be%8d-20/2022-11-21/
LOCATION:仁愛路四段425-1號\, Taipei City\, 104\, 台灣
CATEGORIES:STREET JAZZ,常態課_一般,課程
END:VEVENT
BEGIN:VEVENT
DTSTART;TZID=Asia/Shanghai:20221114T180000
DTEND;TZID=Asia/Shanghai:20221114T190000
DTSTAMP:20260421T233506
CREATED:20221028T131734Z
LAST-MODIFIED:20221028T131955Z
UID:10016773-1668448800-1668452400@www.dancesoul.com.tw
SUMMARY:Street Jazz-小恐龍
DESCRIPTION:
URL:https://www.dancesoul.com.tw/schedule/street-jazz-%e5%b0%8f%e6%81%90%e9%be%8d-20/2022-11-14/
LOCATION:仁愛路四段425-1號\, Taipei City\, 104\, 台灣
CATEGORIES:STREET JAZZ,常態課_一般,課程
END:VEVENT
BEGIN:VEVENT
DTSTART;TZID=Asia/Shanghai:20221107T180000
DTEND;TZID=Asia/Shanghai:20221107T190000
DTSTAMP:20260421T233506
CREATED:20221028T131734Z
LAST-MODIFIED:20221028T131955Z
UID:10016772-1667844000-1667847600@www.dancesoul.com.tw
SUMMARY:Street Jazz-小恐龍
DESCRIPTION:
URL:https://www.dancesoul.com.tw/schedule/street-jazz-%e5%b0%8f%e6%81%90%e9%be%8d-20/2022-11-07/
LOCATION:仁愛路四段425-1號\, Taipei City\, 104\, 台灣
CATEGORIES:STREET JAZZ,常態課_一般,課程
END:VEVENT
BEGIN:VEVENT
DTSTART;TZID=Asia/Shanghai:20221031T180000
DTEND;TZID=Asia/Shanghai:20221031T190000
DTSTAMP:20260421T233506
CREATED:20220925T083639Z
LAST-MODIFIED:20220925T083639Z
UID:10015306-1667239200-1667242800@www.dancesoul.com.tw
SUMMARY:Street Jazz-小恐龍
DESCRIPTION:
URL:https://www.dancesoul.com.tw/schedule/street-jazz-%e5%b0%8f%e6%81%90%e9%be%8d-19/2022-10-31/
LOCATION:仁愛路四段425-1號\, Taipei City\, 104\, 台灣
CATEGORIES:STREET JAZZ,常態課_一般,課程
END:VEVENT
BEGIN:VEVENT
DTSTART;TZID=Asia/Shanghai:20221024T180000
DTEND;TZID=Asia/Shanghai:20221024T190000
DTSTAMP:20260421T233506
CREATED:20220925T083639Z
LAST-MODIFIED:20220925T083639Z
UID:10015305-1666634400-1666638000@www.dancesoul.com.tw
SUMMARY:Street Jazz-小恐龍
DESCRIPTION:
URL:https://www.dancesoul.com.tw/schedule/street-jazz-%e5%b0%8f%e6%81%90%e9%be%8d-19/2022-10-24/
LOCATION:仁愛路四段425-1號\, Taipei City\, 104\, 台灣
CATEGORIES:STREET JAZZ,常態課_一般,課程
END:VEVENT
BEGIN:VEVENT
DTSTART;TZID=Asia/Shanghai:20221017T180000
DTEND;TZID=Asia/Shanghai:20221017T190000
DTSTAMP:20260421T233506
CREATED:20220925T083639Z
LAST-MODIFIED:20220925T083639Z
UID:10015304-1666029600-1666033200@www.dancesoul.com.tw
SUMMARY:Street Jazz-小恐龍
DESCRIPTION:
URL:https://www.dancesoul.com.tw/schedule/street-jazz-%e5%b0%8f%e6%81%90%e9%be%8d-19/2022-10-17/
LOCATION:仁愛路四段425-1號\, Taipei City\, 104\, 台灣
CATEGORIES:STREET JAZZ,常態課_一般,課程
END:VEVENT
BEGIN:VEVENT
DTSTART;TZID=Asia/Shanghai:20221010T180000
DTEND;TZID=Asia/Shanghai:20221010T190000
DTSTAMP:20260421T233506
CREATED:20220925T083639Z
LAST-MODIFIED:20220925T083639Z
UID:10015303-1665424800-1665428400@www.dancesoul.com.tw
SUMMARY:Street Jazz-小恐龍
DESCRIPTION:
URL:https://www.dancesoul.com.tw/schedule/street-jazz-%e5%b0%8f%e6%81%90%e9%be%8d-19/2022-10-10/
LOCATION:仁愛路四段425-1號\, Taipei City\, 104\, 台灣
CATEGORIES:STREET JAZZ,常態課_一般,課程
END:VEVENT
BEGIN:VEVENT
DTSTART;TZID=Asia/Shanghai:20221003T180000
DTEND;TZID=Asia/Shanghai:20221003T190000
DTSTAMP:20260421T233506
CREATED:20220925T083639Z
LAST-MODIFIED:20220925T083639Z
UID:10015302-1664820000-1664823600@www.dancesoul.com.tw
SUMMARY:Street Jazz-小恐龍
DESCRIPTION:
URL:https://www.dancesoul.com.tw/schedule/street-jazz-%e5%b0%8f%e6%81%90%e9%be%8d-19/2022-10-03/
LOCATION:仁愛路四段425-1號\, Taipei City\, 104\, 台灣
CATEGORIES:STREET JAZZ,常態課_一般,課程
END:VEVENT
BEGIN:VEVENT
DTSTART;TZID=Asia/Shanghai:20220926T180000
DTEND;TZID=Asia/Shanghai:20220926T190000
DTSTAMP:20260421T233506
CREATED:20220827T112219Z
LAST-MODIFIED:20220827T112219Z
UID:10014969-1664215200-1664218800@www.dancesoul.com.tw
SUMMARY:Street Jazz-小恐龍
DESCRIPTION:
URL:https://www.dancesoul.com.tw/schedule/street-jazz-%e5%b0%8f%e6%81%90%e9%be%8d-18/2022-09-26/
LOCATION:仁愛路四段425-1號\, Taipei City\, 104\, 台灣
CATEGORIES:STREET JAZZ,常態課_一般,課程
END:VEVENT
BEGIN:VEVENT
DTSTART;TZID=Asia/Shanghai:20220919T180000
DTEND;TZID=Asia/Shanghai:20220919T190000
DTSTAMP:20260421T233506
CREATED:20220827T112219Z
LAST-MODIFIED:20220827T112219Z
UID:10014968-1663610400-1663614000@www.dancesoul.com.tw
SUMMARY:Street Jazz-小恐龍
DESCRIPTION:
URL:https://www.dancesoul.com.tw/schedule/street-jazz-%e5%b0%8f%e6%81%90%e9%be%8d-18/2022-09-19/
LOCATION:仁愛路四段425-1號\, Taipei City\, 104\, 台灣
CATEGORIES:STREET JAZZ,常態課_一般,課程
END:VEVENT
BEGIN:VEVENT
DTSTART;TZID=Asia/Shanghai:20220912T180000
DTEND;TZID=Asia/Shanghai:20220912T190000
DTSTAMP:20260421T233506
CREATED:20220827T112219Z
LAST-MODIFIED:20220827T112219Z
UID:10014967-1663005600-1663009200@www.dancesoul.com.tw
SUMMARY:Street Jazz-小恐龍
DESCRIPTION:
URL:https://www.dancesoul.com.tw/schedule/street-jazz-%e5%b0%8f%e6%81%90%e9%be%8d-18/2022-09-12/
LOCATION:仁愛路四段425-1號\, Taipei City\, 104\, 台灣
CATEGORIES:STREET JAZZ,常態課_一般,課程
END:VEVENT
BEGIN:VEVENT
DTSTART;TZID=Asia/Shanghai:20220905T180000
DTEND;TZID=Asia/Shanghai:20220905T190000
DTSTAMP:20260421T233506
CREATED:20220827T112219Z
LAST-MODIFIED:20220827T112219Z
UID:10014966-1662400800-1662404400@www.dancesoul.com.tw
SUMMARY:Street Jazz-小恐龍
DESCRIPTION:
URL:https://www.dancesoul.com.tw/schedule/street-jazz-%e5%b0%8f%e6%81%90%e9%be%8d-18/2022-09-05/
LOCATION:仁愛路四段425-1號\, Taipei City\, 104\, 台灣
CATEGORIES:STREET JAZZ,常態課_一般,課程
END:VEVENT
BEGIN:VEVENT
DTSTART;TZID=Asia/Shanghai:20220829T180000
DTEND;TZID=Asia/Shanghai:20220829T190000
DTSTAMP:20260421T233506
CREATED:20220728T083636Z
LAST-MODIFIED:20220728T083636Z
UID:10013909-1661796000-1661799600@www.dancesoul.com.tw
SUMMARY:Street Jazz-小恐龍
DESCRIPTION:
URL:https://www.dancesoul.com.tw/schedule/street-jazz-%e5%b0%8f%e6%81%90%e9%be%8d-17/2022-08-29/
LOCATION:仁愛路四段425-1號\, Taipei City\, 104\, 台灣
CATEGORIES:STREET JAZZ,課程
END:VEVENT
BEGIN:VEVENT
DTSTART;TZID=Asia/Shanghai:20220822T180000
DTEND;TZID=Asia/Shanghai:20220822T190000
DTSTAMP:20260421T233506
CREATED:20220728T083636Z
LAST-MODIFIED:20220728T083636Z
UID:10013908-1661191200-1661194800@www.dancesoul.com.tw
SUMMARY:Street Jazz-小恐龍
DESCRIPTION:
URL:https://www.dancesoul.com.tw/schedule/street-jazz-%e5%b0%8f%e6%81%90%e9%be%8d-17/2022-08-22/
LOCATION:仁愛路四段425-1號\, Taipei City\, 104\, 台灣
CATEGORIES:STREET JAZZ,課程
END:VEVENT
BEGIN:VEVENT
DTSTART;TZID=Asia/Shanghai:20220815T180000
DTEND;TZID=Asia/Shanghai:20220815T190000
DTSTAMP:20260421T233506
CREATED:20220728T083636Z
LAST-MODIFIED:20220728T083636Z
UID:10013907-1660586400-1660590000@www.dancesoul.com.tw
SUMMARY:Street Jazz-小恐龍
DESCRIPTION:
URL:https://www.dancesoul.com.tw/schedule/street-jazz-%e5%b0%8f%e6%81%90%e9%be%8d-17/2022-08-15/
LOCATION:仁愛路四段425-1號\, Taipei City\, 104\, 台灣
CATEGORIES:STREET JAZZ,課程
END:VEVENT
BEGIN:VEVENT
DTSTART;TZID=Asia/Shanghai:20220808T180000
DTEND;TZID=Asia/Shanghai:20220808T190000
DTSTAMP:20260421T233506
CREATED:20220728T083636Z
LAST-MODIFIED:20220728T083636Z
UID:10013906-1659981600-1659985200@www.dancesoul.com.tw
SUMMARY:Street Jazz-小恐龍
DESCRIPTION:
URL:https://www.dancesoul.com.tw/schedule/street-jazz-%e5%b0%8f%e6%81%90%e9%be%8d-17/2022-08-08/
LOCATION:仁愛路四段425-1號\, Taipei City\, 104\, 台灣
CATEGORIES:STREET JAZZ,課程
END:VEVENT
BEGIN:VEVENT
DTSTART;TZID=Asia/Shanghai:20220801T180000
DTEND;TZID=Asia/Shanghai:20220801T190000
DTSTAMP:20260421T233506
CREATED:20220728T083636Z
LAST-MODIFIED:20220728T083636Z
UID:10013905-1659376800-1659380400@www.dancesoul.com.tw
SUMMARY:Street Jazz-小恐龍
DESCRIPTION:
URL:https://www.dancesoul.com.tw/schedule/street-jazz-%e5%b0%8f%e6%81%90%e9%be%8d-17/2022-08-01/
LOCATION:仁愛路四段425-1號\, Taipei City\, 104\, 台灣
CATEGORIES:STREET JAZZ,課程
END:VEVENT
BEGIN:VEVENT
DTSTART;TZID=Asia/Shanghai:20220725T180000
DTEND;TZID=Asia/Shanghai:20220725T190000
DTSTAMP:20260421T233506
CREATED:20220623T110759Z
LAST-MODIFIED:20220623T110759Z
UID:10016067-1658772000-1658775600@www.dancesoul.com.tw
SUMMARY:Street Jazz-小恐龍
DESCRIPTION:
URL:https://www.dancesoul.com.tw/schedule/street-jazz-%e5%b0%8f%e6%81%90%e9%be%8d-16/2022-07-25/
LOCATION:仁愛路四段425-1號\, Taipei City\, 104\, 台灣
CATEGORIES:STREET JAZZ,常態課_一般,課程
END:VEVENT
BEGIN:VEVENT
DTSTART;TZID=Asia/Shanghai:20220718T180000
DTEND;TZID=Asia/Shanghai:20220718T190000
DTSTAMP:20260421T233507
CREATED:20220623T110759Z
LAST-MODIFIED:20220623T110759Z
UID:10016066-1658167200-1658170800@www.dancesoul.com.tw
SUMMARY:Street Jazz-小恐龍
DESCRIPTION:
URL:https://www.dancesoul.com.tw/schedule/street-jazz-%e5%b0%8f%e6%81%90%e9%be%8d-16/2022-07-18/
LOCATION:仁愛路四段425-1號\, Taipei City\, 104\, 台灣
CATEGORIES:STREET JAZZ,常態課_一般,課程
END:VEVENT
BEGIN:VEVENT
DTSTART;TZID=Asia/Shanghai:20220711T180000
DTEND;TZID=Asia/Shanghai:20220711T190000
DTSTAMP:20260421T233507
CREATED:20220623T110759Z
LAST-MODIFIED:20220623T110759Z
UID:10016065-1657562400-1657566000@www.dancesoul.com.tw
SUMMARY:Street Jazz-小恐龍
DESCRIPTION:
URL:https://www.dancesoul.com.tw/schedule/street-jazz-%e5%b0%8f%e6%81%90%e9%be%8d-16/2022-07-11/
LOCATION:仁愛路四段425-1號\, Taipei City\, 104\, 台灣
CATEGORIES:STREET JAZZ,常態課_一般,課程
END:VEVENT
BEGIN:VEVENT
DTSTART;TZID=Asia/Shanghai:20220704T180000
DTEND;TZID=Asia/Shanghai:20220704T190000
DTSTAMP:20260421T233507
CREATED:20220623T110759Z
LAST-MODIFIED:20220623T110759Z
UID:10016064-1656957600-1656961200@www.dancesoul.com.tw
SUMMARY:Street Jazz-小恐龍
DESCRIPTION:
URL:https://www.dancesoul.com.tw/schedule/street-jazz-%e5%b0%8f%e6%81%90%e9%be%8d-16/2022-07-04/
LOCATION:仁愛路四段425-1號\, Taipei City\, 104\, 台灣
CATEGORIES:STREET JAZZ,常態課_一般,課程
END:VEVENT
END:VCALENDAR