BEGIN:VCALENDAR
VERSION:2.0
PRODID:-//DANCE SOUL 舞魂街舞學校 - ECPv6.15.18//NONSGML v1.0//EN
CALSCALE:GREGORIAN
METHOD:PUBLISH
X-WR-CALNAME:DANCE SOUL 舞魂街舞學校
X-ORIGINAL-URL:https://www.dancesoul.com.tw
X-WR-CALDESC:Events for DANCE SOUL 舞魂街舞學校
REFRESH-INTERVAL;VALUE=DURATION:PT1H
X-Robots-Tag:noindex
X-PUBLISHED-TTL:PT1H
BEGIN:VTIMEZONE
TZID:Asia/Shanghai
BEGIN:STANDARD
TZOFFSETFROM:+0800
TZOFFSETTO:+0800
TZNAME:CST
DTSTART:20220101T000000
END:STANDARD
END:VTIMEZONE
BEGIN:VEVENT
DTSTART;TZID=Asia/Shanghai:20230905T154000
DTEND;TZID=Asia/Shanghai:20230905T164000
DTSTAMP:20260422T032012
CREATED:20220127T100209Z
LAST-MODIFIED:20220206T052359Z
UID:10015198-1693928400-1693932000@www.dancesoul.com.tw
SUMMARY:Street Jazz-小高
DESCRIPTION:
URL:https://www.dancesoul.com.tw/schedule/street-jazz-%e5%b0%8f%e9%ab%98-2/2023-09-05/
LOCATION:仁愛路四段425-1號\, Taipei City\, 104\, 台灣
CATEGORIES:STREET JAZZ,常態課_一般,課程
END:VEVENT
BEGIN:VEVENT
DTSTART;TZID=Asia/Shanghai:20230904T154000
DTEND;TZID=Asia/Shanghai:20230904T164000
DTSTAMP:20260422T032012
CREATED:20211230T060340Z
LAST-MODIFIED:20211230T060340Z
UID:10013049-1693842000-1693845600@www.dancesoul.com.tw
SUMMARY:Street Jazz-小高
DESCRIPTION:
URL:https://www.dancesoul.com.tw/schedule/street-jazz-%e5%b0%8f%e9%ab%98/2023-09-04/
LOCATION:仁愛路四段425-1號\, Taipei City\, 104\, 台灣
CATEGORIES:STREET JAZZ,常態課_一般,課程
END:VEVENT
BEGIN:VEVENT
DTSTART;TZID=Asia/Shanghai:20230829T154000
DTEND;TZID=Asia/Shanghai:20230829T164000
DTSTAMP:20260422T032012
CREATED:20220127T100209Z
LAST-MODIFIED:20220206T052359Z
UID:10015197-1693323600-1693327200@www.dancesoul.com.tw
SUMMARY:Street Jazz-小高
DESCRIPTION:
URL:https://www.dancesoul.com.tw/schedule/street-jazz-%e5%b0%8f%e9%ab%98-2/2023-08-29/
LOCATION:仁愛路四段425-1號\, Taipei City\, 104\, 台灣
CATEGORIES:STREET JAZZ,常態課_一般,課程
END:VEVENT
BEGIN:VEVENT
DTSTART;TZID=Asia/Shanghai:20230828T154000
DTEND;TZID=Asia/Shanghai:20230828T164000
DTSTAMP:20260422T032012
CREATED:20211230T060340Z
LAST-MODIFIED:20211230T060340Z
UID:10013048-1693237200-1693240800@www.dancesoul.com.tw
SUMMARY:Street Jazz-小高
DESCRIPTION:
URL:https://www.dancesoul.com.tw/schedule/street-jazz-%e5%b0%8f%e9%ab%98/2023-08-28/
LOCATION:仁愛路四段425-1號\, Taipei City\, 104\, 台灣
CATEGORIES:STREET JAZZ,常態課_一般,課程
END:VEVENT
BEGIN:VEVENT
DTSTART;TZID=Asia/Shanghai:20230822T154000
DTEND;TZID=Asia/Shanghai:20230822T164000
DTSTAMP:20260422T032012
CREATED:20220127T100209Z
LAST-MODIFIED:20220206T052359Z
UID:10015196-1692718800-1692722400@www.dancesoul.com.tw
SUMMARY:Street Jazz-小高
DESCRIPTION:
URL:https://www.dancesoul.com.tw/schedule/street-jazz-%e5%b0%8f%e9%ab%98-2/2023-08-22/
LOCATION:仁愛路四段425-1號\, Taipei City\, 104\, 台灣
CATEGORIES:STREET JAZZ,常態課_一般,課程
END:VEVENT
BEGIN:VEVENT
DTSTART;TZID=Asia/Shanghai:20230821T154000
DTEND;TZID=Asia/Shanghai:20230821T164000
DTSTAMP:20260422T032012
CREATED:20211230T060340Z
LAST-MODIFIED:20211230T060340Z
UID:10013047-1692632400-1692636000@www.dancesoul.com.tw
SUMMARY:Street Jazz-小高
DESCRIPTION:
URL:https://www.dancesoul.com.tw/schedule/street-jazz-%e5%b0%8f%e9%ab%98/2023-08-21/
LOCATION:仁愛路四段425-1號\, Taipei City\, 104\, 台灣
CATEGORIES:STREET JAZZ,常態課_一般,課程
END:VEVENT
BEGIN:VEVENT
DTSTART;TZID=Asia/Shanghai:20230815T154000
DTEND;TZID=Asia/Shanghai:20230815T164000
DTSTAMP:20260422T032012
CREATED:20220127T100209Z
LAST-MODIFIED:20220206T052359Z
UID:10015195-1692114000-1692117600@www.dancesoul.com.tw
SUMMARY:Street Jazz-小高
DESCRIPTION:
URL:https://www.dancesoul.com.tw/schedule/street-jazz-%e5%b0%8f%e9%ab%98-2/2023-08-15/
LOCATION:仁愛路四段425-1號\, Taipei City\, 104\, 台灣
CATEGORIES:STREET JAZZ,常態課_一般,課程
END:VEVENT
BEGIN:VEVENT
DTSTART;TZID=Asia/Shanghai:20230814T154000
DTEND;TZID=Asia/Shanghai:20230814T164000
DTSTAMP:20260422T032012
CREATED:20211230T060340Z
LAST-MODIFIED:20211230T060340Z
UID:10013046-1692027600-1692031200@www.dancesoul.com.tw
SUMMARY:Street Jazz-小高
DESCRIPTION:
URL:https://www.dancesoul.com.tw/schedule/street-jazz-%e5%b0%8f%e9%ab%98/2023-08-14/
LOCATION:仁愛路四段425-1號\, Taipei City\, 104\, 台灣
CATEGORIES:STREET JAZZ,常態課_一般,課程
END:VEVENT
BEGIN:VEVENT
DTSTART;TZID=Asia/Shanghai:20230808T154000
DTEND;TZID=Asia/Shanghai:20230808T164000
DTSTAMP:20260422T032012
CREATED:20220127T100209Z
LAST-MODIFIED:20220206T052359Z
UID:10015194-1691509200-1691512800@www.dancesoul.com.tw
SUMMARY:Street Jazz-小高
DESCRIPTION:
URL:https://www.dancesoul.com.tw/schedule/street-jazz-%e5%b0%8f%e9%ab%98-2/2023-08-08/
LOCATION:仁愛路四段425-1號\, Taipei City\, 104\, 台灣
CATEGORIES:STREET JAZZ,常態課_一般,課程
END:VEVENT
BEGIN:VEVENT
DTSTART;TZID=Asia/Shanghai:20230807T154000
DTEND;TZID=Asia/Shanghai:20230807T164000
DTSTAMP:20260422T032012
CREATED:20211230T060340Z
LAST-MODIFIED:20211230T060340Z
UID:10013045-1691422800-1691426400@www.dancesoul.com.tw
SUMMARY:Street Jazz-小高
DESCRIPTION:
URL:https://www.dancesoul.com.tw/schedule/street-jazz-%e5%b0%8f%e9%ab%98/2023-08-07/
LOCATION:仁愛路四段425-1號\, Taipei City\, 104\, 台灣
CATEGORIES:STREET JAZZ,常態課_一般,課程
END:VEVENT
BEGIN:VEVENT
DTSTART;TZID=Asia/Shanghai:20230801T154000
DTEND;TZID=Asia/Shanghai:20230801T164000
DTSTAMP:20260422T032012
CREATED:20220127T100209Z
LAST-MODIFIED:20220206T052359Z
UID:10015193-1690904400-1690908000@www.dancesoul.com.tw
SUMMARY:Street Jazz-小高
DESCRIPTION:
URL:https://www.dancesoul.com.tw/schedule/street-jazz-%e5%b0%8f%e9%ab%98-2/2023-08-01/
LOCATION:仁愛路四段425-1號\, Taipei City\, 104\, 台灣
CATEGORIES:STREET JAZZ,常態課_一般,課程
END:VEVENT
BEGIN:VEVENT
DTSTART;TZID=Asia/Shanghai:20230731T154000
DTEND;TZID=Asia/Shanghai:20230731T164000
DTSTAMP:20260422T032012
CREATED:20211230T060340Z
LAST-MODIFIED:20211230T060340Z
UID:10013044-1690818000-1690821600@www.dancesoul.com.tw
SUMMARY:Street Jazz-小高
DESCRIPTION:
URL:https://www.dancesoul.com.tw/schedule/street-jazz-%e5%b0%8f%e9%ab%98/2023-07-31/
LOCATION:仁愛路四段425-1號\, Taipei City\, 104\, 台灣
CATEGORIES:STREET JAZZ,常態課_一般,課程
END:VEVENT
BEGIN:VEVENT
DTSTART;TZID=Asia/Shanghai:20230725T154000
DTEND;TZID=Asia/Shanghai:20230725T164000
DTSTAMP:20260422T032012
CREATED:20220127T100209Z
LAST-MODIFIED:20220206T052359Z
UID:10015192-1690299600-1690303200@www.dancesoul.com.tw
SUMMARY:Street Jazz-小高
DESCRIPTION:
URL:https://www.dancesoul.com.tw/schedule/street-jazz-%e5%b0%8f%e9%ab%98-2/2023-07-25/
LOCATION:仁愛路四段425-1號\, Taipei City\, 104\, 台灣
CATEGORIES:STREET JAZZ,常態課_一般,課程
END:VEVENT
BEGIN:VEVENT
DTSTART;TZID=Asia/Shanghai:20230724T154000
DTEND;TZID=Asia/Shanghai:20230724T164000
DTSTAMP:20260422T032012
CREATED:20211230T060340Z
LAST-MODIFIED:20211230T060340Z
UID:10013043-1690213200-1690216800@www.dancesoul.com.tw
SUMMARY:Street Jazz-小高
DESCRIPTION:
URL:https://www.dancesoul.com.tw/schedule/street-jazz-%e5%b0%8f%e9%ab%98/2023-07-24/
LOCATION:仁愛路四段425-1號\, Taipei City\, 104\, 台灣
CATEGORIES:STREET JAZZ,常態課_一般,課程
END:VEVENT
BEGIN:VEVENT
DTSTART;TZID=Asia/Shanghai:20230718T154000
DTEND;TZID=Asia/Shanghai:20230718T164000
DTSTAMP:20260422T032012
CREATED:20220127T100209Z
LAST-MODIFIED:20220206T052359Z
UID:10015191-1689694800-1689698400@www.dancesoul.com.tw
SUMMARY:Street Jazz-小高
DESCRIPTION:
URL:https://www.dancesoul.com.tw/schedule/street-jazz-%e5%b0%8f%e9%ab%98-2/2023-07-18/
LOCATION:仁愛路四段425-1號\, Taipei City\, 104\, 台灣
CATEGORIES:STREET JAZZ,常態課_一般,課程
END:VEVENT
BEGIN:VEVENT
DTSTART;TZID=Asia/Shanghai:20230717T154000
DTEND;TZID=Asia/Shanghai:20230717T164000
DTSTAMP:20260422T032012
CREATED:20211230T060340Z
LAST-MODIFIED:20211230T060340Z
UID:10013042-1689608400-1689612000@www.dancesoul.com.tw
SUMMARY:Street Jazz-小高
DESCRIPTION:
URL:https://www.dancesoul.com.tw/schedule/street-jazz-%e5%b0%8f%e9%ab%98/2023-07-17/
LOCATION:仁愛路四段425-1號\, Taipei City\, 104\, 台灣
CATEGORIES:STREET JAZZ,常態課_一般,課程
END:VEVENT
BEGIN:VEVENT
DTSTART;TZID=Asia/Shanghai:20230711T154000
DTEND;TZID=Asia/Shanghai:20230711T164000
DTSTAMP:20260422T032012
CREATED:20220127T100209Z
LAST-MODIFIED:20220206T052359Z
UID:10015190-1689090000-1689093600@www.dancesoul.com.tw
SUMMARY:Street Jazz-小高
DESCRIPTION:
URL:https://www.dancesoul.com.tw/schedule/street-jazz-%e5%b0%8f%e9%ab%98-2/2023-07-11/
LOCATION:仁愛路四段425-1號\, Taipei City\, 104\, 台灣
CATEGORIES:STREET JAZZ,常態課_一般,課程
END:VEVENT
BEGIN:VEVENT
DTSTART;TZID=Asia/Shanghai:20230710T154000
DTEND;TZID=Asia/Shanghai:20230710T164000
DTSTAMP:20260422T032012
CREATED:20211230T060340Z
LAST-MODIFIED:20211230T060340Z
UID:10013041-1689003600-1689007200@www.dancesoul.com.tw
SUMMARY:Street Jazz-小高
DESCRIPTION:
URL:https://www.dancesoul.com.tw/schedule/street-jazz-%e5%b0%8f%e9%ab%98/2023-07-10/
LOCATION:仁愛路四段425-1號\, Taipei City\, 104\, 台灣
CATEGORIES:STREET JAZZ,常態課_一般,課程
END:VEVENT
BEGIN:VEVENT
DTSTART;TZID=Asia/Shanghai:20230704T154000
DTEND;TZID=Asia/Shanghai:20230704T164000
DTSTAMP:20260422T032012
CREATED:20220127T100209Z
LAST-MODIFIED:20220206T052359Z
UID:10015189-1688485200-1688488800@www.dancesoul.com.tw
SUMMARY:Street Jazz-小高
DESCRIPTION:
URL:https://www.dancesoul.com.tw/schedule/street-jazz-%e5%b0%8f%e9%ab%98-2/2023-07-04/
LOCATION:仁愛路四段425-1號\, Taipei City\, 104\, 台灣
CATEGORIES:STREET JAZZ,常態課_一般,課程
END:VEVENT
BEGIN:VEVENT
DTSTART;TZID=Asia/Shanghai:20230703T154000
DTEND;TZID=Asia/Shanghai:20230703T164000
DTSTAMP:20260422T032012
CREATED:20211230T060340Z
LAST-MODIFIED:20211230T060340Z
UID:10013040-1688398800-1688402400@www.dancesoul.com.tw
SUMMARY:Street Jazz-小高
DESCRIPTION:
URL:https://www.dancesoul.com.tw/schedule/street-jazz-%e5%b0%8f%e9%ab%98/2023-07-03/
LOCATION:仁愛路四段425-1號\, Taipei City\, 104\, 台灣
CATEGORIES:STREET JAZZ,常態課_一般,課程
END:VEVENT
BEGIN:VEVENT
DTSTART;TZID=Asia/Shanghai:20230627T154000
DTEND;TZID=Asia/Shanghai:20230627T164000
DTSTAMP:20260422T032012
CREATED:20220127T100209Z
LAST-MODIFIED:20220206T052359Z
UID:10015188-1687880400-1687884000@www.dancesoul.com.tw
SUMMARY:Street Jazz-小高
DESCRIPTION:
URL:https://www.dancesoul.com.tw/schedule/street-jazz-%e5%b0%8f%e9%ab%98-2/2023-06-27/
LOCATION:仁愛路四段425-1號\, Taipei City\, 104\, 台灣
CATEGORIES:STREET JAZZ,常態課_一般,課程
END:VEVENT
BEGIN:VEVENT
DTSTART;TZID=Asia/Shanghai:20230626T154000
DTEND;TZID=Asia/Shanghai:20230626T164000
DTSTAMP:20260422T032012
CREATED:20211230T060340Z
LAST-MODIFIED:20211230T060340Z
UID:10013039-1687794000-1687797600@www.dancesoul.com.tw
SUMMARY:Street Jazz-小高
DESCRIPTION:
URL:https://www.dancesoul.com.tw/schedule/street-jazz-%e5%b0%8f%e9%ab%98/2023-06-26/
LOCATION:仁愛路四段425-1號\, Taipei City\, 104\, 台灣
CATEGORIES:STREET JAZZ,常態課_一般,課程
END:VEVENT
BEGIN:VEVENT
DTSTART;TZID=Asia/Shanghai:20230620T154000
DTEND;TZID=Asia/Shanghai:20230620T164000
DTSTAMP:20260422T032012
CREATED:20220127T100209Z
LAST-MODIFIED:20220206T052359Z
UID:10015187-1687275600-1687279200@www.dancesoul.com.tw
SUMMARY:Street Jazz-小高
DESCRIPTION:
URL:https://www.dancesoul.com.tw/schedule/street-jazz-%e5%b0%8f%e9%ab%98-2/2023-06-20/
LOCATION:仁愛路四段425-1號\, Taipei City\, 104\, 台灣
CATEGORIES:STREET JAZZ,常態課_一般,課程
END:VEVENT
BEGIN:VEVENT
DTSTART;TZID=Asia/Shanghai:20230619T154000
DTEND;TZID=Asia/Shanghai:20230619T164000
DTSTAMP:20260422T032012
CREATED:20211230T060340Z
LAST-MODIFIED:20211230T060340Z
UID:10013038-1687189200-1687192800@www.dancesoul.com.tw
SUMMARY:Street Jazz-小高
DESCRIPTION:
URL:https://www.dancesoul.com.tw/schedule/street-jazz-%e5%b0%8f%e9%ab%98/2023-06-19/
LOCATION:仁愛路四段425-1號\, Taipei City\, 104\, 台灣
CATEGORIES:STREET JAZZ,常態課_一般,課程
END:VEVENT
BEGIN:VEVENT
DTSTART;TZID=Asia/Shanghai:20230613T154000
DTEND;TZID=Asia/Shanghai:20230613T164000
DTSTAMP:20260422T032012
CREATED:20220127T100209Z
LAST-MODIFIED:20220206T052359Z
UID:10015186-1686670800-1686674400@www.dancesoul.com.tw
SUMMARY:Street Jazz-小高
DESCRIPTION:
URL:https://www.dancesoul.com.tw/schedule/street-jazz-%e5%b0%8f%e9%ab%98-2/2023-06-13/
LOCATION:仁愛路四段425-1號\, Taipei City\, 104\, 台灣
CATEGORIES:STREET JAZZ,常態課_一般,課程
END:VEVENT
BEGIN:VEVENT
DTSTART;TZID=Asia/Shanghai:20230612T154000
DTEND;TZID=Asia/Shanghai:20230612T164000
DTSTAMP:20260422T032012
CREATED:20211230T060340Z
LAST-MODIFIED:20211230T060340Z
UID:10013037-1686584400-1686588000@www.dancesoul.com.tw
SUMMARY:Street Jazz-小高
DESCRIPTION:
URL:https://www.dancesoul.com.tw/schedule/street-jazz-%e5%b0%8f%e9%ab%98/2023-06-12/
LOCATION:仁愛路四段425-1號\, Taipei City\, 104\, 台灣
CATEGORIES:STREET JAZZ,常態課_一般,課程
END:VEVENT
BEGIN:VEVENT
DTSTART;TZID=Asia/Shanghai:20230606T154000
DTEND;TZID=Asia/Shanghai:20230606T164000
DTSTAMP:20260422T032012
CREATED:20220127T100209Z
LAST-MODIFIED:20220206T052359Z
UID:10015185-1686066000-1686069600@www.dancesoul.com.tw
SUMMARY:Street Jazz-小高
DESCRIPTION:
URL:https://www.dancesoul.com.tw/schedule/street-jazz-%e5%b0%8f%e9%ab%98-2/2023-06-06/
LOCATION:仁愛路四段425-1號\, Taipei City\, 104\, 台灣
CATEGORIES:STREET JAZZ,常態課_一般,課程
END:VEVENT
BEGIN:VEVENT
DTSTART;TZID=Asia/Shanghai:20230605T154000
DTEND;TZID=Asia/Shanghai:20230605T164000
DTSTAMP:20260422T032012
CREATED:20211230T060340Z
LAST-MODIFIED:20211230T060340Z
UID:10013036-1685979600-1685983200@www.dancesoul.com.tw
SUMMARY:Street Jazz-小高
DESCRIPTION:
URL:https://www.dancesoul.com.tw/schedule/street-jazz-%e5%b0%8f%e9%ab%98/2023-06-05/
LOCATION:仁愛路四段425-1號\, Taipei City\, 104\, 台灣
CATEGORIES:STREET JAZZ,常態課_一般,課程
END:VEVENT
BEGIN:VEVENT
DTSTART;TZID=Asia/Shanghai:20230530T154000
DTEND;TZID=Asia/Shanghai:20230530T164000
DTSTAMP:20260422T032012
CREATED:20220127T100209Z
LAST-MODIFIED:20220206T052359Z
UID:10015184-1685461200-1685464800@www.dancesoul.com.tw
SUMMARY:Street Jazz-小高
DESCRIPTION:
URL:https://www.dancesoul.com.tw/schedule/street-jazz-%e5%b0%8f%e9%ab%98-2/2023-05-30/
LOCATION:仁愛路四段425-1號\, Taipei City\, 104\, 台灣
CATEGORIES:STREET JAZZ,常態課_一般,課程
END:VEVENT
BEGIN:VEVENT
DTSTART;TZID=Asia/Shanghai:20230529T154000
DTEND;TZID=Asia/Shanghai:20230529T164000
DTSTAMP:20260422T032012
CREATED:20211230T060340Z
LAST-MODIFIED:20211230T060340Z
UID:10013035-1685374800-1685378400@www.dancesoul.com.tw
SUMMARY:Street Jazz-小高
DESCRIPTION:
URL:https://www.dancesoul.com.tw/schedule/street-jazz-%e5%b0%8f%e9%ab%98/2023-05-29/
LOCATION:仁愛路四段425-1號\, Taipei City\, 104\, 台灣
CATEGORIES:STREET JAZZ,常態課_一般,課程
END:VEVENT
END:VCALENDAR