BEGIN:VCALENDAR
VERSION:2.0
PRODID:-//DANCE SOUL 舞魂街舞學校 - ECPv6.15.18//NONSGML v1.0//EN
CALSCALE:GREGORIAN
METHOD:PUBLISH
X-WR-CALNAME:DANCE SOUL 舞魂街舞學校
X-ORIGINAL-URL:https://www.dancesoul.com.tw
X-WR-CALDESC:Events for DANCE SOUL 舞魂街舞學校
REFRESH-INTERVAL;VALUE=DURATION:PT1H
X-Robots-Tag:noindex
X-PUBLISHED-TTL:PT1H
BEGIN:VTIMEZONE
TZID:Asia/Shanghai
BEGIN:STANDARD
TZOFFSETFROM:+0800
TZOFFSETTO:+0800
TZNAME:CST
DTSTART:20210101T000000
END:STANDARD
END:VTIMEZONE
BEGIN:VEVENT
DTSTART;TZID=Asia/Shanghai:20230330T191000
DTEND;TZID=Asia/Shanghai:20230330T201000
DTSTAMP:20260423T032841
CREATED:20230227T084506Z
LAST-MODIFIED:20230227T084506Z
UID:10017212-1680203400-1680207000@www.dancesoul.com.tw
SUMMARY:Street Jazz-沐依
DESCRIPTION:
URL:https://www.dancesoul.com.tw/schedule/street-jazz-%e6%b2%90%e4%be%9d-6/2023-03-30/
LOCATION:仁愛路四段425-1號\, Taipei City\, 104\, 台灣
CATEGORIES:STREET JAZZ,課程
END:VEVENT
BEGIN:VEVENT
DTSTART;TZID=Asia/Shanghai:20230323T191000
DTEND;TZID=Asia/Shanghai:20230323T201000
DTSTAMP:20260423T032841
CREATED:20230227T084506Z
LAST-MODIFIED:20230227T084506Z
UID:10017211-1679598600-1679602200@www.dancesoul.com.tw
SUMMARY:Street Jazz-沐依
DESCRIPTION:
URL:https://www.dancesoul.com.tw/schedule/street-jazz-%e6%b2%90%e4%be%9d-6/2023-03-23/
LOCATION:仁愛路四段425-1號\, Taipei City\, 104\, 台灣
CATEGORIES:STREET JAZZ,課程
END:VEVENT
BEGIN:VEVENT
DTSTART;TZID=Asia/Shanghai:20230316T191000
DTEND;TZID=Asia/Shanghai:20230316T201000
DTSTAMP:20260423T032841
CREATED:20230227T084506Z
LAST-MODIFIED:20230227T084506Z
UID:10017210-1678993800-1678997400@www.dancesoul.com.tw
SUMMARY:Street Jazz-沐依
DESCRIPTION:
URL:https://www.dancesoul.com.tw/schedule/street-jazz-%e6%b2%90%e4%be%9d-6/2023-03-16/
LOCATION:仁愛路四段425-1號\, Taipei City\, 104\, 台灣
CATEGORIES:STREET JAZZ,課程
END:VEVENT
BEGIN:VEVENT
DTSTART;TZID=Asia/Shanghai:20230309T191000
DTEND;TZID=Asia/Shanghai:20230309T201000
DTSTAMP:20260423T032841
CREATED:20230227T084506Z
LAST-MODIFIED:20230227T084506Z
UID:10017209-1678389000-1678392600@www.dancesoul.com.tw
SUMMARY:Street Jazz-沐依
DESCRIPTION:
URL:https://www.dancesoul.com.tw/schedule/street-jazz-%e6%b2%90%e4%be%9d-6/2023-03-09/
LOCATION:仁愛路四段425-1號\, Taipei City\, 104\, 台灣
CATEGORIES:STREET JAZZ,課程
END:VEVENT
BEGIN:VEVENT
DTSTART;TZID=Asia/Shanghai:20230302T191000
DTEND;TZID=Asia/Shanghai:20230302T201000
DTSTAMP:20260423T032841
CREATED:20230227T084506Z
LAST-MODIFIED:20230227T084506Z
UID:10017208-1677784200-1677787800@www.dancesoul.com.tw
SUMMARY:Street Jazz-沐依
DESCRIPTION:
URL:https://www.dancesoul.com.tw/schedule/street-jazz-%e6%b2%90%e4%be%9d-6/2023-03-02/
LOCATION:仁愛路四段425-1號\, Taipei City\, 104\, 台灣
CATEGORIES:STREET JAZZ,課程
END:VEVENT
BEGIN:VEVENT
DTSTART;TZID=Asia/Shanghai:20230223T191000
DTEND;TZID=Asia/Shanghai:20230223T201000
DTSTAMP:20260423T032841
CREATED:20230130T082648Z
LAST-MODIFIED:20230130T082648Z
UID:10017079-1677179400-1677183000@www.dancesoul.com.tw
SUMMARY:Street Jazz-沐依
DESCRIPTION:
URL:https://www.dancesoul.com.tw/schedule/street-jazz-%e6%b2%90%e4%be%9d-5/2023-02-23/
LOCATION:仁愛路四段425-1號\, Taipei City\, 104\, 台灣
CATEGORIES:STREET JAZZ,常態課_一般
END:VEVENT
BEGIN:VEVENT
DTSTART;TZID=Asia/Shanghai:20230216T191000
DTEND;TZID=Asia/Shanghai:20230216T201000
DTSTAMP:20260423T032841
CREATED:20230130T082648Z
LAST-MODIFIED:20230130T082648Z
UID:10017078-1676574600-1676578200@www.dancesoul.com.tw
SUMMARY:Street Jazz-沐依
DESCRIPTION:
URL:https://www.dancesoul.com.tw/schedule/street-jazz-%e6%b2%90%e4%be%9d-5/2023-02-16/
LOCATION:仁愛路四段425-1號\, Taipei City\, 104\, 台灣
CATEGORIES:STREET JAZZ,常態課_一般
END:VEVENT
BEGIN:VEVENT
DTSTART;TZID=Asia/Shanghai:20230209T191000
DTEND;TZID=Asia/Shanghai:20230209T201000
DTSTAMP:20260423T032841
CREATED:20230130T082648Z
LAST-MODIFIED:20230130T082648Z
UID:10017077-1675969800-1675973400@www.dancesoul.com.tw
SUMMARY:Street Jazz-沐依
DESCRIPTION:
URL:https://www.dancesoul.com.tw/schedule/street-jazz-%e6%b2%90%e4%be%9d-5/2023-02-09/
LOCATION:仁愛路四段425-1號\, Taipei City\, 104\, 台灣
CATEGORIES:STREET JAZZ,常態課_一般
END:VEVENT
BEGIN:VEVENT
DTSTART;TZID=Asia/Shanghai:20230202T191000
DTEND;TZID=Asia/Shanghai:20230202T201000
DTSTAMP:20260423T032841
CREATED:20230130T082648Z
LAST-MODIFIED:20230130T082648Z
UID:10017076-1675365000-1675368600@www.dancesoul.com.tw
SUMMARY:Street Jazz-沐依
DESCRIPTION:
URL:https://www.dancesoul.com.tw/schedule/street-jazz-%e6%b2%90%e4%be%9d-5/2023-02-02/
LOCATION:仁愛路四段425-1號\, Taipei City\, 104\, 台灣
CATEGORIES:STREET JAZZ,常態課_一般
END:VEVENT
BEGIN:VEVENT
DTSTART;TZID=Asia/Shanghai:20230118T202000
DTEND;TZID=Asia/Shanghai:20230118T212000
DTSTAMP:20260423T032841
CREATED:20221231T194649Z
LAST-MODIFIED:20221231T194649Z
UID:10017016-1674073200-1674076800@www.dancesoul.com.tw
SUMMARY:Street Jazz-沐依
DESCRIPTION:
URL:https://www.dancesoul.com.tw/schedule/street-jazz-%e6%b2%90%e4%be%9d-4/2023-01-18/
LOCATION:仁愛路四段425-1號\, Taipei City\, 104\, 台灣
CATEGORIES:STREET JAZZ,常態課_一般,課程
END:VEVENT
BEGIN:VEVENT
DTSTART;TZID=Asia/Shanghai:20230111T202000
DTEND;TZID=Asia/Shanghai:20230111T212000
DTSTAMP:20260423T032841
CREATED:20221231T194649Z
LAST-MODIFIED:20221231T194649Z
UID:10017015-1673468400-1673472000@www.dancesoul.com.tw
SUMMARY:Street Jazz-沐依
DESCRIPTION:
URL:https://www.dancesoul.com.tw/schedule/street-jazz-%e6%b2%90%e4%be%9d-4/2023-01-11/
LOCATION:仁愛路四段425-1號\, Taipei City\, 104\, 台灣
CATEGORIES:STREET JAZZ,常態課_一般,課程
END:VEVENT
BEGIN:VEVENT
DTSTART;TZID=Asia/Shanghai:20230104T202000
DTEND;TZID=Asia/Shanghai:20230104T212000
DTSTAMP:20260423T032841
CREATED:20221231T194649Z
LAST-MODIFIED:20221231T194649Z
UID:10017014-1672863600-1672867200@www.dancesoul.com.tw
SUMMARY:Street Jazz-沐依
DESCRIPTION:
URL:https://www.dancesoul.com.tw/schedule/street-jazz-%e6%b2%90%e4%be%9d-4/2023-01-04/
LOCATION:仁愛路四段425-1號\, Taipei City\, 104\, 台灣
CATEGORIES:STREET JAZZ,常態課_一般,課程
END:VEVENT
BEGIN:VEVENT
DTSTART;TZID=Asia/Shanghai:20221125T213000
DTEND;TZID=Asia/Shanghai:20221125T223000
DTSTAMP:20260423T032841
CREATED:20221028T140738Z
LAST-MODIFIED:20221028T140738Z
UID:10016873-1669411800-1669415400@www.dancesoul.com.tw
SUMMARY:Street Jazz-沐依
DESCRIPTION:
URL:https://www.dancesoul.com.tw/schedule/street-jazz-%e6%b2%90%e4%be%9d-3/2022-11-25/
LOCATION:仁愛路四段425-1號\, Taipei City\, 104\, 台灣
CATEGORIES:STREET JAZZ,常態課_一般,課程
END:VEVENT
BEGIN:VEVENT
DTSTART;TZID=Asia/Shanghai:20221118T213000
DTEND;TZID=Asia/Shanghai:20221118T223000
DTSTAMP:20260423T032841
CREATED:20221028T140738Z
LAST-MODIFIED:20221028T140738Z
UID:10016872-1668807000-1668810600@www.dancesoul.com.tw
SUMMARY:Street Jazz-沐依
DESCRIPTION:
URL:https://www.dancesoul.com.tw/schedule/street-jazz-%e6%b2%90%e4%be%9d-3/2022-11-18/
LOCATION:仁愛路四段425-1號\, Taipei City\, 104\, 台灣
CATEGORIES:STREET JAZZ,常態課_一般,課程
END:VEVENT
BEGIN:VEVENT
DTSTART;TZID=Asia/Shanghai:20221111T213000
DTEND;TZID=Asia/Shanghai:20221111T223000
DTSTAMP:20260423T032841
CREATED:20221028T140738Z
LAST-MODIFIED:20221028T140738Z
UID:10016871-1668202200-1668205800@www.dancesoul.com.tw
SUMMARY:Street Jazz-沐依
DESCRIPTION:
URL:https://www.dancesoul.com.tw/schedule/street-jazz-%e6%b2%90%e4%be%9d-3/2022-11-11/
LOCATION:仁愛路四段425-1號\, Taipei City\, 104\, 台灣
CATEGORIES:STREET JAZZ,常態課_一般,課程
END:VEVENT
BEGIN:VEVENT
DTSTART;TZID=Asia/Shanghai:20221104T213000
DTEND;TZID=Asia/Shanghai:20221104T223000
DTSTAMP:20260423T032841
CREATED:20221028T140738Z
LAST-MODIFIED:20221028T140738Z
UID:10016870-1667597400-1667601000@www.dancesoul.com.tw
SUMMARY:Street Jazz-沐依
DESCRIPTION:
URL:https://www.dancesoul.com.tw/schedule/street-jazz-%e6%b2%90%e4%be%9d-3/2022-11-04/
LOCATION:仁愛路四段425-1號\, Taipei City\, 104\, 台灣
CATEGORIES:STREET JAZZ,常態課_一般,課程
END:VEVENT
BEGIN:VEVENT
DTSTART;TZID=Asia/Shanghai:20220825T143000
DTEND;TZID=Asia/Shanghai:20220825T153000
DTSTAMP:20260423T032841
CREATED:20220728T093728Z
LAST-MODIFIED:20220728T093728Z
UID:10016403-1661437800-1661441400@www.dancesoul.com.tw
SUMMARY:Street Jazz-沐依
DESCRIPTION:
URL:https://www.dancesoul.com.tw/schedule/street-jazz-%e6%b2%90%e4%be%9d-2/2022-08-25/
LOCATION:仁愛路四段425-1號\, Taipei City\, 104\, 台灣
CATEGORIES:STREET JAZZ,常態課_一般,課程
END:VEVENT
BEGIN:VEVENT
DTSTART;TZID=Asia/Shanghai:20220818T143000
DTEND;TZID=Asia/Shanghai:20220818T153000
DTSTAMP:20260423T032841
CREATED:20220728T093728Z
LAST-MODIFIED:20220728T093728Z
UID:10016402-1660833000-1660836600@www.dancesoul.com.tw
SUMMARY:Street Jazz-沐依
DESCRIPTION:
URL:https://www.dancesoul.com.tw/schedule/street-jazz-%e6%b2%90%e4%be%9d-2/2022-08-18/
LOCATION:仁愛路四段425-1號\, Taipei City\, 104\, 台灣
CATEGORIES:STREET JAZZ,常態課_一般,課程
END:VEVENT
BEGIN:VEVENT
DTSTART;TZID=Asia/Shanghai:20220811T143000
DTEND;TZID=Asia/Shanghai:20220811T153000
DTSTAMP:20260423T032841
CREATED:20220728T093728Z
LAST-MODIFIED:20220728T093728Z
UID:10016401-1660228200-1660231800@www.dancesoul.com.tw
SUMMARY:Street Jazz-沐依
DESCRIPTION:
URL:https://www.dancesoul.com.tw/schedule/street-jazz-%e6%b2%90%e4%be%9d-2/2022-08-11/
LOCATION:仁愛路四段425-1號\, Taipei City\, 104\, 台灣
CATEGORIES:STREET JAZZ,常態課_一般,課程
END:VEVENT
BEGIN:VEVENT
DTSTART;TZID=Asia/Shanghai:20220804T143000
DTEND;TZID=Asia/Shanghai:20220804T153000
DTSTAMP:20260423T032841
CREATED:20220728T093728Z
LAST-MODIFIED:20220728T093728Z
UID:10016400-1659623400-1659627000@www.dancesoul.com.tw
SUMMARY:Street Jazz-沐依
DESCRIPTION:
URL:https://www.dancesoul.com.tw/schedule/street-jazz-%e6%b2%90%e4%be%9d-2/2022-08-04/
LOCATION:仁愛路四段425-1號\, Taipei City\, 104\, 台灣
CATEGORIES:STREET JAZZ,常態課_一般,課程
END:VEVENT
BEGIN:VEVENT
DTSTART;TZID=Asia/Shanghai:20220728T143000
DTEND;TZID=Asia/Shanghai:20220728T153000
DTSTAMP:20260423T032841
CREATED:20220623T124658Z
LAST-MODIFIED:20220623T124658Z
UID:10013801-1659018600-1659022200@www.dancesoul.com.tw
SUMMARY:Street Jazz-沐依
DESCRIPTION:
URL:https://www.dancesoul.com.tw/schedule/street-jazz-%e6%b2%90%e4%be%9d/2022-07-28/
LOCATION:仁愛路四段425-1號\, Taipei City\, 104\, 台灣
CATEGORIES:STREET JAZZ,常態課_一般,課程
END:VEVENT
BEGIN:VEVENT
DTSTART;TZID=Asia/Shanghai:20220721T143000
DTEND;TZID=Asia/Shanghai:20220721T153000
DTSTAMP:20260423T032841
CREATED:20220623T124658Z
LAST-MODIFIED:20220623T124658Z
UID:10013800-1658413800-1658417400@www.dancesoul.com.tw
SUMMARY:Street Jazz-沐依
DESCRIPTION:
URL:https://www.dancesoul.com.tw/schedule/street-jazz-%e6%b2%90%e4%be%9d/2022-07-21/
LOCATION:仁愛路四段425-1號\, Taipei City\, 104\, 台灣
CATEGORIES:STREET JAZZ,常態課_一般,課程
END:VEVENT
BEGIN:VEVENT
DTSTART;TZID=Asia/Shanghai:20220714T143000
DTEND;TZID=Asia/Shanghai:20220714T153000
DTSTAMP:20260423T032841
CREATED:20220623T124658Z
LAST-MODIFIED:20220623T124658Z
UID:10013799-1657809000-1657812600@www.dancesoul.com.tw
SUMMARY:Street Jazz-沐依
DESCRIPTION:
URL:https://www.dancesoul.com.tw/schedule/street-jazz-%e6%b2%90%e4%be%9d/2022-07-14/
LOCATION:仁愛路四段425-1號\, Taipei City\, 104\, 台灣
CATEGORIES:STREET JAZZ,常態課_一般,課程
END:VEVENT
BEGIN:VEVENT
DTSTART;TZID=Asia/Shanghai:20220707T143000
DTEND;TZID=Asia/Shanghai:20220707T153000
DTSTAMP:20260423T032841
CREATED:20220623T124658Z
LAST-MODIFIED:20220623T124658Z
UID:10013798-1657204200-1657207800@www.dancesoul.com.tw
SUMMARY:Street Jazz-沐依
DESCRIPTION:
URL:https://www.dancesoul.com.tw/schedule/street-jazz-%e6%b2%90%e4%be%9d/2022-07-07/
LOCATION:仁愛路四段425-1號\, Taipei City\, 104\, 台灣
CATEGORIES:STREET JAZZ,常態課_一般,課程
END:VEVENT
END:VCALENDAR