BEGIN:VCALENDAR
VERSION:2.0
PRODID:-//DANCE SOUL 舞魂街舞學校 - ECPv6.15.18//NONSGML v1.0//EN
CALSCALE:GREGORIAN
METHOD:PUBLISH
X-ORIGINAL-URL:https://www.dancesoul.com.tw
X-WR-CALDESC:Events for DANCE SOUL 舞魂街舞學校
REFRESH-INTERVAL;VALUE=DURATION:PT1H
X-Robots-Tag:noindex
X-PUBLISHED-TTL:PT1H
BEGIN:VTIMEZONE
TZID:Asia/Shanghai
BEGIN:STANDARD
TZOFFSETFROM:+0800
TZOFFSETTO:+0800
TZNAME:CST
DTSTART:20210101T000000
END:STANDARD
END:VTIMEZONE
BEGIN:VEVENT
DTSTART;TZID=Asia/Shanghai:20221230T202000
DTEND;TZID=Asia/Shanghai:20221230T212000
DTSTAMP:20260423T073659
CREATED:20221128T134927Z
LAST-MODIFIED:20221128T134927Z
UID:10015611-1672431600-1672435200@www.dancesoul.com.tw
SUMMARY:Street Jazz-鈴鐺
DESCRIPTION:
URL:https://www.dancesoul.com.tw/schedule/street-jazz-%e9%88%b4%e9%90%ba/2022-12-30/
LOCATION:仁愛路四段425-1號\, Taipei City\, 104\, 台灣
CATEGORIES:STREET JAZZ,常態課_一般,課程
END:VEVENT
BEGIN:VEVENT
DTSTART;TZID=Asia/Shanghai:20221223T202000
DTEND;TZID=Asia/Shanghai:20221223T212000
DTSTAMP:20260423T073659
CREATED:20221128T134927Z
LAST-MODIFIED:20221128T134927Z
UID:10015610-1671826800-1671830400@www.dancesoul.com.tw
SUMMARY:Street Jazz-鈴鐺
DESCRIPTION:
URL:https://www.dancesoul.com.tw/schedule/street-jazz-%e9%88%b4%e9%90%ba/2022-12-23/
LOCATION:仁愛路四段425-1號\, Taipei City\, 104\, 台灣
CATEGORIES:STREET JAZZ,常態課_一般,課程
END:VEVENT
BEGIN:VEVENT
DTSTART;TZID=Asia/Shanghai:20221216T202000
DTEND;TZID=Asia/Shanghai:20221216T212000
DTSTAMP:20260423T073659
CREATED:20221128T134927Z
LAST-MODIFIED:20221128T134927Z
UID:10015609-1671222000-1671225600@www.dancesoul.com.tw
SUMMARY:Street Jazz-鈴鐺
DESCRIPTION:
URL:https://www.dancesoul.com.tw/schedule/street-jazz-%e9%88%b4%e9%90%ba/2022-12-16/
LOCATION:仁愛路四段425-1號\, Taipei City\, 104\, 台灣
CATEGORIES:STREET JAZZ,常態課_一般,課程
END:VEVENT
BEGIN:VEVENT
DTSTART;TZID=Asia/Shanghai:20221209T202000
DTEND;TZID=Asia/Shanghai:20221209T212000
DTSTAMP:20260423T073700
CREATED:20221128T134927Z
LAST-MODIFIED:20221128T134927Z
UID:10015608-1670617200-1670620800@www.dancesoul.com.tw
SUMMARY:Street Jazz-鈴鐺
DESCRIPTION:
URL:https://www.dancesoul.com.tw/schedule/street-jazz-%e9%88%b4%e9%90%ba/2022-12-09/
LOCATION:仁愛路四段425-1號\, Taipei City\, 104\, 台灣
CATEGORIES:STREET JAZZ,常態課_一般,課程
END:VEVENT
BEGIN:VEVENT
DTSTART;TZID=Asia/Shanghai:20221202T202000
DTEND;TZID=Asia/Shanghai:20221202T212000
DTSTAMP:20260423T073700
CREATED:20221128T134927Z
LAST-MODIFIED:20221128T134927Z
UID:10015607-1670012400-1670016000@www.dancesoul.com.tw
SUMMARY:Street Jazz-鈴鐺
DESCRIPTION:
URL:https://www.dancesoul.com.tw/schedule/street-jazz-%e9%88%b4%e9%90%ba/2022-12-02/
LOCATION:仁愛路四段425-1號\, Taipei City\, 104\, 台灣
CATEGORIES:STREET JAZZ,常態課_一般,課程
END:VEVENT
END:VCALENDAR