BEGIN:VCALENDAR
VERSION:2.0
PRODID:-//DANCE SOUL 舞魂街舞學校 - ECPv6.15.18//NONSGML v1.0//EN
CALSCALE:GREGORIAN
METHOD:PUBLISH
X-WR-CALNAME:DANCE SOUL 舞魂街舞學校
X-ORIGINAL-URL:https://www.dancesoul.com.tw
X-WR-CALDESC:Events for DANCE SOUL 舞魂街舞學校
REFRESH-INTERVAL;VALUE=DURATION:PT1H
X-Robots-Tag:noindex
X-PUBLISHED-TTL:PT1H
BEGIN:VTIMEZONE
TZID:Asia/Shanghai
BEGIN:STANDARD
TZOFFSETFROM:+0800
TZOFFSETTO:+0800
TZNAME:CST
DTSTART:20210101T000000
END:STANDARD
END:VTIMEZONE
BEGIN:VEVENT
DTSTART;TZID=Asia/Shanghai:20230331T180000
DTEND;TZID=Asia/Shanghai:20230331T190000
DTSTAMP:20260423T022040
CREATED:20230227T084908Z
LAST-MODIFIED:20230227T084908Z
UID:10017222-1680285600-1680289200@www.dancesoul.com.tw
SUMMARY:Street Jazz(初)-CenMei
DESCRIPTION:
URL:https://www.dancesoul.com.tw/schedule/street-jazz%e5%88%9d-cenmei-4/2023-03-31/
LOCATION:仁愛路四段425-1號\, Taipei City\, 104\, 台灣
CATEGORIES:STREET JAZZ 初級,常態課_初級,課程
END:VEVENT
BEGIN:VEVENT
DTSTART;TZID=Asia/Shanghai:20230324T180000
DTEND;TZID=Asia/Shanghai:20230324T190000
DTSTAMP:20260423T022040
CREATED:20230227T084908Z
LAST-MODIFIED:20230227T084908Z
UID:10017221-1679680800-1679684400@www.dancesoul.com.tw
SUMMARY:Street Jazz(初)-CenMei
DESCRIPTION:
URL:https://www.dancesoul.com.tw/schedule/street-jazz%e5%88%9d-cenmei-4/2023-03-24/
LOCATION:仁愛路四段425-1號\, Taipei City\, 104\, 台灣
CATEGORIES:STREET JAZZ 初級,常態課_初級,課程
END:VEVENT
BEGIN:VEVENT
DTSTART;TZID=Asia/Shanghai:20230317T180000
DTEND;TZID=Asia/Shanghai:20230317T190000
DTSTAMP:20260423T022040
CREATED:20230227T084908Z
LAST-MODIFIED:20230227T084908Z
UID:10017220-1679076000-1679079600@www.dancesoul.com.tw
SUMMARY:Street Jazz(初)-CenMei
DESCRIPTION:
URL:https://www.dancesoul.com.tw/schedule/street-jazz%e5%88%9d-cenmei-4/2023-03-17/
LOCATION:仁愛路四段425-1號\, Taipei City\, 104\, 台灣
CATEGORIES:STREET JAZZ 初級,常態課_初級,課程
END:VEVENT
BEGIN:VEVENT
DTSTART;TZID=Asia/Shanghai:20230310T180000
DTEND;TZID=Asia/Shanghai:20230310T190000
DTSTAMP:20260423T022040
CREATED:20230227T084908Z
LAST-MODIFIED:20230227T084908Z
UID:10017219-1678471200-1678474800@www.dancesoul.com.tw
SUMMARY:Street Jazz(初)-CenMei
DESCRIPTION:
URL:https://www.dancesoul.com.tw/schedule/street-jazz%e5%88%9d-cenmei-4/2023-03-10/
LOCATION:仁愛路四段425-1號\, Taipei City\, 104\, 台灣
CATEGORIES:STREET JAZZ 初級,常態課_初級,課程
END:VEVENT
BEGIN:VEVENT
DTSTART;TZID=Asia/Shanghai:20230303T180000
DTEND;TZID=Asia/Shanghai:20230303T190000
DTSTAMP:20260423T022040
CREATED:20230227T084908Z
LAST-MODIFIED:20230227T084908Z
UID:10017218-1677866400-1677870000@www.dancesoul.com.tw
SUMMARY:Street Jazz(初)-CenMei
DESCRIPTION:
URL:https://www.dancesoul.com.tw/schedule/street-jazz%e5%88%9d-cenmei-4/2023-03-03/
LOCATION:仁愛路四段425-1號\, Taipei City\, 104\, 台灣
CATEGORIES:STREET JAZZ 初級,常態課_初級,課程
END:VEVENT
BEGIN:VEVENT
DTSTART;TZID=Asia/Shanghai:20230224T180000
DTEND;TZID=Asia/Shanghai:20230224T190000
DTSTAMP:20260423T022040
CREATED:20230130T090015Z
LAST-MODIFIED:20230130T090015Z
UID:10017102-1677261600-1677265200@www.dancesoul.com.tw
SUMMARY:Street Jazz(初)-CenMei
DESCRIPTION:
URL:https://www.dancesoul.com.tw/schedule/street-jazz%e5%88%9d-cenmei-2/2023-02-24/
LOCATION:仁愛路四段425-1號\, Taipei City\, 104\, 台灣
CATEGORIES:STREET JAZZ 初級,常態課_初級
END:VEVENT
BEGIN:VEVENT
DTSTART;TZID=Asia/Shanghai:20230217T180000
DTEND;TZID=Asia/Shanghai:20230217T190000
DTSTAMP:20260423T022040
CREATED:20230130T090015Z
LAST-MODIFIED:20230130T090015Z
UID:10017101-1676656800-1676660400@www.dancesoul.com.tw
SUMMARY:Street Jazz(初)-CenMei
DESCRIPTION:
URL:https://www.dancesoul.com.tw/schedule/street-jazz%e5%88%9d-cenmei-2/2023-02-17/
LOCATION:仁愛路四段425-1號\, Taipei City\, 104\, 台灣
CATEGORIES:STREET JAZZ 初級,常態課_初級
END:VEVENT
BEGIN:VEVENT
DTSTART;TZID=Asia/Shanghai:20230210T180000
DTEND;TZID=Asia/Shanghai:20230210T190000
DTSTAMP:20260423T022040
CREATED:20230130T090015Z
LAST-MODIFIED:20230130T090015Z
UID:10017100-1676052000-1676055600@www.dancesoul.com.tw
SUMMARY:Street Jazz(初)-CenMei
DESCRIPTION:
URL:https://www.dancesoul.com.tw/schedule/street-jazz%e5%88%9d-cenmei-2/2023-02-10/
LOCATION:仁愛路四段425-1號\, Taipei City\, 104\, 台灣
CATEGORIES:STREET JAZZ 初級,常態課_初級
END:VEVENT
BEGIN:VEVENT
DTSTART;TZID=Asia/Shanghai:20230207T165000
DTEND;TZID=Asia/Shanghai:20230207T175000
DTSTAMP:20260423T022040
CREATED:20230130T095609Z
LAST-MODIFIED:20230130T095609Z
UID:10015854-1675788600-1675792200@www.dancesoul.com.tw
SUMMARY:Street Jazz(初)-CenMei
DESCRIPTION:
URL:https://www.dancesoul.com.tw/schedule/street-jazz%e5%88%9d-cenmei-3/
LOCATION:仁愛路四段425-1號\, Taipei City\, 104\, 台灣
CATEGORIES:STREET JAZZ 初級,常態課_初級
END:VEVENT
BEGIN:VEVENT
DTSTART;TZID=Asia/Shanghai:20230203T180000
DTEND;TZID=Asia/Shanghai:20230203T190000
DTSTAMP:20260423T022040
CREATED:20230130T090015Z
LAST-MODIFIED:20230130T090015Z
UID:10017099-1675447200-1675450800@www.dancesoul.com.tw
SUMMARY:Street Jazz(初)-CenMei
DESCRIPTION:
URL:https://www.dancesoul.com.tw/schedule/street-jazz%e5%88%9d-cenmei-2/2023-02-03/
LOCATION:仁愛路四段425-1號\, Taipei City\, 104\, 台灣
CATEGORIES:STREET JAZZ 初級,常態課_初級
END:VEVENT
BEGIN:VEVENT
DTSTART;TZID=Asia/Shanghai:20220325T180000
DTEND;TZID=Asia/Shanghai:20220325T190000
DTSTAMP:20260423T022040
CREATED:20220225T094305Z
LAST-MODIFIED:20220225T094305Z
UID:10015446-1648231200-1648234800@www.dancesoul.com.tw
SUMMARY:Street Jazz(初)-CenMei
DESCRIPTION:
URL:https://www.dancesoul.com.tw/schedule/street-jazz%e5%88%9d-cenmei/2022-03-25/
LOCATION:仁愛路四段425-1號\, Taipei City\, 104\, 台灣
CATEGORIES:STREET JAZZ 初級,常態課_初級,課程
END:VEVENT
BEGIN:VEVENT
DTSTART;TZID=Asia/Shanghai:20220318T180000
DTEND;TZID=Asia/Shanghai:20220318T190000
DTSTAMP:20260423T022040
CREATED:20220225T094305Z
LAST-MODIFIED:20220225T094305Z
UID:10015445-1647626400-1647630000@www.dancesoul.com.tw
SUMMARY:Street Jazz(初)-CenMei
DESCRIPTION:
URL:https://www.dancesoul.com.tw/schedule/street-jazz%e5%88%9d-cenmei/2022-03-18/
LOCATION:仁愛路四段425-1號\, Taipei City\, 104\, 台灣
CATEGORIES:STREET JAZZ 初級,常態課_初級,課程
END:VEVENT
BEGIN:VEVENT
DTSTART;TZID=Asia/Shanghai:20220311T180000
DTEND;TZID=Asia/Shanghai:20220311T190000
DTSTAMP:20260423T022040
CREATED:20220225T094305Z
LAST-MODIFIED:20220225T094305Z
UID:10015444-1647021600-1647025200@www.dancesoul.com.tw
SUMMARY:Street Jazz(初)-CenMei
DESCRIPTION:
URL:https://www.dancesoul.com.tw/schedule/street-jazz%e5%88%9d-cenmei/2022-03-11/
LOCATION:仁愛路四段425-1號\, Taipei City\, 104\, 台灣
CATEGORIES:STREET JAZZ 初級,常態課_初級,課程
END:VEVENT
BEGIN:VEVENT
DTSTART;TZID=Asia/Shanghai:20220304T180000
DTEND;TZID=Asia/Shanghai:20220304T190000
DTSTAMP:20260423T022040
CREATED:20220225T094305Z
LAST-MODIFIED:20220225T094305Z
UID:10015443-1646416800-1646420400@www.dancesoul.com.tw
SUMMARY:Street Jazz(初)-CenMei
DESCRIPTION:
URL:https://www.dancesoul.com.tw/schedule/street-jazz%e5%88%9d-cenmei/2022-03-04/
LOCATION:仁愛路四段425-1號\, Taipei City\, 104\, 台灣
CATEGORIES:STREET JAZZ 初級,常態課_初級,課程
END:VEVENT
END:VCALENDAR