BEGIN:VCALENDAR
VERSION:2.0
PRODID:-//DANCE SOUL 舞魂街舞學校 - ECPv6.15.18//NONSGML v1.0//EN
CALSCALE:GREGORIAN
METHOD:PUBLISH
X-WR-CALNAME:DANCE SOUL 舞魂街舞學校
X-ORIGINAL-URL:https://www.dancesoul.com.tw
X-WR-CALDESC:Events for DANCE SOUL 舞魂街舞學校
REFRESH-INTERVAL;VALUE=DURATION:PT1H
X-Robots-Tag:noindex
X-PUBLISHED-TTL:PT1H
BEGIN:VTIMEZONE
TZID:Asia/Shanghai
BEGIN:STANDARD
TZOFFSETFROM:+0800
TZOFFSETTO:+0800
TZNAME:CST
DTSTART:20200101T000000
END:STANDARD
END:VTIMEZONE
BEGIN:VEVENT
DTSTART;TZID=Asia/Shanghai:20220225T180000
DTEND;TZID=Asia/Shanghai:20220225T190000
DTSTAMP:20260425T225022
CREATED:20220127T105215Z
LAST-MODIFIED:20220127T105215Z
UID:10015350-1645812000-1645815600@www.dancesoul.com.tw
SUMMARY:Street Jazz(初)-大可
DESCRIPTION:
URL:https://www.dancesoul.com.tw/schedule/street-jazz%e5%88%9d-%e5%a4%a7%e5%8f%af-12/2022-02-25/
LOCATION:仁愛路四段425-1號\, Taipei City\, 104\, 台灣
CATEGORIES:STREET JAZZ 初級,常態課_初級,課程
END:VEVENT
BEGIN:VEVENT
DTSTART;TZID=Asia/Shanghai:20220218T180000
DTEND;TZID=Asia/Shanghai:20220218T190000
DTSTAMP:20260425T225022
CREATED:20220127T105215Z
LAST-MODIFIED:20220127T105215Z
UID:10015349-1645207200-1645210800@www.dancesoul.com.tw
SUMMARY:Street Jazz(初)-大可
DESCRIPTION:
URL:https://www.dancesoul.com.tw/schedule/street-jazz%e5%88%9d-%e5%a4%a7%e5%8f%af-12/2022-02-18/
LOCATION:仁愛路四段425-1號\, Taipei City\, 104\, 台灣
CATEGORIES:STREET JAZZ 初級,常態課_初級,課程
END:VEVENT
BEGIN:VEVENT
DTSTART;TZID=Asia/Shanghai:20220211T180000
DTEND;TZID=Asia/Shanghai:20220211T190000
DTSTAMP:20260425T225022
CREATED:20220127T105215Z
LAST-MODIFIED:20220127T105215Z
UID:10015348-1644602400-1644606000@www.dancesoul.com.tw
SUMMARY:Street Jazz(初)-大可
DESCRIPTION:
URL:https://www.dancesoul.com.tw/schedule/street-jazz%e5%88%9d-%e5%a4%a7%e5%8f%af-12/2022-02-11/
LOCATION:仁愛路四段425-1號\, Taipei City\, 104\, 台灣
CATEGORIES:STREET JAZZ 初級,常態課_初級,課程
END:VEVENT
BEGIN:VEVENT
DTSTART;TZID=Asia/Shanghai:20220128T180000
DTEND;TZID=Asia/Shanghai:20220128T190000
DTSTAMP:20260425T225022
CREATED:20211230T040019Z
LAST-MODIFIED:20211230T040019Z
UID:10013891-1643392800-1643396400@www.dancesoul.com.tw
SUMMARY:Street Jazz(初)-大可
DESCRIPTION:
URL:https://www.dancesoul.com.tw/schedule/street-jazz%e5%88%9d-%e5%a4%a7%e5%8f%af-11/2022-01-28/
LOCATION:仁愛路四段425-1號\, Taipei City\, 104\, 台灣
CATEGORIES:STREET JAZZ 初級,常態課_初級,課程
END:VEVENT
BEGIN:VEVENT
DTSTART;TZID=Asia/Shanghai:20220121T180000
DTEND;TZID=Asia/Shanghai:20220121T190000
DTSTAMP:20260425T225022
CREATED:20211230T040019Z
LAST-MODIFIED:20211230T040019Z
UID:10013890-1642788000-1642791600@www.dancesoul.com.tw
SUMMARY:Street Jazz(初)-大可
DESCRIPTION:
URL:https://www.dancesoul.com.tw/schedule/street-jazz%e5%88%9d-%e5%a4%a7%e5%8f%af-11/2022-01-21/
LOCATION:仁愛路四段425-1號\, Taipei City\, 104\, 台灣
CATEGORIES:STREET JAZZ 初級,常態課_初級,課程
END:VEVENT
BEGIN:VEVENT
DTSTART;TZID=Asia/Shanghai:20220114T180000
DTEND;TZID=Asia/Shanghai:20220114T190000
DTSTAMP:20260425T225022
CREATED:20211230T040019Z
LAST-MODIFIED:20211230T040019Z
UID:10013889-1642183200-1642186800@www.dancesoul.com.tw
SUMMARY:Street Jazz(初)-大可
DESCRIPTION:
URL:https://www.dancesoul.com.tw/schedule/street-jazz%e5%88%9d-%e5%a4%a7%e5%8f%af-11/2022-01-14/
LOCATION:仁愛路四段425-1號\, Taipei City\, 104\, 台灣
CATEGORIES:STREET JAZZ 初級,常態課_初級,課程
END:VEVENT
BEGIN:VEVENT
DTSTART;TZID=Asia/Shanghai:20220107T180000
DTEND;TZID=Asia/Shanghai:20220107T190000
DTSTAMP:20260425T225022
CREATED:20211230T040019Z
LAST-MODIFIED:20211230T040019Z
UID:10013888-1641578400-1641582000@www.dancesoul.com.tw
SUMMARY:Street Jazz(初)-大可
DESCRIPTION:
URL:https://www.dancesoul.com.tw/schedule/street-jazz%e5%88%9d-%e5%a4%a7%e5%8f%af-11/2022-01-07/
LOCATION:仁愛路四段425-1號\, Taipei City\, 104\, 台灣
CATEGORIES:STREET JAZZ 初級,常態課_初級,課程
END:VEVENT
BEGIN:VEVENT
DTSTART;TZID=Asia/Shanghai:20211231T180000
DTEND;TZID=Asia/Shanghai:20211231T190000
DTSTAMP:20260425T225022
CREATED:20211126T081943Z
LAST-MODIFIED:20211126T081943Z
UID:10013722-1640973600-1640977200@www.dancesoul.com.tw
SUMMARY:Street Jazz(初)-大可
DESCRIPTION:
URL:https://www.dancesoul.com.tw/schedule/street-jazz%e5%88%9d-%e5%a4%a7%e5%8f%af-10/2021-12-31/
LOCATION:仁愛路四段425-1號\, Taipei City\, 104\, 台灣
CATEGORIES:STREET JAZZ 初級,常態課_初級,課程
END:VEVENT
BEGIN:VEVENT
DTSTART;TZID=Asia/Shanghai:20211224T180000
DTEND;TZID=Asia/Shanghai:20211224T190000
DTSTAMP:20260425T225022
CREATED:20211126T081943Z
LAST-MODIFIED:20211126T081943Z
UID:10013721-1640368800-1640372400@www.dancesoul.com.tw
SUMMARY:Street Jazz(初)-大可
DESCRIPTION:
URL:https://www.dancesoul.com.tw/schedule/street-jazz%e5%88%9d-%e5%a4%a7%e5%8f%af-10/2021-12-24/
LOCATION:仁愛路四段425-1號\, Taipei City\, 104\, 台灣
CATEGORIES:STREET JAZZ 初級,常態課_初級,課程
END:VEVENT
BEGIN:VEVENT
DTSTART;TZID=Asia/Shanghai:20211217T180000
DTEND;TZID=Asia/Shanghai:20211217T190000
DTSTAMP:20260425T225022
CREATED:20211126T081943Z
LAST-MODIFIED:20211126T081943Z
UID:10013720-1639764000-1639767600@www.dancesoul.com.tw
SUMMARY:Street Jazz(初)-大可
DESCRIPTION:
URL:https://www.dancesoul.com.tw/schedule/street-jazz%e5%88%9d-%e5%a4%a7%e5%8f%af-10/2021-12-17/
LOCATION:仁愛路四段425-1號\, Taipei City\, 104\, 台灣
CATEGORIES:STREET JAZZ 初級,常態課_初級,課程
END:VEVENT
BEGIN:VEVENT
DTSTART;TZID=Asia/Shanghai:20211210T180000
DTEND;TZID=Asia/Shanghai:20211210T190000
DTSTAMP:20260425T225022
CREATED:20211126T081943Z
LAST-MODIFIED:20211126T081943Z
UID:10013719-1639159200-1639162800@www.dancesoul.com.tw
SUMMARY:Street Jazz(初)-大可
DESCRIPTION:
URL:https://www.dancesoul.com.tw/schedule/street-jazz%e5%88%9d-%e5%a4%a7%e5%8f%af-10/2021-12-10/
LOCATION:仁愛路四段425-1號\, Taipei City\, 104\, 台灣
CATEGORIES:STREET JAZZ 初級,常態課_初級,課程
END:VEVENT
BEGIN:VEVENT
DTSTART;TZID=Asia/Shanghai:20211203T180000
DTEND;TZID=Asia/Shanghai:20211203T190000
DTSTAMP:20260425T225022
CREATED:20211126T081943Z
LAST-MODIFIED:20211126T081943Z
UID:10013718-1638554400-1638558000@www.dancesoul.com.tw
SUMMARY:Street Jazz(初)-大可
DESCRIPTION:
URL:https://www.dancesoul.com.tw/schedule/street-jazz%e5%88%9d-%e5%a4%a7%e5%8f%af-10/2021-12-03/
LOCATION:仁愛路四段425-1號\, Taipei City\, 104\, 台灣
CATEGORIES:STREET JAZZ 初級,常態課_初級,課程
END:VEVENT
BEGIN:VEVENT
DTSTART;TZID=Asia/Shanghai:20211126T180000
DTEND;TZID=Asia/Shanghai:20211126T190000
DTSTAMP:20260425T225022
CREATED:20211025T140534Z
LAST-MODIFIED:20211025T140534Z
UID:10012581-1637949600-1637953200@www.dancesoul.com.tw
SUMMARY:Street Jazz(初)-大可
DESCRIPTION:
URL:https://www.dancesoul.com.tw/schedule/street-jazz%e5%88%9d-%e5%a4%a7%e5%8f%af-9/2021-11-26/
LOCATION:仁愛路四段425-1號\, Taipei City\, 104\, 台灣
CATEGORIES:STREET JAZZ 初級,常態課_初級,課程
END:VEVENT
BEGIN:VEVENT
DTSTART;TZID=Asia/Shanghai:20211119T180000
DTEND;TZID=Asia/Shanghai:20211119T190000
DTSTAMP:20260425T225022
CREATED:20211025T140534Z
LAST-MODIFIED:20211025T140534Z
UID:10012580-1637344800-1637348400@www.dancesoul.com.tw
SUMMARY:Street Jazz(初)-大可
DESCRIPTION:
URL:https://www.dancesoul.com.tw/schedule/street-jazz%e5%88%9d-%e5%a4%a7%e5%8f%af-9/2021-11-19/
LOCATION:仁愛路四段425-1號\, Taipei City\, 104\, 台灣
CATEGORIES:STREET JAZZ 初級,常態課_初級,課程
END:VEVENT
BEGIN:VEVENT
DTSTART;TZID=Asia/Shanghai:20211112T180000
DTEND;TZID=Asia/Shanghai:20211112T190000
DTSTAMP:20260425T225022
CREATED:20211025T140534Z
LAST-MODIFIED:20211025T140534Z
UID:10012579-1636740000-1636743600@www.dancesoul.com.tw
SUMMARY:Street Jazz(初)-大可
DESCRIPTION:
URL:https://www.dancesoul.com.tw/schedule/street-jazz%e5%88%9d-%e5%a4%a7%e5%8f%af-9/2021-11-12/
LOCATION:仁愛路四段425-1號\, Taipei City\, 104\, 台灣
CATEGORIES:STREET JAZZ 初級,常態課_初級,課程
END:VEVENT
BEGIN:VEVENT
DTSTART;TZID=Asia/Shanghai:20211105T180000
DTEND;TZID=Asia/Shanghai:20211105T190000
DTSTAMP:20260425T225022
CREATED:20211025T140534Z
LAST-MODIFIED:20211025T140534Z
UID:10012578-1636135200-1636138800@www.dancesoul.com.tw
SUMMARY:Street Jazz(初)-大可
DESCRIPTION:
URL:https://www.dancesoul.com.tw/schedule/street-jazz%e5%88%9d-%e5%a4%a7%e5%8f%af-9/2021-11-05/
LOCATION:仁愛路四段425-1號\, Taipei City\, 104\, 台灣
CATEGORIES:STREET JAZZ 初級,常態課_初級,課程
END:VEVENT
BEGIN:VEVENT
DTSTART;TZID=Asia/Shanghai:20211029T180000
DTEND;TZID=Asia/Shanghai:20211029T190000
DTSTAMP:20260425T225022
CREATED:20210927T105611Z
LAST-MODIFIED:20210927T105611Z
UID:10012488-1635530400-1635534000@www.dancesoul.com.tw
SUMMARY:Street Jazz(初)-大可
DESCRIPTION:
URL:https://www.dancesoul.com.tw/schedule/street-jazz%e5%88%9d-%e5%a4%a7%e5%8f%af-8/2021-10-29/
LOCATION:仁愛路四段425-1號\, Taipei City\, 104\, 台灣
CATEGORIES:STREET JAZZ 初級,常態課_初級,課程
END:VEVENT
BEGIN:VEVENT
DTSTART;TZID=Asia/Shanghai:20211022T180000
DTEND;TZID=Asia/Shanghai:20211022T190000
DTSTAMP:20260425T225022
CREATED:20210927T105611Z
LAST-MODIFIED:20210927T105611Z
UID:10012487-1634925600-1634929200@www.dancesoul.com.tw
SUMMARY:Street Jazz(初)-大可
DESCRIPTION:
URL:https://www.dancesoul.com.tw/schedule/street-jazz%e5%88%9d-%e5%a4%a7%e5%8f%af-8/2021-10-22/
LOCATION:仁愛路四段425-1號\, Taipei City\, 104\, 台灣
CATEGORIES:STREET JAZZ 初級,常態課_初級,課程
END:VEVENT
BEGIN:VEVENT
DTSTART;TZID=Asia/Shanghai:20211015T180000
DTEND;TZID=Asia/Shanghai:20211015T190000
DTSTAMP:20260425T225022
CREATED:20210927T105611Z
LAST-MODIFIED:20210927T105611Z
UID:10012486-1634320800-1634324400@www.dancesoul.com.tw
SUMMARY:Street Jazz(初)-大可
DESCRIPTION:
URL:https://www.dancesoul.com.tw/schedule/street-jazz%e5%88%9d-%e5%a4%a7%e5%8f%af-8/2021-10-15/
LOCATION:仁愛路四段425-1號\, Taipei City\, 104\, 台灣
CATEGORIES:STREET JAZZ 初級,常態課_初級,課程
END:VEVENT
BEGIN:VEVENT
DTSTART;TZID=Asia/Shanghai:20211008T180000
DTEND;TZID=Asia/Shanghai:20211008T190000
DTSTAMP:20260425T225022
CREATED:20210927T105611Z
LAST-MODIFIED:20210927T105611Z
UID:10012485-1633716000-1633719600@www.dancesoul.com.tw
SUMMARY:Street Jazz(初)-大可
DESCRIPTION:
URL:https://www.dancesoul.com.tw/schedule/street-jazz%e5%88%9d-%e5%a4%a7%e5%8f%af-8/2021-10-08/
LOCATION:仁愛路四段425-1號\, Taipei City\, 104\, 台灣
CATEGORIES:STREET JAZZ 初級,常態課_初級,課程
END:VEVENT
BEGIN:VEVENT
DTSTART;TZID=Asia/Shanghai:20211001T180000
DTEND;TZID=Asia/Shanghai:20211001T190000
DTSTAMP:20260425T225022
CREATED:20210927T105611Z
LAST-MODIFIED:20210927T105611Z
UID:10012484-1633111200-1633114800@www.dancesoul.com.tw
SUMMARY:Street Jazz(初)-大可
DESCRIPTION:
URL:https://www.dancesoul.com.tw/schedule/street-jazz%e5%88%9d-%e5%a4%a7%e5%8f%af-8/2021-10-01/
LOCATION:仁愛路四段425-1號\, Taipei City\, 104\, 台灣
CATEGORIES:STREET JAZZ 初級,常態課_初級,課程
END:VEVENT
BEGIN:VEVENT
DTSTART;TZID=Asia/Shanghai:20210924T180000
DTEND;TZID=Asia/Shanghai:20210924T190000
DTSTAMP:20260425T225022
CREATED:20210826T132052Z
LAST-MODIFIED:20210826T132052Z
UID:10013244-1632506400-1632510000@www.dancesoul.com.tw
SUMMARY:Street Jazz(初)-大可
DESCRIPTION:
URL:https://www.dancesoul.com.tw/schedule/street-jazz%e5%88%9d-%e5%a4%a7%e5%8f%af-7/2021-09-24/
LOCATION:仁愛路四段425-1號\, Taipei City\, 104\, 台灣
CATEGORIES:STREET JAZZ 初級,常態課_初級,課程
END:VEVENT
BEGIN:VEVENT
DTSTART;TZID=Asia/Shanghai:20210917T180000
DTEND;TZID=Asia/Shanghai:20210917T190000
DTSTAMP:20260425T225022
CREATED:20210826T132052Z
LAST-MODIFIED:20210826T132052Z
UID:10013243-1631901600-1631905200@www.dancesoul.com.tw
SUMMARY:Street Jazz(初)-大可
DESCRIPTION:
URL:https://www.dancesoul.com.tw/schedule/street-jazz%e5%88%9d-%e5%a4%a7%e5%8f%af-7/2021-09-17/
LOCATION:仁愛路四段425-1號\, Taipei City\, 104\, 台灣
CATEGORIES:STREET JAZZ 初級,常態課_初級,課程
END:VEVENT
BEGIN:VEVENT
DTSTART;TZID=Asia/Shanghai:20210910T180000
DTEND;TZID=Asia/Shanghai:20210910T190000
DTSTAMP:20260425T225022
CREATED:20210826T132052Z
LAST-MODIFIED:20210826T132052Z
UID:10013242-1631296800-1631300400@www.dancesoul.com.tw
SUMMARY:Street Jazz(初)-大可
DESCRIPTION:
URL:https://www.dancesoul.com.tw/schedule/street-jazz%e5%88%9d-%e5%a4%a7%e5%8f%af-7/2021-09-10/
LOCATION:仁愛路四段425-1號\, Taipei City\, 104\, 台灣
CATEGORIES:STREET JAZZ 初級,常態課_初級,課程
END:VEVENT
BEGIN:VEVENT
DTSTART;TZID=Asia/Shanghai:20210903T180000
DTEND;TZID=Asia/Shanghai:20210903T190000
DTSTAMP:20260425T225022
CREATED:20210826T132052Z
LAST-MODIFIED:20210826T132052Z
UID:10013241-1630692000-1630695600@www.dancesoul.com.tw
SUMMARY:Street Jazz(初)-大可
DESCRIPTION:
URL:https://www.dancesoul.com.tw/schedule/street-jazz%e5%88%9d-%e5%a4%a7%e5%8f%af-7/2021-09-03/
LOCATION:仁愛路四段425-1號\, Taipei City\, 104\, 台灣
CATEGORIES:STREET JAZZ 初級,常態課_初級,課程
END:VEVENT
BEGIN:VEVENT
DTSTART;TZID=Asia/Shanghai:20210827T180000
DTEND;TZID=Asia/Shanghai:20210827T190000
DTSTAMP:20260425T225022
CREATED:20210731T073016Z
LAST-MODIFIED:20210731T073016Z
UID:10013165-1630087200-1630090800@www.dancesoul.com.tw
SUMMARY:Street Jazz(初)-大可
DESCRIPTION:
URL:https://www.dancesoul.com.tw/schedule/street-jazz%e5%88%9d-%e5%a4%a7%e5%8f%af-6/2021-08-27/
LOCATION:仁愛路四段425-1號\, Taipei City\, 104\, 台灣
CATEGORIES:STREET JAZZ 初級,常態課_初級,課程
END:VEVENT
BEGIN:VEVENT
DTSTART;TZID=Asia/Shanghai:20210820T180000
DTEND;TZID=Asia/Shanghai:20210820T190000
DTSTAMP:20260425T225022
CREATED:20210731T073016Z
LAST-MODIFIED:20210731T073016Z
UID:10013164-1629482400-1629486000@www.dancesoul.com.tw
SUMMARY:Street Jazz(初)-大可
DESCRIPTION:
URL:https://www.dancesoul.com.tw/schedule/street-jazz%e5%88%9d-%e5%a4%a7%e5%8f%af-6/2021-08-20/
LOCATION:仁愛路四段425-1號\, Taipei City\, 104\, 台灣
CATEGORIES:STREET JAZZ 初級,常態課_初級,課程
END:VEVENT
BEGIN:VEVENT
DTSTART;TZID=Asia/Shanghai:20210813T180000
DTEND;TZID=Asia/Shanghai:20210813T190000
DTSTAMP:20260425T225022
CREATED:20210731T073016Z
LAST-MODIFIED:20210731T073016Z
UID:10013163-1628877600-1628881200@www.dancesoul.com.tw
SUMMARY:Street Jazz(初)-大可
DESCRIPTION:
URL:https://www.dancesoul.com.tw/schedule/street-jazz%e5%88%9d-%e5%a4%a7%e5%8f%af-6/2021-08-13/
LOCATION:仁愛路四段425-1號\, Taipei City\, 104\, 台灣
CATEGORIES:STREET JAZZ 初級,常態課_初級,課程
END:VEVENT
BEGIN:VEVENT
DTSTART;TZID=Asia/Shanghai:20210806T180000
DTEND;TZID=Asia/Shanghai:20210806T190000
DTSTAMP:20260425T225022
CREATED:20210731T073016Z
LAST-MODIFIED:20210731T073016Z
UID:10013162-1628272800-1628276400@www.dancesoul.com.tw
SUMMARY:Street Jazz(初)-大可
DESCRIPTION:
URL:https://www.dancesoul.com.tw/schedule/street-jazz%e5%88%9d-%e5%a4%a7%e5%8f%af-6/2021-08-06/
LOCATION:仁愛路四段425-1號\, Taipei City\, 104\, 台灣
CATEGORIES:STREET JAZZ 初級,常態課_初級,課程
END:VEVENT
BEGIN:VEVENT
DTSTART;TZID=Asia/Shanghai:20210528T180000
DTEND;TZID=Asia/Shanghai:20210528T190000
DTSTAMP:20260425T225022
CREATED:20210426T102633Z
LAST-MODIFIED:20210426T102633Z
UID:10012809-1622224800-1622228400@www.dancesoul.com.tw
SUMMARY:Street Jazz(初)-大可
DESCRIPTION:
URL:https://www.dancesoul.com.tw/schedule/street-jazz%e5%88%9d-%e5%a4%a7%e5%8f%af-5/2021-05-28/
LOCATION:仁愛路四段425-1號\, Taipei City\, 104\, 台灣
CATEGORIES:STREET JAZZ 初級,常態課_初級,課程
END:VEVENT
END:VCALENDAR