BEGIN:VCALENDAR
VERSION:2.0
PRODID:-//DANCE SOUL 舞魂街舞學校 - ECPv6.15.18//NONSGML v1.0//EN
CALSCALE:GREGORIAN
METHOD:PUBLISH
X-ORIGINAL-URL:https://www.dancesoul.com.tw
X-WR-CALDESC:Events for DANCE SOUL 舞魂街舞學校
REFRESH-INTERVAL;VALUE=DURATION:PT1H
X-Robots-Tag:noindex
X-PUBLISHED-TTL:PT1H
BEGIN:VTIMEZONE
TZID:Asia/Shanghai
BEGIN:STANDARD
TZOFFSETFROM:+0800
TZOFFSETTO:+0800
TZNAME:CST
DTSTART:20220101T000000
END:STANDARD
END:VTIMEZONE
BEGIN:VEVENT
DTSTART;TZID=Asia/Shanghai:20230906T143000
DTEND;TZID=Asia/Shanghai:20230906T153000
DTSTAMP:20260423T022247
CREATED:20211230T061212Z
LAST-MODIFIED:20211230T061212Z
UID:10014420-1694010600-1694014200@www.dancesoul.com.tw
SUMMARY:Street Jazz(初)-沛縈
DESCRIPTION:
URL:https://www.dancesoul.com.tw/schedule/street-jazz%e5%88%9d-%e6%b2%9b%e7%b8%88/2023-09-06/
LOCATION:仁愛路四段425-1號\, Taipei City\, 104\, 台灣
CATEGORIES:STREET JAZZ 初級,常態課_初級,課程
END:VEVENT
BEGIN:VEVENT
DTSTART;TZID=Asia/Shanghai:20230830T143000
DTEND;TZID=Asia/Shanghai:20230830T153000
DTSTAMP:20260423T022247
CREATED:20211230T061212Z
LAST-MODIFIED:20211230T061212Z
UID:10014419-1693405800-1693409400@www.dancesoul.com.tw
SUMMARY:Street Jazz(初)-沛縈
DESCRIPTION:
URL:https://www.dancesoul.com.tw/schedule/street-jazz%e5%88%9d-%e6%b2%9b%e7%b8%88/2023-08-30/
LOCATION:仁愛路四段425-1號\, Taipei City\, 104\, 台灣
CATEGORIES:STREET JAZZ 初級,常態課_初級,課程
END:VEVENT
BEGIN:VEVENT
DTSTART;TZID=Asia/Shanghai:20230823T143000
DTEND;TZID=Asia/Shanghai:20230823T153000
DTSTAMP:20260423T022247
CREATED:20211230T061212Z
LAST-MODIFIED:20211230T061212Z
UID:10014418-1692801000-1692804600@www.dancesoul.com.tw
SUMMARY:Street Jazz(初)-沛縈
DESCRIPTION:
URL:https://www.dancesoul.com.tw/schedule/street-jazz%e5%88%9d-%e6%b2%9b%e7%b8%88/2023-08-23/
LOCATION:仁愛路四段425-1號\, Taipei City\, 104\, 台灣
CATEGORIES:STREET JAZZ 初級,常態課_初級,課程
END:VEVENT
BEGIN:VEVENT
DTSTART;TZID=Asia/Shanghai:20230816T143000
DTEND;TZID=Asia/Shanghai:20230816T153000
DTSTAMP:20260423T022247
CREATED:20211230T061212Z
LAST-MODIFIED:20211230T061212Z
UID:10014417-1692196200-1692199800@www.dancesoul.com.tw
SUMMARY:Street Jazz(初)-沛縈
DESCRIPTION:
URL:https://www.dancesoul.com.tw/schedule/street-jazz%e5%88%9d-%e6%b2%9b%e7%b8%88/2023-08-16/
LOCATION:仁愛路四段425-1號\, Taipei City\, 104\, 台灣
CATEGORIES:STREET JAZZ 初級,常態課_初級,課程
END:VEVENT
BEGIN:VEVENT
DTSTART;TZID=Asia/Shanghai:20230809T143000
DTEND;TZID=Asia/Shanghai:20230809T153000
DTSTAMP:20260423T022247
CREATED:20211230T061212Z
LAST-MODIFIED:20211230T061212Z
UID:10014416-1691591400-1691595000@www.dancesoul.com.tw
SUMMARY:Street Jazz(初)-沛縈
DESCRIPTION:
URL:https://www.dancesoul.com.tw/schedule/street-jazz%e5%88%9d-%e6%b2%9b%e7%b8%88/2023-08-09/
LOCATION:仁愛路四段425-1號\, Taipei City\, 104\, 台灣
CATEGORIES:STREET JAZZ 初級,常態課_初級,課程
END:VEVENT
BEGIN:VEVENT
DTSTART;TZID=Asia/Shanghai:20230802T143000
DTEND;TZID=Asia/Shanghai:20230802T153000
DTSTAMP:20260423T022247
CREATED:20211230T061212Z
LAST-MODIFIED:20211230T061212Z
UID:10014415-1690986600-1690990200@www.dancesoul.com.tw
SUMMARY:Street Jazz(初)-沛縈
DESCRIPTION:
URL:https://www.dancesoul.com.tw/schedule/street-jazz%e5%88%9d-%e6%b2%9b%e7%b8%88/2023-08-02/
LOCATION:仁愛路四段425-1號\, Taipei City\, 104\, 台灣
CATEGORIES:STREET JAZZ 初級,常態課_初級,課程
END:VEVENT
BEGIN:VEVENT
DTSTART;TZID=Asia/Shanghai:20230726T143000
DTEND;TZID=Asia/Shanghai:20230726T153000
DTSTAMP:20260423T022247
CREATED:20211230T061212Z
LAST-MODIFIED:20211230T061212Z
UID:10014414-1690381800-1690385400@www.dancesoul.com.tw
SUMMARY:Street Jazz(初)-沛縈
DESCRIPTION:
URL:https://www.dancesoul.com.tw/schedule/street-jazz%e5%88%9d-%e6%b2%9b%e7%b8%88/2023-07-26/
LOCATION:仁愛路四段425-1號\, Taipei City\, 104\, 台灣
CATEGORIES:STREET JAZZ 初級,常態課_初級,課程
END:VEVENT
BEGIN:VEVENT
DTSTART;TZID=Asia/Shanghai:20230719T143000
DTEND;TZID=Asia/Shanghai:20230719T153000
DTSTAMP:20260423T022247
CREATED:20211230T061212Z
LAST-MODIFIED:20211230T061212Z
UID:10014413-1689777000-1689780600@www.dancesoul.com.tw
SUMMARY:Street Jazz(初)-沛縈
DESCRIPTION:
URL:https://www.dancesoul.com.tw/schedule/street-jazz%e5%88%9d-%e6%b2%9b%e7%b8%88/2023-07-19/
LOCATION:仁愛路四段425-1號\, Taipei City\, 104\, 台灣
CATEGORIES:STREET JAZZ 初級,常態課_初級,課程
END:VEVENT
BEGIN:VEVENT
DTSTART;TZID=Asia/Shanghai:20230712T143000
DTEND;TZID=Asia/Shanghai:20230712T153000
DTSTAMP:20260423T022247
CREATED:20211230T061212Z
LAST-MODIFIED:20211230T061212Z
UID:10014412-1689172200-1689175800@www.dancesoul.com.tw
SUMMARY:Street Jazz(初)-沛縈
DESCRIPTION:
URL:https://www.dancesoul.com.tw/schedule/street-jazz%e5%88%9d-%e6%b2%9b%e7%b8%88/2023-07-12/
LOCATION:仁愛路四段425-1號\, Taipei City\, 104\, 台灣
CATEGORIES:STREET JAZZ 初級,常態課_初級,課程
END:VEVENT
BEGIN:VEVENT
DTSTART;TZID=Asia/Shanghai:20230705T143000
DTEND;TZID=Asia/Shanghai:20230705T153000
DTSTAMP:20260423T022247
CREATED:20211230T061212Z
LAST-MODIFIED:20211230T061212Z
UID:10014411-1688567400-1688571000@www.dancesoul.com.tw
SUMMARY:Street Jazz(初)-沛縈
DESCRIPTION:
URL:https://www.dancesoul.com.tw/schedule/street-jazz%e5%88%9d-%e6%b2%9b%e7%b8%88/2023-07-05/
LOCATION:仁愛路四段425-1號\, Taipei City\, 104\, 台灣
CATEGORIES:STREET JAZZ 初級,常態課_初級,課程
END:VEVENT
BEGIN:VEVENT
DTSTART;TZID=Asia/Shanghai:20230628T143000
DTEND;TZID=Asia/Shanghai:20230628T153000
DTSTAMP:20260423T022247
CREATED:20211230T061212Z
LAST-MODIFIED:20211230T061212Z
UID:10014410-1687962600-1687966200@www.dancesoul.com.tw
SUMMARY:Street Jazz(初)-沛縈
DESCRIPTION:
URL:https://www.dancesoul.com.tw/schedule/street-jazz%e5%88%9d-%e6%b2%9b%e7%b8%88/2023-06-28/
LOCATION:仁愛路四段425-1號\, Taipei City\, 104\, 台灣
CATEGORIES:STREET JAZZ 初級,常態課_初級,課程
END:VEVENT
BEGIN:VEVENT
DTSTART;TZID=Asia/Shanghai:20230621T143000
DTEND;TZID=Asia/Shanghai:20230621T153000
DTSTAMP:20260423T022247
CREATED:20211230T061212Z
LAST-MODIFIED:20211230T061212Z
UID:10014409-1687357800-1687361400@www.dancesoul.com.tw
SUMMARY:Street Jazz(初)-沛縈
DESCRIPTION:
URL:https://www.dancesoul.com.tw/schedule/street-jazz%e5%88%9d-%e6%b2%9b%e7%b8%88/2023-06-21/
LOCATION:仁愛路四段425-1號\, Taipei City\, 104\, 台灣
CATEGORIES:STREET JAZZ 初級,常態課_初級,課程
END:VEVENT
BEGIN:VEVENT
DTSTART;TZID=Asia/Shanghai:20230614T143000
DTEND;TZID=Asia/Shanghai:20230614T153000
DTSTAMP:20260423T022247
CREATED:20211230T061212Z
LAST-MODIFIED:20211230T061212Z
UID:10014408-1686753000-1686756600@www.dancesoul.com.tw
SUMMARY:Street Jazz(初)-沛縈
DESCRIPTION:
URL:https://www.dancesoul.com.tw/schedule/street-jazz%e5%88%9d-%e6%b2%9b%e7%b8%88/2023-06-14/
LOCATION:仁愛路四段425-1號\, Taipei City\, 104\, 台灣
CATEGORIES:STREET JAZZ 初級,常態課_初級,課程
END:VEVENT
BEGIN:VEVENT
DTSTART;TZID=Asia/Shanghai:20230607T143000
DTEND;TZID=Asia/Shanghai:20230607T153000
DTSTAMP:20260423T022247
CREATED:20211230T061212Z
LAST-MODIFIED:20211230T061212Z
UID:10014407-1686148200-1686151800@www.dancesoul.com.tw
SUMMARY:Street Jazz(初)-沛縈
DESCRIPTION:
URL:https://www.dancesoul.com.tw/schedule/street-jazz%e5%88%9d-%e6%b2%9b%e7%b8%88/2023-06-07/
LOCATION:仁愛路四段425-1號\, Taipei City\, 104\, 台灣
CATEGORIES:STREET JAZZ 初級,常態課_初級,課程
END:VEVENT
BEGIN:VEVENT
DTSTART;TZID=Asia/Shanghai:20230531T143000
DTEND;TZID=Asia/Shanghai:20230531T153000
DTSTAMP:20260423T022247
CREATED:20211230T061212Z
LAST-MODIFIED:20211230T061212Z
UID:10014406-1685543400-1685547000@www.dancesoul.com.tw
SUMMARY:Street Jazz(初)-沛縈
DESCRIPTION:
URL:https://www.dancesoul.com.tw/schedule/street-jazz%e5%88%9d-%e6%b2%9b%e7%b8%88/2023-05-31/
LOCATION:仁愛路四段425-1號\, Taipei City\, 104\, 台灣
CATEGORIES:STREET JAZZ 初級,常態課_初級,課程
END:VEVENT
BEGIN:VEVENT
DTSTART;TZID=Asia/Shanghai:20230524T143000
DTEND;TZID=Asia/Shanghai:20230524T153000
DTSTAMP:20260423T022247
CREATED:20211230T061212Z
LAST-MODIFIED:20211230T061212Z
UID:10014405-1684938600-1684942200@www.dancesoul.com.tw
SUMMARY:Street Jazz(初)-沛縈
DESCRIPTION:
URL:https://www.dancesoul.com.tw/schedule/street-jazz%e5%88%9d-%e6%b2%9b%e7%b8%88/2023-05-24/
LOCATION:仁愛路四段425-1號\, Taipei City\, 104\, 台灣
CATEGORIES:STREET JAZZ 初級,常態課_初級,課程
END:VEVENT
BEGIN:VEVENT
DTSTART;TZID=Asia/Shanghai:20230517T143000
DTEND;TZID=Asia/Shanghai:20230517T153000
DTSTAMP:20260423T022247
CREATED:20211230T061212Z
LAST-MODIFIED:20211230T061212Z
UID:10014404-1684333800-1684337400@www.dancesoul.com.tw
SUMMARY:Street Jazz(初)-沛縈
DESCRIPTION:
URL:https://www.dancesoul.com.tw/schedule/street-jazz%e5%88%9d-%e6%b2%9b%e7%b8%88/2023-05-17/
LOCATION:仁愛路四段425-1號\, Taipei City\, 104\, 台灣
CATEGORIES:STREET JAZZ 初級,常態課_初級,課程
END:VEVENT
BEGIN:VEVENT
DTSTART;TZID=Asia/Shanghai:20230510T143000
DTEND;TZID=Asia/Shanghai:20230510T153000
DTSTAMP:20260423T022247
CREATED:20211230T061212Z
LAST-MODIFIED:20211230T061212Z
UID:10014403-1683729000-1683732600@www.dancesoul.com.tw
SUMMARY:Street Jazz(初)-沛縈
DESCRIPTION:
URL:https://www.dancesoul.com.tw/schedule/street-jazz%e5%88%9d-%e6%b2%9b%e7%b8%88/2023-05-10/
LOCATION:仁愛路四段425-1號\, Taipei City\, 104\, 台灣
CATEGORIES:STREET JAZZ 初級,常態課_初級,課程
END:VEVENT
BEGIN:VEVENT
DTSTART;TZID=Asia/Shanghai:20230503T143000
DTEND;TZID=Asia/Shanghai:20230503T153000
DTSTAMP:20260423T022247
CREATED:20211230T061212Z
LAST-MODIFIED:20211230T061212Z
UID:10014402-1683124200-1683127800@www.dancesoul.com.tw
SUMMARY:Street Jazz(初)-沛縈
DESCRIPTION:
URL:https://www.dancesoul.com.tw/schedule/street-jazz%e5%88%9d-%e6%b2%9b%e7%b8%88/2023-05-03/
LOCATION:仁愛路四段425-1號\, Taipei City\, 104\, 台灣
CATEGORIES:STREET JAZZ 初級,常態課_初級,課程
END:VEVENT
BEGIN:VEVENT
DTSTART;TZID=Asia/Shanghai:20230426T143000
DTEND;TZID=Asia/Shanghai:20230426T153000
DTSTAMP:20260423T022247
CREATED:20211230T061212Z
LAST-MODIFIED:20211230T061212Z
UID:10014401-1682519400-1682523000@www.dancesoul.com.tw
SUMMARY:Street Jazz(初)-沛縈
DESCRIPTION:
URL:https://www.dancesoul.com.tw/schedule/street-jazz%e5%88%9d-%e6%b2%9b%e7%b8%88/2023-04-26/
LOCATION:仁愛路四段425-1號\, Taipei City\, 104\, 台灣
CATEGORIES:STREET JAZZ 初級,常態課_初級,課程
END:VEVENT
BEGIN:VEVENT
DTSTART;TZID=Asia/Shanghai:20230419T143000
DTEND;TZID=Asia/Shanghai:20230419T153000
DTSTAMP:20260423T022247
CREATED:20211230T061212Z
LAST-MODIFIED:20211230T061212Z
UID:10014400-1681914600-1681918200@www.dancesoul.com.tw
SUMMARY:Street Jazz(初)-沛縈
DESCRIPTION:
URL:https://www.dancesoul.com.tw/schedule/street-jazz%e5%88%9d-%e6%b2%9b%e7%b8%88/2023-04-19/
LOCATION:仁愛路四段425-1號\, Taipei City\, 104\, 台灣
CATEGORIES:STREET JAZZ 初級,常態課_初級,課程
END:VEVENT
BEGIN:VEVENT
DTSTART;TZID=Asia/Shanghai:20230412T143000
DTEND;TZID=Asia/Shanghai:20230412T153000
DTSTAMP:20260423T022247
CREATED:20211230T061212Z
LAST-MODIFIED:20211230T061212Z
UID:10014399-1681309800-1681313400@www.dancesoul.com.tw
SUMMARY:Street Jazz(初)-沛縈
DESCRIPTION:
URL:https://www.dancesoul.com.tw/schedule/street-jazz%e5%88%9d-%e6%b2%9b%e7%b8%88/2023-04-12/
LOCATION:仁愛路四段425-1號\, Taipei City\, 104\, 台灣
CATEGORIES:STREET JAZZ 初級,常態課_初級,課程
END:VEVENT
BEGIN:VEVENT
DTSTART;TZID=Asia/Shanghai:20230405T143000
DTEND;TZID=Asia/Shanghai:20230405T153000
DTSTAMP:20260423T022247
CREATED:20211230T061212Z
LAST-MODIFIED:20211230T061212Z
UID:10014398-1680705000-1680708600@www.dancesoul.com.tw
SUMMARY:Street Jazz(初)-沛縈
DESCRIPTION:
URL:https://www.dancesoul.com.tw/schedule/street-jazz%e5%88%9d-%e6%b2%9b%e7%b8%88/2023-04-05/
LOCATION:仁愛路四段425-1號\, Taipei City\, 104\, 台灣
CATEGORIES:STREET JAZZ 初級,常態課_初級,課程
END:VEVENT
BEGIN:VEVENT
DTSTART;TZID=Asia/Shanghai:20230329T143000
DTEND;TZID=Asia/Shanghai:20230329T153000
DTSTAMP:20260423T022247
CREATED:20211230T061212Z
LAST-MODIFIED:20211230T061212Z
UID:10014397-1680100200-1680103800@www.dancesoul.com.tw
SUMMARY:Street Jazz(初)-沛縈
DESCRIPTION:
URL:https://www.dancesoul.com.tw/schedule/street-jazz%e5%88%9d-%e6%b2%9b%e7%b8%88/2023-03-29/
LOCATION:仁愛路四段425-1號\, Taipei City\, 104\, 台灣
CATEGORIES:STREET JAZZ 初級,常態課_初級,課程
END:VEVENT
BEGIN:VEVENT
DTSTART;TZID=Asia/Shanghai:20230322T143000
DTEND;TZID=Asia/Shanghai:20230322T153000
DTSTAMP:20260423T022247
CREATED:20211230T061212Z
LAST-MODIFIED:20211230T061212Z
UID:10014396-1679495400-1679499000@www.dancesoul.com.tw
SUMMARY:Street Jazz(初)-沛縈
DESCRIPTION:
URL:https://www.dancesoul.com.tw/schedule/street-jazz%e5%88%9d-%e6%b2%9b%e7%b8%88/2023-03-22/
LOCATION:仁愛路四段425-1號\, Taipei City\, 104\, 台灣
CATEGORIES:STREET JAZZ 初級,常態課_初級,課程
END:VEVENT
BEGIN:VEVENT
DTSTART;TZID=Asia/Shanghai:20230315T143000
DTEND;TZID=Asia/Shanghai:20230315T153000
DTSTAMP:20260423T022247
CREATED:20211230T061212Z
LAST-MODIFIED:20211230T061212Z
UID:10014395-1678890600-1678894200@www.dancesoul.com.tw
SUMMARY:Street Jazz(初)-沛縈
DESCRIPTION:
URL:https://www.dancesoul.com.tw/schedule/street-jazz%e5%88%9d-%e6%b2%9b%e7%b8%88/2023-03-15/
LOCATION:仁愛路四段425-1號\, Taipei City\, 104\, 台灣
CATEGORIES:STREET JAZZ 初級,常態課_初級,課程
END:VEVENT
BEGIN:VEVENT
DTSTART;TZID=Asia/Shanghai:20230308T143000
DTEND;TZID=Asia/Shanghai:20230308T153000
DTSTAMP:20260423T022247
CREATED:20211230T061212Z
LAST-MODIFIED:20211230T061212Z
UID:10014394-1678285800-1678289400@www.dancesoul.com.tw
SUMMARY:Street Jazz(初)-沛縈
DESCRIPTION:
URL:https://www.dancesoul.com.tw/schedule/street-jazz%e5%88%9d-%e6%b2%9b%e7%b8%88/2023-03-08/
LOCATION:仁愛路四段425-1號\, Taipei City\, 104\, 台灣
CATEGORIES:STREET JAZZ 初級,常態課_初級,課程
END:VEVENT
BEGIN:VEVENT
DTSTART;TZID=Asia/Shanghai:20230301T143000
DTEND;TZID=Asia/Shanghai:20230301T153000
DTSTAMP:20260423T022247
CREATED:20211230T061212Z
LAST-MODIFIED:20211230T061212Z
UID:10014393-1677681000-1677684600@www.dancesoul.com.tw
SUMMARY:Street Jazz(初)-沛縈
DESCRIPTION:
URL:https://www.dancesoul.com.tw/schedule/street-jazz%e5%88%9d-%e6%b2%9b%e7%b8%88/2023-03-01/
LOCATION:仁愛路四段425-1號\, Taipei City\, 104\, 台灣
CATEGORIES:STREET JAZZ 初級,常態課_初級,課程
END:VEVENT
BEGIN:VEVENT
DTSTART;TZID=Asia/Shanghai:20230222T143000
DTEND;TZID=Asia/Shanghai:20230222T153000
DTSTAMP:20260423T022247
CREATED:20211230T061212Z
LAST-MODIFIED:20211230T061212Z
UID:10014392-1677076200-1677079800@www.dancesoul.com.tw
SUMMARY:Street Jazz(初)-沛縈
DESCRIPTION:
URL:https://www.dancesoul.com.tw/schedule/street-jazz%e5%88%9d-%e6%b2%9b%e7%b8%88/2023-02-22/
LOCATION:仁愛路四段425-1號\, Taipei City\, 104\, 台灣
CATEGORIES:STREET JAZZ 初級,常態課_初級,課程
END:VEVENT
BEGIN:VEVENT
DTSTART;TZID=Asia/Shanghai:20230215T143000
DTEND;TZID=Asia/Shanghai:20230215T153000
DTSTAMP:20260423T022247
CREATED:20211230T061212Z
LAST-MODIFIED:20211230T061212Z
UID:10014391-1676471400-1676475000@www.dancesoul.com.tw
SUMMARY:Street Jazz(初)-沛縈
DESCRIPTION:
URL:https://www.dancesoul.com.tw/schedule/street-jazz%e5%88%9d-%e6%b2%9b%e7%b8%88/2023-02-15/
LOCATION:仁愛路四段425-1號\, Taipei City\, 104\, 台灣
CATEGORIES:STREET JAZZ 初級,常態課_初級,課程
END:VEVENT
END:VCALENDAR