BEGIN:VCALENDAR
VERSION:2.0
PRODID:-//DANCE SOUL 舞魂街舞學校 - ECPv6.15.18//NONSGML v1.0//EN
CALSCALE:GREGORIAN
METHOD:PUBLISH
X-WR-CALNAME:DANCE SOUL 舞魂街舞學校
X-ORIGINAL-URL:https://www.dancesoul.com.tw
X-WR-CALDESC:Events for DANCE SOUL 舞魂街舞學校
REFRESH-INTERVAL;VALUE=DURATION:PT1H
X-Robots-Tag:noindex
X-PUBLISHED-TTL:PT1H
BEGIN:VTIMEZONE
TZID:Asia/Shanghai
BEGIN:STANDARD
TZOFFSETFROM:+0800
TZOFFSETTO:+0800
TZNAME:CST
DTSTART:20220101T000000
END:STANDARD
END:VTIMEZONE
BEGIN:VEVENT
DTSTART;TZID=Asia/Shanghai:20230430T165000
DTEND;TZID=Asia/Shanghai:20230430T175000
DTSTAMP:20260423T051639
CREATED:20230324T121528Z
LAST-MODIFIED:20230325T061352Z
UID:10017350-1682873400-1682877000@www.dancesoul.com.tw
SUMMARY:MV-(NMIXX - Young\, Dumb\, Stupid)-賴賴
DESCRIPTION:
URL:https://www.dancesoul.com.tw/schedule/mv-nmixx-young-dumb-stupid-%e8%b3%b4%e8%b3%b4/2023-04-30/
LOCATION:仁愛路四段425-1號\, Taipei City\, 104\, 台灣
CATEGORIES:MV課,課程
END:VEVENT
BEGIN:VEVENT
DTSTART;TZID=Asia/Shanghai:20230423T165000
DTEND;TZID=Asia/Shanghai:20230423T175000
DTSTAMP:20260423T051639
CREATED:20230324T121528Z
LAST-MODIFIED:20230325T061352Z
UID:10017349-1682268600-1682272200@www.dancesoul.com.tw
SUMMARY:MV-(NMIXX - Young\, Dumb\, Stupid)-賴賴
DESCRIPTION:
URL:https://www.dancesoul.com.tw/schedule/mv-nmixx-young-dumb-stupid-%e8%b3%b4%e8%b3%b4/2023-04-23/
LOCATION:仁愛路四段425-1號\, Taipei City\, 104\, 台灣
CATEGORIES:MV課,課程
END:VEVENT
BEGIN:VEVENT
DTSTART;TZID=Asia/Shanghai:20230416T165000
DTEND;TZID=Asia/Shanghai:20230416T175000
DTSTAMP:20260423T051639
CREATED:20230324T121528Z
LAST-MODIFIED:20230325T061352Z
UID:10017348-1681663800-1681667400@www.dancesoul.com.tw
SUMMARY:MV-(NMIXX - Young\, Dumb\, Stupid)-賴賴
DESCRIPTION:
URL:https://www.dancesoul.com.tw/schedule/mv-nmixx-young-dumb-stupid-%e8%b3%b4%e8%b3%b4/2023-04-16/
LOCATION:仁愛路四段425-1號\, Taipei City\, 104\, 台灣
CATEGORIES:MV課,課程
END:VEVENT
BEGIN:VEVENT
DTSTART;TZID=Asia/Shanghai:20230409T165000
DTEND;TZID=Asia/Shanghai:20230409T175000
DTSTAMP:20260423T051639
CREATED:20230324T121528Z
LAST-MODIFIED:20230325T061352Z
UID:10017347-1681059000-1681062600@www.dancesoul.com.tw
SUMMARY:MV-(NMIXX - Young\, Dumb\, Stupid)-賴賴
DESCRIPTION:
URL:https://www.dancesoul.com.tw/schedule/mv-nmixx-young-dumb-stupid-%e8%b3%b4%e8%b3%b4/2023-04-09/
LOCATION:仁愛路四段425-1號\, Taipei City\, 104\, 台灣
CATEGORIES:MV課,課程
END:VEVENT
BEGIN:VEVENT
DTSTART;TZID=Asia/Shanghai:20230402T165000
DTEND;TZID=Asia/Shanghai:20230402T175000
DTSTAMP:20260423T051639
CREATED:20230324T121528Z
LAST-MODIFIED:20230325T061352Z
UID:10017346-1680454200-1680457800@www.dancesoul.com.tw
SUMMARY:MV-(NMIXX - Young\, Dumb\, Stupid)-賴賴
DESCRIPTION:
URL:https://www.dancesoul.com.tw/schedule/mv-nmixx-young-dumb-stupid-%e8%b3%b4%e8%b3%b4/2023-04-02/
LOCATION:仁愛路四段425-1號\, Taipei City\, 104\, 台灣
CATEGORIES:MV課,課程
END:VEVENT
END:VCALENDAR