BEGIN:VCALENDAR
VERSION:2.0
PRODID:-//DANCE SOUL 舞魂街舞學校 - ECPv6.15.18//NONSGML v1.0//EN
CALSCALE:GREGORIAN
METHOD:PUBLISH
X-WR-CALNAME:DANCE SOUL 舞魂街舞學校
X-ORIGINAL-URL:https://www.dancesoul.com.tw
X-WR-CALDESC:Events for DANCE SOUL 舞魂街舞學校
REFRESH-INTERVAL;VALUE=DURATION:PT1H
X-Robots-Tag:noindex
X-PUBLISHED-TTL:PT1H
BEGIN:VTIMEZONE
TZID:Asia/Shanghai
BEGIN:STANDARD
TZOFFSETFROM:+0800
TZOFFSETTO:+0800
TZNAME:CST
DTSTART:20230101T000000
END:STANDARD
END:VTIMEZONE
BEGIN:VEVENT
DTSTART;TZID=Asia/Shanghai:20250630T182000
DTEND;TZID=Asia/Shanghai:20250630T192000
DTSTAMP:20260421T195317
CREATED:20250417T091105Z
LAST-MODIFIED:20250515T043131Z
UID:10021665-1751307600-1751311200@www.dancesoul.com.tw
SUMMARY:Twerk(初)-碗公
DESCRIPTION:
URL:https://www.dancesoul.com.tw/schedule/twerk%e5%88%9d-%e7%a2%97%e5%85%ac-42/2025-06-30/
CATEGORIES:Twerk 初級,常態課_初級,課程
END:VEVENT
BEGIN:VEVENT
DTSTART;TZID=Asia/Shanghai:20250623T182000
DTEND;TZID=Asia/Shanghai:20250623T192000
DTSTAMP:20260421T195317
CREATED:20250417T091105Z
LAST-MODIFIED:20250515T043131Z
UID:10021664-1750702800-1750706400@www.dancesoul.com.tw
SUMMARY:Twerk(初)-碗公
DESCRIPTION:
URL:https://www.dancesoul.com.tw/schedule/twerk%e5%88%9d-%e7%a2%97%e5%85%ac-42/2025-06-23/
CATEGORIES:Twerk 初級,常態課_初級,課程
END:VEVENT
BEGIN:VEVENT
DTSTART;TZID=Asia/Shanghai:20250616T182000
DTEND;TZID=Asia/Shanghai:20250616T192000
DTSTAMP:20260421T195317
CREATED:20250417T091105Z
LAST-MODIFIED:20250515T043131Z
UID:10021663-1750098000-1750101600@www.dancesoul.com.tw
SUMMARY:Twerk(初)-碗公
DESCRIPTION:
URL:https://www.dancesoul.com.tw/schedule/twerk%e5%88%9d-%e7%a2%97%e5%85%ac-42/2025-06-16/
CATEGORIES:Twerk 初級,常態課_初級,課程
END:VEVENT
BEGIN:VEVENT
DTSTART;TZID=Asia/Shanghai:20250609T182000
DTEND;TZID=Asia/Shanghai:20250609T192000
DTSTAMP:20260421T195317
CREATED:20250417T091105Z
LAST-MODIFIED:20250515T043131Z
UID:10021662-1749493200-1749496800@www.dancesoul.com.tw
SUMMARY:Twerk(初)-碗公
DESCRIPTION:
URL:https://www.dancesoul.com.tw/schedule/twerk%e5%88%9d-%e7%a2%97%e5%85%ac-42/2025-06-09/
CATEGORIES:Twerk 初級,常態課_初級,課程
END:VEVENT
BEGIN:VEVENT
DTSTART;TZID=Asia/Shanghai:20250602T182000
DTEND;TZID=Asia/Shanghai:20250602T192000
DTSTAMP:20260421T195317
CREATED:20250417T091105Z
LAST-MODIFIED:20250515T043131Z
UID:10021661-1748888400-1748892000@www.dancesoul.com.tw
SUMMARY:Twerk(初)-碗公
DESCRIPTION:
URL:https://www.dancesoul.com.tw/schedule/twerk%e5%88%9d-%e7%a2%97%e5%85%ac-42/2025-06-02/
CATEGORIES:Twerk 初級,常態課_初級,課程
END:VEVENT
BEGIN:VEVENT
DTSTART;TZID=Asia/Shanghai:20250526T182000
DTEND;TZID=Asia/Shanghai:20250526T192000
DTSTAMP:20260421T195317
CREATED:20250417T091105Z
LAST-MODIFIED:20250515T043131Z
UID:10021443-1748283600-1748287200@www.dancesoul.com.tw
SUMMARY:Twerk(初)-碗公
DESCRIPTION:
URL:https://www.dancesoul.com.tw/schedule/twerk%e5%88%9d-%e7%a2%97%e5%85%ac-42/2025-05-26/
CATEGORIES:Twerk 初級,常態課_初級,課程
END:VEVENT
BEGIN:VEVENT
DTSTART;TZID=Asia/Shanghai:20250519T182000
DTEND;TZID=Asia/Shanghai:20250519T192000
DTSTAMP:20260421T195317
CREATED:20250417T091105Z
LAST-MODIFIED:20250515T043131Z
UID:10021442-1747678800-1747682400@www.dancesoul.com.tw
SUMMARY:Twerk(初)-碗公
DESCRIPTION:
URL:https://www.dancesoul.com.tw/schedule/twerk%e5%88%9d-%e7%a2%97%e5%85%ac-42/2025-05-19/
CATEGORIES:Twerk 初級,常態課_初級,課程
END:VEVENT
BEGIN:VEVENT
DTSTART;TZID=Asia/Shanghai:20250505T182000
DTEND;TZID=Asia/Shanghai:20250505T192000
DTSTAMP:20260421T195317
CREATED:20250417T091105Z
LAST-MODIFIED:20250515T043131Z
UID:10021440-1746469200-1746472800@www.dancesoul.com.tw
SUMMARY:Twerk(初)-碗公
DESCRIPTION:
URL:https://www.dancesoul.com.tw/schedule/twerk%e5%88%9d-%e7%a2%97%e5%85%ac-42/2025-05-05/
CATEGORIES:Twerk 初級,常態課_初級,課程
END:VEVENT
BEGIN:VEVENT
DTSTART;TZID=Asia/Shanghai:20250428T182000
DTEND;TZID=Asia/Shanghai:20250428T192000
DTSTAMP:20260421T195317
CREATED:20250322T100819Z
LAST-MODIFIED:20250322T100819Z
UID:10021289-1745864400-1745868000@www.dancesoul.com.tw
SUMMARY:Twerk(初)-碗公
DESCRIPTION:
URL:https://www.dancesoul.com.tw/schedule/twerk%e5%88%9d-%e7%a2%97%e5%85%ac-41/2025-04-28/
CATEGORIES:Twerk 初級,常態課_初級,課程
END:VEVENT
BEGIN:VEVENT
DTSTART;TZID=Asia/Shanghai:20250421T182000
DTEND;TZID=Asia/Shanghai:20250421T192000
DTSTAMP:20260421T195317
CREATED:20250322T100819Z
LAST-MODIFIED:20250322T100819Z
UID:10021288-1745259600-1745263200@www.dancesoul.com.tw
SUMMARY:Twerk(初)-碗公
DESCRIPTION:
URL:https://www.dancesoul.com.tw/schedule/twerk%e5%88%9d-%e7%a2%97%e5%85%ac-41/2025-04-21/
CATEGORIES:Twerk 初級,常態課_初級,課程
END:VEVENT
BEGIN:VEVENT
DTSTART;TZID=Asia/Shanghai:20250414T182000
DTEND;TZID=Asia/Shanghai:20250414T192000
DTSTAMP:20260421T195317
CREATED:20250322T100819Z
LAST-MODIFIED:20250322T100819Z
UID:10021287-1744654800-1744658400@www.dancesoul.com.tw
SUMMARY:Twerk(初)-碗公
DESCRIPTION:
URL:https://www.dancesoul.com.tw/schedule/twerk%e5%88%9d-%e7%a2%97%e5%85%ac-41/2025-04-14/
CATEGORIES:Twerk 初級,常態課_初級,課程
END:VEVENT
BEGIN:VEVENT
DTSTART;TZID=Asia/Shanghai:20250407T182000
DTEND;TZID=Asia/Shanghai:20250407T192000
DTSTAMP:20260421T195317
CREATED:20250322T100819Z
LAST-MODIFIED:20250322T100819Z
UID:10021286-1744050000-1744053600@www.dancesoul.com.tw
SUMMARY:Twerk(初)-碗公
DESCRIPTION:
URL:https://www.dancesoul.com.tw/schedule/twerk%e5%88%9d-%e7%a2%97%e5%85%ac-41/2025-04-07/
CATEGORIES:Twerk 初級,常態課_初級,課程
END:VEVENT
BEGIN:VEVENT
DTSTART;TZID=Asia/Shanghai:20250331T182000
DTEND;TZID=Asia/Shanghai:20250331T192000
DTSTAMP:20260421T195317
CREATED:20250223T103439Z
LAST-MODIFIED:20250223T103439Z
UID:10021215-1743445200-1743448800@www.dancesoul.com.tw
SUMMARY:Twerk(初)-碗公
DESCRIPTION:
URL:https://www.dancesoul.com.tw/schedule/twerk%e5%88%9d-%e7%a2%97%e5%85%ac-40/2025-03-31/
CATEGORIES:Twerk 初級,常態課_初級,課程
END:VEVENT
BEGIN:VEVENT
DTSTART;TZID=Asia/Shanghai:20250324T182000
DTEND;TZID=Asia/Shanghai:20250324T192000
DTSTAMP:20260421T195317
CREATED:20250223T103439Z
LAST-MODIFIED:20250223T103439Z
UID:10021214-1742840400-1742844000@www.dancesoul.com.tw
SUMMARY:Twerk(初)-碗公
DESCRIPTION:
URL:https://www.dancesoul.com.tw/schedule/twerk%e5%88%9d-%e7%a2%97%e5%85%ac-40/2025-03-24/
CATEGORIES:Twerk 初級,常態課_初級,課程
END:VEVENT
BEGIN:VEVENT
DTSTART;TZID=Asia/Shanghai:20250317T182000
DTEND;TZID=Asia/Shanghai:20250317T192000
DTSTAMP:20260421T195317
CREATED:20250223T103439Z
LAST-MODIFIED:20250223T103439Z
UID:10021213-1742235600-1742239200@www.dancesoul.com.tw
SUMMARY:Twerk(初)-碗公
DESCRIPTION:
URL:https://www.dancesoul.com.tw/schedule/twerk%e5%88%9d-%e7%a2%97%e5%85%ac-40/2025-03-17/
CATEGORIES:Twerk 初級,常態課_初級,課程
END:VEVENT
BEGIN:VEVENT
DTSTART;TZID=Asia/Shanghai:20250310T182000
DTEND;TZID=Asia/Shanghai:20250310T192000
DTSTAMP:20260421T195317
CREATED:20250223T103439Z
LAST-MODIFIED:20250223T103439Z
UID:10021212-1741630800-1741634400@www.dancesoul.com.tw
SUMMARY:Twerk(初)-碗公
DESCRIPTION:
URL:https://www.dancesoul.com.tw/schedule/twerk%e5%88%9d-%e7%a2%97%e5%85%ac-40/2025-03-10/
CATEGORIES:Twerk 初級,常態課_初級,課程
END:VEVENT
BEGIN:VEVENT
DTSTART;TZID=Asia/Shanghai:20250303T182000
DTEND;TZID=Asia/Shanghai:20250303T192000
DTSTAMP:20260421T195317
CREATED:20250223T103439Z
LAST-MODIFIED:20250223T103439Z
UID:10021211-1741026000-1741029600@www.dancesoul.com.tw
SUMMARY:Twerk(初)-碗公
DESCRIPTION:
URL:https://www.dancesoul.com.tw/schedule/twerk%e5%88%9d-%e7%a2%97%e5%85%ac-40/2025-03-03/
CATEGORIES:Twerk 初級,常態課_初級,課程
END:VEVENT
BEGIN:VEVENT
DTSTART;TZID=Asia/Shanghai:20250224T182000
DTEND;TZID=Asia/Shanghai:20250224T192000
DTSTAMP:20260421T195317
CREATED:20250126T065300Z
LAST-MODIFIED:20250213T200924Z
UID:10021071-1740421200-1740424800@www.dancesoul.com.tw
SUMMARY:Twerk(初)-碗公
DESCRIPTION:
URL:https://www.dancesoul.com.tw/schedule/twerk%e5%88%9d-%e7%a2%97%e5%85%ac-39/2025-02-24/
CATEGORIES:Twerk 初級,常態課_初級,課程
ATTACH;FMTTYPE=image/jpeg:https://www.dancesoul.com.tw/wp-content/uploads/2024/08/cropped-4E5A6698-scaled-1.jpg
END:VEVENT
BEGIN:VEVENT
DTSTART;TZID=Asia/Shanghai:20250217T182000
DTEND;TZID=Asia/Shanghai:20250217T192000
DTSTAMP:20260421T195317
CREATED:20250126T065300Z
LAST-MODIFIED:20250213T200924Z
UID:10021070-1739816400-1739820000@www.dancesoul.com.tw
SUMMARY:Twerk(初)-碗公
DESCRIPTION:
URL:https://www.dancesoul.com.tw/schedule/twerk%e5%88%9d-%e7%a2%97%e5%85%ac-39/2025-02-17/
CATEGORIES:Twerk 初級,常態課_初級,課程
ATTACH;FMTTYPE=image/jpeg:https://www.dancesoul.com.tw/wp-content/uploads/2024/08/cropped-4E5A6698-scaled-1.jpg
END:VEVENT
BEGIN:VEVENT
DTSTART;TZID=Asia/Shanghai:20250210T182000
DTEND;TZID=Asia/Shanghai:20250210T192000
DTSTAMP:20260421T195317
CREATED:20250126T065300Z
LAST-MODIFIED:20250213T200924Z
UID:10021069-1739211600-1739215200@www.dancesoul.com.tw
SUMMARY:Twerk(初)-碗公
DESCRIPTION:
URL:https://www.dancesoul.com.tw/schedule/twerk%e5%88%9d-%e7%a2%97%e5%85%ac-39/2025-02-10/
CATEGORIES:Twerk 初級,常態課_初級,課程
ATTACH;FMTTYPE=image/jpeg:https://www.dancesoul.com.tw/wp-content/uploads/2024/08/cropped-4E5A6698-scaled-1.jpg
END:VEVENT
BEGIN:VEVENT
DTSTART;TZID=Asia/Shanghai:20250203T182000
DTEND;TZID=Asia/Shanghai:20250203T192000
DTSTAMP:20260421T195317
CREATED:20250126T065300Z
LAST-MODIFIED:20250213T200924Z
UID:10021068-1738606800-1738610400@www.dancesoul.com.tw
SUMMARY:Twerk(初)-碗公
DESCRIPTION:
URL:https://www.dancesoul.com.tw/schedule/twerk%e5%88%9d-%e7%a2%97%e5%85%ac-39/2025-02-03/
CATEGORIES:Twerk 初級,常態課_初級,課程
ATTACH;FMTTYPE=image/jpeg:https://www.dancesoul.com.tw/wp-content/uploads/2024/08/cropped-4E5A6698-scaled-1.jpg
END:VEVENT
BEGIN:VEVENT
DTSTART;TZID=Asia/Shanghai:20250127T182000
DTEND;TZID=Asia/Shanghai:20250127T192000
DTSTAMP:20260421T195317
CREATED:20241230T071350Z
LAST-MODIFIED:20241230T071350Z
UID:10020762-1738002000-1738005600@www.dancesoul.com.tw
SUMMARY:Twerk(初)-碗公
DESCRIPTION:
URL:https://www.dancesoul.com.tw/schedule/twerk%e5%88%9d-%e7%a2%97%e5%85%ac-38/2025-01-27/
CATEGORIES:Twerk 初級,常態課_初級,課程
END:VEVENT
BEGIN:VEVENT
DTSTART;TZID=Asia/Shanghai:20250120T182000
DTEND;TZID=Asia/Shanghai:20250120T192000
DTSTAMP:20260421T195317
CREATED:20241230T071350Z
LAST-MODIFIED:20241230T071350Z
UID:10020761-1737397200-1737400800@www.dancesoul.com.tw
SUMMARY:Twerk(初)-碗公
DESCRIPTION:
URL:https://www.dancesoul.com.tw/schedule/twerk%e5%88%9d-%e7%a2%97%e5%85%ac-38/2025-01-20/
CATEGORIES:Twerk 初級,常態課_初級,課程
END:VEVENT
BEGIN:VEVENT
DTSTART;TZID=Asia/Shanghai:20250113T182000
DTEND;TZID=Asia/Shanghai:20250113T192000
DTSTAMP:20260421T195317
CREATED:20241230T071350Z
LAST-MODIFIED:20241230T071350Z
UID:10020760-1736792400-1736796000@www.dancesoul.com.tw
SUMMARY:Twerk(初)-碗公
DESCRIPTION:
URL:https://www.dancesoul.com.tw/schedule/twerk%e5%88%9d-%e7%a2%97%e5%85%ac-38/2025-01-13/
CATEGORIES:Twerk 初級,常態課_初級,課程
END:VEVENT
BEGIN:VEVENT
DTSTART;TZID=Asia/Shanghai:20250106T182000
DTEND;TZID=Asia/Shanghai:20250106T192000
DTSTAMP:20260421T195317
CREATED:20241230T071350Z
LAST-MODIFIED:20241230T071350Z
UID:10020759-1736187600-1736191200@www.dancesoul.com.tw
SUMMARY:Twerk(初)-碗公
DESCRIPTION:
URL:https://www.dancesoul.com.tw/schedule/twerk%e5%88%9d-%e7%a2%97%e5%85%ac-38/2025-01-06/
CATEGORIES:Twerk 初級,常態課_初級,課程
END:VEVENT
BEGIN:VEVENT
DTSTART;TZID=Asia/Shanghai:20241230T183000
DTEND;TZID=Asia/Shanghai:20241230T193000
DTSTAMP:20260421T195317
CREATED:20241125T095938Z
LAST-MODIFIED:20241125T095938Z
UID:10020595-1735583400-1735587000@www.dancesoul.com.tw
SUMMARY:Twerk(初)-碗公
DESCRIPTION:
URL:https://www.dancesoul.com.tw/schedule/twerk%e5%88%9d-%e7%a2%97%e5%85%ac-37/2024-12-30/
CATEGORIES:Lyrical Jazz,Twerk 初級,常態課_初級,課程
END:VEVENT
BEGIN:VEVENT
DTSTART;TZID=Asia/Shanghai:20241223T183000
DTEND;TZID=Asia/Shanghai:20241223T193000
DTSTAMP:20260421T195317
CREATED:20241125T095938Z
LAST-MODIFIED:20241125T095938Z
UID:10020594-1734978600-1734982200@www.dancesoul.com.tw
SUMMARY:Twerk(初)-碗公
DESCRIPTION:
URL:https://www.dancesoul.com.tw/schedule/twerk%e5%88%9d-%e7%a2%97%e5%85%ac-37/2024-12-23/
CATEGORIES:Lyrical Jazz,Twerk 初級,常態課_初級,課程
END:VEVENT
BEGIN:VEVENT
DTSTART;TZID=Asia/Shanghai:20241216T183000
DTEND;TZID=Asia/Shanghai:20241216T193000
DTSTAMP:20260421T195317
CREATED:20241125T095938Z
LAST-MODIFIED:20241125T095938Z
UID:10020593-1734373800-1734377400@www.dancesoul.com.tw
SUMMARY:Twerk(初)-碗公
DESCRIPTION:
URL:https://www.dancesoul.com.tw/schedule/twerk%e5%88%9d-%e7%a2%97%e5%85%ac-37/2024-12-16/
CATEGORIES:Lyrical Jazz,Twerk 初級,常態課_初級,課程
END:VEVENT
BEGIN:VEVENT
DTSTART;TZID=Asia/Shanghai:20241209T183000
DTEND;TZID=Asia/Shanghai:20241209T193000
DTSTAMP:20260421T195317
CREATED:20241125T095938Z
LAST-MODIFIED:20241125T095938Z
UID:10020592-1733769000-1733772600@www.dancesoul.com.tw
SUMMARY:Twerk(初)-碗公
DESCRIPTION:
URL:https://www.dancesoul.com.tw/schedule/twerk%e5%88%9d-%e7%a2%97%e5%85%ac-37/2024-12-09/
CATEGORIES:Lyrical Jazz,Twerk 初級,常態課_初級,課程
END:VEVENT
BEGIN:VEVENT
DTSTART;TZID=Asia/Shanghai:20241202T183000
DTEND;TZID=Asia/Shanghai:20241202T193000
DTSTAMP:20260421T195317
CREATED:20241125T095938Z
LAST-MODIFIED:20241125T095938Z
UID:10020591-1733164200-1733167800@www.dancesoul.com.tw
SUMMARY:Twerk(初)-碗公
DESCRIPTION:
URL:https://www.dancesoul.com.tw/schedule/twerk%e5%88%9d-%e7%a2%97%e5%85%ac-37/2024-12-02/
CATEGORIES:Lyrical Jazz,Twerk 初級,常態課_初級,課程
END:VEVENT
END:VCALENDAR