BEGIN:VCALENDAR
VERSION:2.0
PRODID:-//DANCE SOUL 舞魂街舞學校 - ECPv6.15.18//NONSGML v1.0//EN
CALSCALE:GREGORIAN
METHOD:PUBLISH
X-WR-CALNAME:DANCE SOUL 舞魂街舞學校
X-ORIGINAL-URL:https://www.dancesoul.com.tw
X-WR-CALDESC:Events for DANCE SOUL 舞魂街舞學校
REFRESH-INTERVAL;VALUE=DURATION:PT1H
X-Robots-Tag:noindex
X-PUBLISHED-TTL:PT1H
BEGIN:VTIMEZONE
TZID:Asia/Shanghai
BEGIN:STANDARD
TZOFFSETFROM:+0800
TZOFFSETTO:+0800
TZNAME:CST
DTSTART:20240101T000000
END:STANDARD
END:VTIMEZONE
BEGIN:VEVENT
DTSTART;TZID=Asia/Shanghai:20250210T143000
DTEND;TZID=Asia/Shanghai:20250210T153000
DTSTAMP:20260421T233933
CREATED:20250125T063346Z
LAST-MODIFIED:20250125T063707Z
UID:10020999-1739197800-1739201400@www.dancesoul.com.tw
SUMMARY:Vogue Fem-默默
DESCRIPTION:
URL:https://www.dancesoul.com.tw/schedule/vogue-fem-%e9%bb%98%e9%bb%98-2/2025-02-10/
CATEGORIES:Vigue Fem,常態課_一般,課程
END:VEVENT
BEGIN:VEVENT
DTSTART;TZID=Asia/Shanghai:20250203T143000
DTEND;TZID=Asia/Shanghai:20250203T153000
DTSTAMP:20260421T233933
CREATED:20250125T063346Z
LAST-MODIFIED:20250125T063707Z
UID:10020998-1738593000-1738596600@www.dancesoul.com.tw
SUMMARY:Vogue Fem-默默
DESCRIPTION:
URL:https://www.dancesoul.com.tw/schedule/vogue-fem-%e9%bb%98%e9%bb%98-2/2025-02-03/
CATEGORIES:Vigue Fem,常態課_一般,課程
END:VEVENT
BEGIN:VEVENT
DTSTART;TZID=Asia/Shanghai:20250127T143000
DTEND;TZID=Asia/Shanghai:20250127T153000
DTSTAMP:20260421T233933
CREATED:20241231T033812Z
LAST-MODIFIED:20250102T092910Z
UID:10020951-1737988200-1737991800@www.dancesoul.com.tw
SUMMARY:Vogue Fem-默默
DESCRIPTION:
URL:https://www.dancesoul.com.tw/schedule/vogue-fem-%e9%bb%98%e9%bb%98/
CATEGORIES:Vigue Fem,常態課_一般,課程
END:VEVENT
END:VCALENDAR