BEGIN:VCALENDAR
VERSION:2.0
PRODID:-//DANCE SOUL 舞魂街舞學校 - ECPv6.15.18//NONSGML v1.0//EN
CALSCALE:GREGORIAN
METHOD:PUBLISH
X-ORIGINAL-URL:https://www.dancesoul.com.tw
X-WR-CALDESC:Events for DANCE SOUL 舞魂街舞學校
REFRESH-INTERVAL;VALUE=DURATION:PT1H
X-Robots-Tag:noindex
X-PUBLISHED-TTL:PT1H
BEGIN:VTIMEZONE
TZID:Asia/Shanghai
BEGIN:STANDARD
TZOFFSETFROM:+0800
TZOFFSETTO:+0800
TZNAME:CST
DTSTART:20220101T000000
END:STANDARD
END:VTIMEZONE
BEGIN:VEVENT
DTSTART;TZID=Asia/Shanghai:20240827T161000
DTEND;TZID=Asia/Shanghai:20240827T171000
DTSTAMP:20260421T195843
CREATED:20240726T115336Z
LAST-MODIFIED:20240726T115336Z
UID:10020036-1724775000-1724778600@www.dancesoul.com.tw
SUMMARY:Waacking(初)-品后
DESCRIPTION:
URL:https://www.dancesoul.com.tw/schedule/waacking%e5%88%9d-%e5%93%81%e5%90%8e-6/2024-08-27/
CATEGORIES:Waacking 初級,常態課_初級,課程
END:VEVENT
BEGIN:VEVENT
DTSTART;TZID=Asia/Shanghai:20240820T161000
DTEND;TZID=Asia/Shanghai:20240820T171000
DTSTAMP:20260421T195843
CREATED:20240726T115336Z
LAST-MODIFIED:20240726T115336Z
UID:10020035-1724170200-1724173800@www.dancesoul.com.tw
SUMMARY:Waacking(初)-品后
DESCRIPTION:
URL:https://www.dancesoul.com.tw/schedule/waacking%e5%88%9d-%e5%93%81%e5%90%8e-6/2024-08-20/
CATEGORIES:Waacking 初級,常態課_初級,課程
END:VEVENT
BEGIN:VEVENT
DTSTART;TZID=Asia/Shanghai:20240813T161000
DTEND;TZID=Asia/Shanghai:20240813T171000
DTSTAMP:20260421T195843
CREATED:20240726T115336Z
LAST-MODIFIED:20240726T115336Z
UID:10020034-1723565400-1723569000@www.dancesoul.com.tw
SUMMARY:Waacking(初)-品后
DESCRIPTION:
URL:https://www.dancesoul.com.tw/schedule/waacking%e5%88%9d-%e5%93%81%e5%90%8e-6/2024-08-13/
CATEGORIES:Waacking 初級,常態課_初級,課程
END:VEVENT
BEGIN:VEVENT
DTSTART;TZID=Asia/Shanghai:20240806T161000
DTEND;TZID=Asia/Shanghai:20240806T171000
DTSTAMP:20260421T195843
CREATED:20240726T115336Z
LAST-MODIFIED:20240726T115336Z
UID:10020033-1722960600-1722964200@www.dancesoul.com.tw
SUMMARY:Waacking(初)-品后
DESCRIPTION:
URL:https://www.dancesoul.com.tw/schedule/waacking%e5%88%9d-%e5%93%81%e5%90%8e-6/2024-08-06/
CATEGORIES:Waacking 初級,常態課_初級,課程
END:VEVENT
BEGIN:VEVENT
DTSTART;TZID=Asia/Shanghai:20240730T161000
DTEND;TZID=Asia/Shanghai:20240730T171000
DTSTAMP:20260421T195843
CREATED:20240624T091557Z
LAST-MODIFIED:20240624T091557Z
UID:10019818-1722355800-1722359400@www.dancesoul.com.tw
SUMMARY:Waacking(初)-品后
DESCRIPTION:
URL:https://www.dancesoul.com.tw/schedule/waacking%e5%88%9d-%e5%93%81%e5%90%8e-5/2024-07-30/
CATEGORIES:Waacking 初級,常態課_初級,課程
END:VEVENT
BEGIN:VEVENT
DTSTART;TZID=Asia/Shanghai:20240723T161000
DTEND;TZID=Asia/Shanghai:20240723T171000
DTSTAMP:20260421T195843
CREATED:20240624T091557Z
LAST-MODIFIED:20240624T091557Z
UID:10019817-1721751000-1721754600@www.dancesoul.com.tw
SUMMARY:Waacking(初)-品后
DESCRIPTION:
URL:https://www.dancesoul.com.tw/schedule/waacking%e5%88%9d-%e5%93%81%e5%90%8e-5/2024-07-23/
CATEGORIES:Waacking 初級,常態課_初級,課程
END:VEVENT
BEGIN:VEVENT
DTSTART;TZID=Asia/Shanghai:20240716T161000
DTEND;TZID=Asia/Shanghai:20240716T171000
DTSTAMP:20260421T195843
CREATED:20240624T091557Z
LAST-MODIFIED:20240624T091557Z
UID:10019816-1721146200-1721149800@www.dancesoul.com.tw
SUMMARY:Waacking(初)-品后
DESCRIPTION:
URL:https://www.dancesoul.com.tw/schedule/waacking%e5%88%9d-%e5%93%81%e5%90%8e-5/2024-07-16/
CATEGORIES:Waacking 初級,常態課_初級,課程
END:VEVENT
BEGIN:VEVENT
DTSTART;TZID=Asia/Shanghai:20240709T161000
DTEND;TZID=Asia/Shanghai:20240709T171000
DTSTAMP:20260421T195843
CREATED:20240624T091557Z
LAST-MODIFIED:20240624T091557Z
UID:10019815-1720541400-1720545000@www.dancesoul.com.tw
SUMMARY:Waacking(初)-品后
DESCRIPTION:
URL:https://www.dancesoul.com.tw/schedule/waacking%e5%88%9d-%e5%93%81%e5%90%8e-5/2024-07-09/
CATEGORIES:Waacking 初級,常態課_初級,課程
END:VEVENT
BEGIN:VEVENT
DTSTART;TZID=Asia/Shanghai:20240702T161000
DTEND;TZID=Asia/Shanghai:20240702T171000
DTSTAMP:20260421T195843
CREATED:20240624T091557Z
LAST-MODIFIED:20240624T091557Z
UID:10019814-1719936600-1719940200@www.dancesoul.com.tw
SUMMARY:Waacking(初)-品后
DESCRIPTION:
URL:https://www.dancesoul.com.tw/schedule/waacking%e5%88%9d-%e5%93%81%e5%90%8e-5/2024-07-02/
CATEGORIES:Waacking 初級,常態課_初級,課程
END:VEVENT
BEGIN:VEVENT
DTSTART;TZID=Asia/Shanghai:20240206T172000
DTEND;TZID=Asia/Shanghai:20240206T182000
DTSTAMP:20260421T195843
CREATED:20240128T061336Z
LAST-MODIFIED:20240128T061336Z
UID:10019002-1707240000-1707243600@www.dancesoul.com.tw
SUMMARY:Waacking(初)-品后
DESCRIPTION:
URL:https://www.dancesoul.com.tw/schedule/waacking%e5%88%9d-%e5%93%81%e5%90%8e-4/
CATEGORIES:Waacking 初級,常態課_初級,課程
END:VEVENT
BEGIN:VEVENT
DTSTART;TZID=Asia/Shanghai:20230831T132000
DTEND;TZID=Asia/Shanghai:20230831T142000
DTSTAMP:20260421T195843
CREATED:20230729T103640Z
LAST-MODIFIED:20230729T103640Z
UID:10017781-1693488000-1693491600@www.dancesoul.com.tw
SUMMARY:Waacking(初)-品后
DESCRIPTION:
URL:https://www.dancesoul.com.tw/schedule/waacking%e5%88%9d-%e5%93%81%e5%90%8e-2/2023-08-31/
LOCATION:仁愛路四段425-1號\, Taipei City\, 104\, 台灣
CATEGORIES:Waacking 初級,常態課_初級,課程
END:VEVENT
BEGIN:VEVENT
DTSTART;TZID=Asia/Shanghai:20230824T132000
DTEND;TZID=Asia/Shanghai:20230824T142000
DTSTAMP:20260421T195843
CREATED:20230729T103640Z
LAST-MODIFIED:20230729T103640Z
UID:10017780-1692883200-1692886800@www.dancesoul.com.tw
SUMMARY:Waacking(初)-品后
DESCRIPTION:
URL:https://www.dancesoul.com.tw/schedule/waacking%e5%88%9d-%e5%93%81%e5%90%8e-2/2023-08-24/
LOCATION:仁愛路四段425-1號\, Taipei City\, 104\, 台灣
CATEGORIES:Waacking 初級,常態課_初級,課程
END:VEVENT
BEGIN:VEVENT
DTSTART;TZID=Asia/Shanghai:20230817T132000
DTEND;TZID=Asia/Shanghai:20230817T142000
DTSTAMP:20260421T195843
CREATED:20230729T103640Z
LAST-MODIFIED:20230729T103640Z
UID:10017779-1692278400-1692282000@www.dancesoul.com.tw
SUMMARY:Waacking(初)-品后
DESCRIPTION:
URL:https://www.dancesoul.com.tw/schedule/waacking%e5%88%9d-%e5%93%81%e5%90%8e-2/2023-08-17/
LOCATION:仁愛路四段425-1號\, Taipei City\, 104\, 台灣
CATEGORIES:Waacking 初級,常態課_初級,課程
END:VEVENT
BEGIN:VEVENT
DTSTART;TZID=Asia/Shanghai:20230810T132000
DTEND;TZID=Asia/Shanghai:20230810T142000
DTSTAMP:20260421T195843
CREATED:20230729T103640Z
LAST-MODIFIED:20230729T103640Z
UID:10017778-1691673600-1691677200@www.dancesoul.com.tw
SUMMARY:Waacking(初)-品后
DESCRIPTION:
URL:https://www.dancesoul.com.tw/schedule/waacking%e5%88%9d-%e5%93%81%e5%90%8e-2/2023-08-10/
LOCATION:仁愛路四段425-1號\, Taipei City\, 104\, 台灣
CATEGORIES:Waacking 初級,常態課_初級,課程
END:VEVENT
BEGIN:VEVENT
DTSTART;TZID=Asia/Shanghai:20230803T132000
DTEND;TZID=Asia/Shanghai:20230803T142000
DTSTAMP:20260421T195843
CREATED:20230729T103640Z
LAST-MODIFIED:20230729T103640Z
UID:10017777-1691068800-1691072400@www.dancesoul.com.tw
SUMMARY:Waacking(初)-品后
DESCRIPTION:
URL:https://www.dancesoul.com.tw/schedule/waacking%e5%88%9d-%e5%93%81%e5%90%8e-2/2023-08-03/
LOCATION:仁愛路四段425-1號\, Taipei City\, 104\, 台灣
CATEGORIES:Waacking 初級,常態課_初級,課程
END:VEVENT
END:VCALENDAR