BEGIN:VCALENDAR
VERSION:2.0
PRODID:-//DANCE SOUL 舞魂街舞學校 - ECPv6.15.18//NONSGML v1.0//EN
CALSCALE:GREGORIAN
METHOD:PUBLISH
X-WR-CALNAME:DANCE SOUL 舞魂街舞學校
X-ORIGINAL-URL:https://www.dancesoul.com.tw
X-WR-CALDESC:Events for DANCE SOUL 舞魂街舞學校
REFRESH-INTERVAL;VALUE=DURATION:PT1H
X-Robots-Tag:noindex
X-PUBLISHED-TTL:PT1H
BEGIN:VTIMEZONE
TZID:Asia/Shanghai
BEGIN:STANDARD
TZOFFSETFROM:+0800
TZOFFSETTO:+0800
TZNAME:CST
DTSTART:20220101T000000
END:STANDARD
END:VTIMEZONE
BEGIN:VEVENT
DTSTART;TZID=Asia/Shanghai:20230726T165000
DTEND;TZID=Asia/Shanghai:20230726T175000
DTSTAMP:20260422T114901
CREATED:20230627T115746Z
LAST-MODIFIED:20230627T115746Z
UID:10017576-1690390200-1690393800@www.dancesoul.com.tw
SUMMARY:兒童MV-(Aespa - Spicy)-傘傘
DESCRIPTION:
URL:https://www.dancesoul.com.tw/schedule/%e5%85%92%e7%ab%a5mv-aespa-spicy-%e5%82%98%e5%82%98/2023-07-26/
LOCATION:仁愛路四段425-1號\, Taipei City\, 104\, 台灣
CATEGORIES:兒童MV,兒童課,課程
END:VEVENT
BEGIN:VEVENT
DTSTART;TZID=Asia/Shanghai:20230719T165000
DTEND;TZID=Asia/Shanghai:20230719T175000
DTSTAMP:20260422T114901
CREATED:20230627T115746Z
LAST-MODIFIED:20230627T115746Z
UID:10017575-1689785400-1689789000@www.dancesoul.com.tw
SUMMARY:兒童MV-(Aespa - Spicy)-傘傘
DESCRIPTION:
URL:https://www.dancesoul.com.tw/schedule/%e5%85%92%e7%ab%a5mv-aespa-spicy-%e5%82%98%e5%82%98/2023-07-19/
LOCATION:仁愛路四段425-1號\, Taipei City\, 104\, 台灣
CATEGORIES:兒童MV,兒童課,課程
END:VEVENT
BEGIN:VEVENT
DTSTART;TZID=Asia/Shanghai:20230712T165000
DTEND;TZID=Asia/Shanghai:20230712T175000
DTSTAMP:20260422T114901
CREATED:20230627T115746Z
LAST-MODIFIED:20230627T115746Z
UID:10017574-1689180600-1689184200@www.dancesoul.com.tw
SUMMARY:兒童MV-(Aespa - Spicy)-傘傘
DESCRIPTION:
URL:https://www.dancesoul.com.tw/schedule/%e5%85%92%e7%ab%a5mv-aespa-spicy-%e5%82%98%e5%82%98/2023-07-12/
LOCATION:仁愛路四段425-1號\, Taipei City\, 104\, 台灣
CATEGORIES:兒童MV,兒童課,課程
END:VEVENT
BEGIN:VEVENT
DTSTART;TZID=Asia/Shanghai:20230705T165000
DTEND;TZID=Asia/Shanghai:20230705T175000
DTSTAMP:20260422T114901
CREATED:20230627T115746Z
LAST-MODIFIED:20230627T115746Z
UID:10017573-1688575800-1688579400@www.dancesoul.com.tw
SUMMARY:兒童MV-(Aespa - Spicy)-傘傘
DESCRIPTION:
URL:https://www.dancesoul.com.tw/schedule/%e5%85%92%e7%ab%a5mv-aespa-spicy-%e5%82%98%e5%82%98/2023-07-05/
LOCATION:仁愛路四段425-1號\, Taipei City\, 104\, 台灣
CATEGORIES:兒童MV,兒童課,課程
END:VEVENT
END:VCALENDAR