BEGIN:VCALENDAR
VERSION:2.0
PRODID:-//DANCE SOUL 舞魂街舞學校 - ECPv6.15.18//NONSGML v1.0//EN
CALSCALE:GREGORIAN
METHOD:PUBLISH
X-ORIGINAL-URL:https://www.dancesoul.com.tw
X-WR-CALDESC:Events for DANCE SOUL 舞魂街舞學校
REFRESH-INTERVAL;VALUE=DURATION:PT1H
X-Robots-Tag:noindex
X-PUBLISHED-TTL:PT1H
BEGIN:VTIMEZONE
TZID:Asia/Shanghai
BEGIN:STANDARD
TZOFFSETFROM:+0800
TZOFFSETTO:+0800
TZNAME:CST
DTSTART:20240101T000000
END:STANDARD
END:VTIMEZONE
BEGIN:VEVENT
DTSTART;TZID=Asia/Shanghai:20250426T143000
DTEND;TZID=Asia/Shanghai:20250426T153000
DTSTAMP:20260422T040533
CREATED:20250328T082609Z
LAST-MODIFIED:20250328T082609Z
UID:10021395-1745677800-1745681400@www.dancesoul.com.tw
SUMMARY:兒童MV-(BABYMONSER - BILLIONAIRE)-薇臻
DESCRIPTION:
URL:https://www.dancesoul.com.tw/schedule/%e5%85%92%e7%ab%a5mv-babymonser-billionaire-%e8%96%87%e8%87%bb/2025-04-26/
CATEGORIES:兒童MV,兒童課,課程
END:VEVENT
BEGIN:VEVENT
DTSTART;TZID=Asia/Shanghai:20250419T143000
DTEND;TZID=Asia/Shanghai:20250419T153000
DTSTAMP:20260422T040533
CREATED:20250328T082609Z
LAST-MODIFIED:20250328T082609Z
UID:10021394-1745073000-1745076600@www.dancesoul.com.tw
SUMMARY:兒童MV-(BABYMONSER - BILLIONAIRE)-薇臻
DESCRIPTION:
URL:https://www.dancesoul.com.tw/schedule/%e5%85%92%e7%ab%a5mv-babymonser-billionaire-%e8%96%87%e8%87%bb/2025-04-19/
CATEGORIES:兒童MV,兒童課,課程
END:VEVENT
BEGIN:VEVENT
DTSTART;TZID=Asia/Shanghai:20250412T143000
DTEND;TZID=Asia/Shanghai:20250412T153000
DTSTAMP:20260422T040533
CREATED:20250328T082609Z
LAST-MODIFIED:20250328T082609Z
UID:10021393-1744468200-1744471800@www.dancesoul.com.tw
SUMMARY:兒童MV-(BABYMONSER - BILLIONAIRE)-薇臻
DESCRIPTION:
URL:https://www.dancesoul.com.tw/schedule/%e5%85%92%e7%ab%a5mv-babymonser-billionaire-%e8%96%87%e8%87%bb/2025-04-12/
CATEGORIES:兒童MV,兒童課,課程
END:VEVENT
BEGIN:VEVENT
DTSTART;TZID=Asia/Shanghai:20250405T143000
DTEND;TZID=Asia/Shanghai:20250405T153000
DTSTAMP:20260422T040533
CREATED:20250328T082609Z
LAST-MODIFIED:20250328T082609Z
UID:10021392-1743863400-1743867000@www.dancesoul.com.tw
SUMMARY:兒童MV-(BABYMONSER - BILLIONAIRE)-薇臻
DESCRIPTION:
URL:https://www.dancesoul.com.tw/schedule/%e5%85%92%e7%ab%a5mv-babymonser-billionaire-%e8%96%87%e8%87%bb/2025-04-05/
CATEGORIES:兒童MV,兒童課,課程
END:VEVENT
END:VCALENDAR