BEGIN:VCALENDAR
VERSION:2.0
PRODID:-//DANCE SOUL 舞魂街舞學校 - ECPv6.15.18//NONSGML v1.0//EN
CALSCALE:GREGORIAN
METHOD:PUBLISH
X-ORIGINAL-URL:https://www.dancesoul.com.tw
X-WR-CALDESC:Events for DANCE SOUL 舞魂街舞學校
REFRESH-INTERVAL;VALUE=DURATION:PT1H
X-Robots-Tag:noindex
X-PUBLISHED-TTL:PT1H
BEGIN:VTIMEZONE
TZID:Asia/Shanghai
BEGIN:STANDARD
TZOFFSETFROM:+0800
TZOFFSETTO:+0800
TZNAME:CST
DTSTART:20230101T000000
END:STANDARD
END:VTIMEZONE
BEGIN:VEVENT
DTSTART;TZID=Asia/Shanghai:20241228T143000
DTEND;TZID=Asia/Shanghai:20241228T153000
DTSTAMP:20260423T055123
CREATED:20241125T100959Z
LAST-MODIFIED:20241125T100959Z
UID:10020608-1735396200-1735399800@www.dancesoul.com.tw
SUMMARY:兒童MV-(BABYMONSTER - DRIP)-薇臻
DESCRIPTION:
URL:https://www.dancesoul.com.tw/schedule/%e5%85%92%e7%ab%a5mv-babymonster-drip-%e8%96%87%e8%87%bb/2024-12-28/
CATEGORIES:Popping 初級,兒童MV,兒童課,課程
END:VEVENT
BEGIN:VEVENT
DTSTART;TZID=Asia/Shanghai:20241221T143000
DTEND;TZID=Asia/Shanghai:20241221T153000
DTSTAMP:20260423T055123
CREATED:20241125T100959Z
LAST-MODIFIED:20241125T100959Z
UID:10020607-1734791400-1734795000@www.dancesoul.com.tw
SUMMARY:兒童MV-(BABYMONSTER - DRIP)-薇臻
DESCRIPTION:
URL:https://www.dancesoul.com.tw/schedule/%e5%85%92%e7%ab%a5mv-babymonster-drip-%e8%96%87%e8%87%bb/2024-12-21/
CATEGORIES:Popping 初級,兒童MV,兒童課,課程
END:VEVENT
BEGIN:VEVENT
DTSTART;TZID=Asia/Shanghai:20241214T143000
DTEND;TZID=Asia/Shanghai:20241214T153000
DTSTAMP:20260423T055123
CREATED:20241125T100959Z
LAST-MODIFIED:20241125T100959Z
UID:10020606-1734186600-1734190200@www.dancesoul.com.tw
SUMMARY:兒童MV-(BABYMONSTER - DRIP)-薇臻
DESCRIPTION:
URL:https://www.dancesoul.com.tw/schedule/%e5%85%92%e7%ab%a5mv-babymonster-drip-%e8%96%87%e8%87%bb/2024-12-14/
CATEGORIES:Popping 初級,兒童MV,兒童課,課程
END:VEVENT
BEGIN:VEVENT
DTSTART;TZID=Asia/Shanghai:20241207T143000
DTEND;TZID=Asia/Shanghai:20241207T153000
DTSTAMP:20260423T055123
CREATED:20241125T100959Z
LAST-MODIFIED:20241125T100959Z
UID:10020605-1733581800-1733585400@www.dancesoul.com.tw
SUMMARY:兒童MV-(BABYMONSTER - DRIP)-薇臻
DESCRIPTION:
URL:https://www.dancesoul.com.tw/schedule/%e5%85%92%e7%ab%a5mv-babymonster-drip-%e8%96%87%e8%87%bb/2024-12-07/
CATEGORIES:Popping 初級,兒童MV,兒童課,課程
END:VEVENT
END:VCALENDAR