BEGIN:VCALENDAR
VERSION:2.0
PRODID:-//DANCE SOUL 舞魂街舞學校 - ECPv6.15.18//NONSGML v1.0//EN
CALSCALE:GREGORIAN
METHOD:PUBLISH
X-WR-CALNAME:DANCE SOUL 舞魂街舞學校
X-ORIGINAL-URL:https://www.dancesoul.com.tw
X-WR-CALDESC:Events for DANCE SOUL 舞魂街舞學校
REFRESH-INTERVAL;VALUE=DURATION:PT1H
X-Robots-Tag:noindex
X-PUBLISHED-TTL:PT1H
BEGIN:VTIMEZONE
TZID:Asia/Shanghai
BEGIN:STANDARD
TZOFFSETFROM:+0800
TZOFFSETTO:+0800
TZNAME:CST
DTSTART:20230101T000000
END:STANDARD
END:VTIMEZONE
BEGIN:VEVENT
DTSTART;TZID=Asia/Shanghai:20240525T143000
DTEND;TZID=Asia/Shanghai:20240525T153000
DTSTAMP:20260425T213022
CREATED:20240423T084325Z
LAST-MODIFIED:20240423T084325Z
UID:10019464-1716647400-1716651000@www.dancesoul.com.tw
SUMMARY:兒童MV-(BABYMONSTER - SHEESH)-薇臻
DESCRIPTION:
URL:https://www.dancesoul.com.tw/schedule/%e5%85%92%e7%ab%a5mv-babymonster-sheesh-%e8%96%87%e8%87%bb/2024-05-25/
CATEGORIES:兒童MV,兒童課,課程
END:VEVENT
BEGIN:VEVENT
DTSTART;TZID=Asia/Shanghai:20240518T143000
DTEND;TZID=Asia/Shanghai:20240518T153000
DTSTAMP:20260425T213022
CREATED:20240423T084325Z
LAST-MODIFIED:20240423T084325Z
UID:10019463-1716042600-1716046200@www.dancesoul.com.tw
SUMMARY:兒童MV-(BABYMONSTER - SHEESH)-薇臻
DESCRIPTION:
URL:https://www.dancesoul.com.tw/schedule/%e5%85%92%e7%ab%a5mv-babymonster-sheesh-%e8%96%87%e8%87%bb/2024-05-18/
CATEGORIES:兒童MV,兒童課,課程
END:VEVENT
BEGIN:VEVENT
DTSTART;TZID=Asia/Shanghai:20240511T143000
DTEND;TZID=Asia/Shanghai:20240511T153000
DTSTAMP:20260425T213022
CREATED:20240423T084325Z
LAST-MODIFIED:20240423T084325Z
UID:10019462-1715437800-1715441400@www.dancesoul.com.tw
SUMMARY:兒童MV-(BABYMONSTER - SHEESH)-薇臻
DESCRIPTION:
URL:https://www.dancesoul.com.tw/schedule/%e5%85%92%e7%ab%a5mv-babymonster-sheesh-%e8%96%87%e8%87%bb/2024-05-11/
CATEGORIES:兒童MV,兒童課,課程
END:VEVENT
BEGIN:VEVENT
DTSTART;TZID=Asia/Shanghai:20240504T143000
DTEND;TZID=Asia/Shanghai:20240504T153000
DTSTAMP:20260425T213022
CREATED:20240423T084325Z
LAST-MODIFIED:20240423T084325Z
UID:10019461-1714833000-1714836600@www.dancesoul.com.tw
SUMMARY:兒童MV-(BABYMONSTER - SHEESH)-薇臻
DESCRIPTION:
URL:https://www.dancesoul.com.tw/schedule/%e5%85%92%e7%ab%a5mv-babymonster-sheesh-%e8%96%87%e8%87%bb/2024-05-04/
CATEGORIES:兒童MV,兒童課,課程
END:VEVENT
END:VCALENDAR