BEGIN:VCALENDAR
VERSION:2.0
PRODID:-//DANCE SOUL 舞魂街舞學校 - ECPv6.15.18//NONSGML v1.0//EN
CALSCALE:GREGORIAN
METHOD:PUBLISH
X-ORIGINAL-URL:https://www.dancesoul.com.tw
X-WR-CALDESC:Events for DANCE SOUL 舞魂街舞學校
REFRESH-INTERVAL;VALUE=DURATION:PT1H
X-Robots-Tag:noindex
X-PUBLISHED-TTL:PT1H
BEGIN:VTIMEZONE
TZID:Asia/Shanghai
BEGIN:STANDARD
TZOFFSETFROM:+0800
TZOFFSETTO:+0800
TZNAME:CST
DTSTART:20210101T000000
END:STANDARD
END:VTIMEZONE
BEGIN:VEVENT
DTSTART;TZID=Asia/Shanghai:20221030T143000
DTEND;TZID=Asia/Shanghai:20221030T153000
DTSTAMP:20260423T072637
CREATED:20220926T054540Z
LAST-MODIFIED:20220926T054540Z
UID:10015346-1667140200-1667143800@www.dancesoul.com.tw
SUMMARY:兒童MV-(BLACKPINK - Shut Down)-小卉
DESCRIPTION:
URL:https://www.dancesoul.com.tw/schedule/%e5%85%92%e7%ab%a5mv-blackpink-shut-down-%e5%b0%8f%e5%8d%89-2/2022-10-30/
LOCATION:仁愛路四段425-1號\, Taipei City\, 104\, 台灣
CATEGORIES:兒童MV,兒童課,課程
END:VEVENT
BEGIN:VEVENT
DTSTART;TZID=Asia/Shanghai:20221023T143000
DTEND;TZID=Asia/Shanghai:20221023T153000
DTSTAMP:20260423T072637
CREATED:20220926T054540Z
LAST-MODIFIED:20220926T054540Z
UID:10015345-1666535400-1666539000@www.dancesoul.com.tw
SUMMARY:兒童MV-(BLACKPINK - Shut Down)-小卉
DESCRIPTION:
URL:https://www.dancesoul.com.tw/schedule/%e5%85%92%e7%ab%a5mv-blackpink-shut-down-%e5%b0%8f%e5%8d%89-2/2022-10-23/
LOCATION:仁愛路四段425-1號\, Taipei City\, 104\, 台灣
CATEGORIES:兒童MV,兒童課,課程
END:VEVENT
BEGIN:VEVENT
DTSTART;TZID=Asia/Shanghai:20221016T143000
DTEND;TZID=Asia/Shanghai:20221016T153000
DTSTAMP:20260423T072637
CREATED:20220926T054540Z
LAST-MODIFIED:20220926T054540Z
UID:10015344-1665930600-1665934200@www.dancesoul.com.tw
SUMMARY:兒童MV-(BLACKPINK - Shut Down)-小卉
DESCRIPTION:
URL:https://www.dancesoul.com.tw/schedule/%e5%85%92%e7%ab%a5mv-blackpink-shut-down-%e5%b0%8f%e5%8d%89-2/2022-10-16/
LOCATION:仁愛路四段425-1號\, Taipei City\, 104\, 台灣
CATEGORIES:兒童MV,兒童課,課程
END:VEVENT
BEGIN:VEVENT
DTSTART;TZID=Asia/Shanghai:20221002T143000
DTEND;TZID=Asia/Shanghai:20221002T153000
DTSTAMP:20260423T072637
CREATED:20220925T095338Z
LAST-MODIFIED:20220925T095524Z
UID:10015340-1664721000-1664724600@www.dancesoul.com.tw
SUMMARY:兒童MV-(BLACKPINK - Shut Down)-小卉
DESCRIPTION:
URL:https://www.dancesoul.com.tw/schedule/%e5%85%92%e7%ab%a5mv-blackpink-shut-down-%e5%b0%8f%e5%8d%89/
LOCATION:仁愛路四段425-1號\, Taipei City\, 104\, 台灣
CATEGORIES:兒童MV,兒童課,課程
END:VEVENT
END:VCALENDAR