BEGIN:VCALENDAR
VERSION:2.0
PRODID:-//DANCE SOUL 舞魂街舞學校 - ECPv6.15.18//NONSGML v1.0//EN
CALSCALE:GREGORIAN
METHOD:PUBLISH
X-WR-CALNAME:DANCE SOUL 舞魂街舞學校
X-ORIGINAL-URL:https://www.dancesoul.com.tw
X-WR-CALDESC:Events for DANCE SOUL 舞魂街舞學校
REFRESH-INTERVAL;VALUE=DURATION:PT1H
X-Robots-Tag:noindex
X-PUBLISHED-TTL:PT1H
BEGIN:VTIMEZONE
TZID:Asia/Shanghai
BEGIN:STANDARD
TZOFFSETFROM:+0800
TZOFFSETTO:+0800
TZNAME:CST
DTSTART:20220101T000000
END:STANDARD
END:VTIMEZONE
BEGIN:VEVENT
DTSTART;TZID=Asia/Shanghai:20230731T165000
DTEND;TZID=Asia/Shanghai:20230731T175000
DTSTAMP:20260423T072618
CREATED:20230627T103547Z
LAST-MODIFIED:20230627T103547Z
UID:10017567-1690822200-1690825800@www.dancesoul.com.tw
SUMMARY:兒童MV-( (G)-I DLE - Queencard)-太陽
DESCRIPTION:
URL:https://www.dancesoul.com.tw/schedule/%e5%85%92%e7%ab%a5mv-g-i-dle-queencard-%e5%a4%aa%e9%99%bd/2023-07-31/
LOCATION:仁愛路四段425-1號\, Taipei City\, 104\, 台灣
CATEGORIES:兒童MV,兒童課,課程
END:VEVENT
BEGIN:VEVENT
DTSTART;TZID=Asia/Shanghai:20230724T165000
DTEND;TZID=Asia/Shanghai:20230724T175000
DTSTAMP:20260423T072618
CREATED:20230627T103547Z
LAST-MODIFIED:20230627T103547Z
UID:10017566-1690217400-1690221000@www.dancesoul.com.tw
SUMMARY:兒童MV-( (G)-I DLE - Queencard)-太陽
DESCRIPTION:
URL:https://www.dancesoul.com.tw/schedule/%e5%85%92%e7%ab%a5mv-g-i-dle-queencard-%e5%a4%aa%e9%99%bd/2023-07-24/
LOCATION:仁愛路四段425-1號\, Taipei City\, 104\, 台灣
CATEGORIES:兒童MV,兒童課,課程
END:VEVENT
BEGIN:VEVENT
DTSTART;TZID=Asia/Shanghai:20230717T165000
DTEND;TZID=Asia/Shanghai:20230717T175000
DTSTAMP:20260423T072618
CREATED:20230627T103547Z
LAST-MODIFIED:20230627T103547Z
UID:10017565-1689612600-1689616200@www.dancesoul.com.tw
SUMMARY:兒童MV-( (G)-I DLE - Queencard)-太陽
DESCRIPTION:
URL:https://www.dancesoul.com.tw/schedule/%e5%85%92%e7%ab%a5mv-g-i-dle-queencard-%e5%a4%aa%e9%99%bd/2023-07-17/
LOCATION:仁愛路四段425-1號\, Taipei City\, 104\, 台灣
CATEGORIES:兒童MV,兒童課,課程
END:VEVENT
BEGIN:VEVENT
DTSTART;TZID=Asia/Shanghai:20230710T165000
DTEND;TZID=Asia/Shanghai:20230710T175000
DTSTAMP:20260423T072618
CREATED:20230627T103547Z
LAST-MODIFIED:20230627T103547Z
UID:10017564-1689007800-1689011400@www.dancesoul.com.tw
SUMMARY:兒童MV-( (G)-I DLE - Queencard)-太陽
DESCRIPTION:
URL:https://www.dancesoul.com.tw/schedule/%e5%85%92%e7%ab%a5mv-g-i-dle-queencard-%e5%a4%aa%e9%99%bd/2023-07-10/
LOCATION:仁愛路四段425-1號\, Taipei City\, 104\, 台灣
CATEGORIES:兒童MV,兒童課,課程
END:VEVENT
BEGIN:VEVENT
DTSTART;TZID=Asia/Shanghai:20230703T165000
DTEND;TZID=Asia/Shanghai:20230703T175000
DTSTAMP:20260423T072618
CREATED:20230627T103547Z
LAST-MODIFIED:20230627T103547Z
UID:10017563-1688403000-1688406600@www.dancesoul.com.tw
SUMMARY:兒童MV-( (G)-I DLE - Queencard)-太陽
DESCRIPTION:
URL:https://www.dancesoul.com.tw/schedule/%e5%85%92%e7%ab%a5mv-g-i-dle-queencard-%e5%a4%aa%e9%99%bd/2023-07-03/
LOCATION:仁愛路四段425-1號\, Taipei City\, 104\, 台灣
CATEGORIES:兒童MV,兒童課,課程
END:VEVENT
END:VCALENDAR