BEGIN:VCALENDAR
VERSION:2.0
PRODID:-//DANCE SOUL 舞魂街舞學校 - ECPv6.15.18//NONSGML v1.0//EN
CALSCALE:GREGORIAN
METHOD:PUBLISH
X-ORIGINAL-URL:https://www.dancesoul.com.tw
X-WR-CALDESC:Events for DANCE SOUL 舞魂街舞學校
REFRESH-INTERVAL;VALUE=DURATION:PT1H
X-Robots-Tag:noindex
X-PUBLISHED-TTL:PT1H
BEGIN:VTIMEZONE
TZID:Asia/Shanghai
BEGIN:STANDARD
TZOFFSETFROM:+0800
TZOFFSETTO:+0800
TZNAME:CST
DTSTART:20210101T000000
END:STANDARD
END:VTIMEZONE
BEGIN:VEVENT
DTSTART;TZID=Asia/Shanghai:20220925T143000
DTEND;TZID=Asia/Shanghai:20220925T153000
DTSTAMP:20260426T081949
CREATED:20220828T064405Z
LAST-MODIFIED:20220828T064405Z
UID:10015027-1664116200-1664119800@www.dancesoul.com.tw
SUMMARY:兒童MV-(HYOLYN - NO THANKS)-小卉
DESCRIPTION:
URL:https://www.dancesoul.com.tw/schedule/%e5%85%92%e7%ab%a5mv-hyolyn-no-thanks-%e5%b0%8f%e5%8d%89/2022-09-25/
LOCATION:仁愛路四段425-1號\, Taipei City\, 104\, 台灣
CATEGORIES:兒童MV,兒童課,課程
END:VEVENT
BEGIN:VEVENT
DTSTART;TZID=Asia/Shanghai:20220918T143000
DTEND;TZID=Asia/Shanghai:20220918T153000
DTSTAMP:20260426T081949
CREATED:20220828T064405Z
LAST-MODIFIED:20220828T064405Z
UID:10015026-1663511400-1663515000@www.dancesoul.com.tw
SUMMARY:兒童MV-(HYOLYN - NO THANKS)-小卉
DESCRIPTION:
URL:https://www.dancesoul.com.tw/schedule/%e5%85%92%e7%ab%a5mv-hyolyn-no-thanks-%e5%b0%8f%e5%8d%89/2022-09-18/
LOCATION:仁愛路四段425-1號\, Taipei City\, 104\, 台灣
CATEGORIES:兒童MV,兒童課,課程
END:VEVENT
BEGIN:VEVENT
DTSTART;TZID=Asia/Shanghai:20220911T143000
DTEND;TZID=Asia/Shanghai:20220911T153000
DTSTAMP:20260426T081949
CREATED:20220828T064405Z
LAST-MODIFIED:20220828T064405Z
UID:10015025-1662906600-1662910200@www.dancesoul.com.tw
SUMMARY:兒童MV-(HYOLYN - NO THANKS)-小卉
DESCRIPTION:
URL:https://www.dancesoul.com.tw/schedule/%e5%85%92%e7%ab%a5mv-hyolyn-no-thanks-%e5%b0%8f%e5%8d%89/2022-09-11/
LOCATION:仁愛路四段425-1號\, Taipei City\, 104\, 台灣
CATEGORIES:兒童MV,兒童課,課程
END:VEVENT
BEGIN:VEVENT
DTSTART;TZID=Asia/Shanghai:20220904T143000
DTEND;TZID=Asia/Shanghai:20220904T153000
DTSTAMP:20260426T081949
CREATED:20220828T064405Z
LAST-MODIFIED:20220828T064405Z
UID:10015024-1662301800-1662305400@www.dancesoul.com.tw
SUMMARY:兒童MV-(HYOLYN - NO THANKS)-小卉
DESCRIPTION:
URL:https://www.dancesoul.com.tw/schedule/%e5%85%92%e7%ab%a5mv-hyolyn-no-thanks-%e5%b0%8f%e5%8d%89/2022-09-04/
LOCATION:仁愛路四段425-1號\, Taipei City\, 104\, 台灣
CATEGORIES:兒童MV,兒童課,課程
END:VEVENT
END:VCALENDAR