BEGIN:VCALENDAR
VERSION:2.0
PRODID:-//DANCE SOUL 舞魂街舞學校 - ECPv6.15.18//NONSGML v1.0//EN
CALSCALE:GREGORIAN
METHOD:PUBLISH
X-WR-CALNAME:DANCE SOUL 舞魂街舞學校
X-ORIGINAL-URL:https://www.dancesoul.com.tw
X-WR-CALDESC:Events for DANCE SOUL 舞魂街舞學校
REFRESH-INTERVAL;VALUE=DURATION:PT1H
X-Robots-Tag:noindex
X-PUBLISHED-TTL:PT1H
BEGIN:VTIMEZONE
TZID:Asia/Shanghai
BEGIN:STANDARD
TZOFFSETFROM:+0800
TZOFFSETTO:+0800
TZNAME:CST
DTSTART:20230101T000000
END:STANDARD
END:VTIMEZONE
BEGIN:VEVENT
DTSTART;TZID=Asia/Shanghai:20240427T143000
DTEND;TZID=Asia/Shanghai:20240427T153000
DTSTAMP:20260425T193735
CREATED:20240326T090616Z
LAST-MODIFIED:20240326T095113Z
UID:10019364-1714228200-1714231800@www.dancesoul.com.tw
SUMMARY:兒童MV-(ILLIT - Magnetic)薇臻
DESCRIPTION:
URL:https://www.dancesoul.com.tw/schedule/%e5%85%92%e7%ab%a5mv-%e8%96%87%e8%87%bb/2024-04-27/
CATEGORIES:兒童MV,兒童課,課程
END:VEVENT
BEGIN:VEVENT
DTSTART;TZID=Asia/Shanghai:20240420T143000
DTEND;TZID=Asia/Shanghai:20240420T153000
DTSTAMP:20260425T193735
CREATED:20240326T090616Z
LAST-MODIFIED:20240326T095113Z
UID:10019363-1713623400-1713627000@www.dancesoul.com.tw
SUMMARY:兒童MV-(ILLIT - Magnetic)薇臻
DESCRIPTION:
URL:https://www.dancesoul.com.tw/schedule/%e5%85%92%e7%ab%a5mv-%e8%96%87%e8%87%bb/2024-04-20/
CATEGORIES:兒童MV,兒童課,課程
END:VEVENT
BEGIN:VEVENT
DTSTART;TZID=Asia/Shanghai:20240413T143000
DTEND;TZID=Asia/Shanghai:20240413T153000
DTSTAMP:20260425T193735
CREATED:20240326T090616Z
LAST-MODIFIED:20240326T095113Z
UID:10019362-1713018600-1713022200@www.dancesoul.com.tw
SUMMARY:兒童MV-(ILLIT - Magnetic)薇臻
DESCRIPTION:
URL:https://www.dancesoul.com.tw/schedule/%e5%85%92%e7%ab%a5mv-%e8%96%87%e8%87%bb/2024-04-13/
CATEGORIES:兒童MV,兒童課,課程
END:VEVENT
BEGIN:VEVENT
DTSTART;TZID=Asia/Shanghai:20240406T143000
DTEND;TZID=Asia/Shanghai:20240406T153000
DTSTAMP:20260425T193735
CREATED:20240326T090616Z
LAST-MODIFIED:20240326T095113Z
UID:10019361-1712413800-1712417400@www.dancesoul.com.tw
SUMMARY:兒童MV-(ILLIT - Magnetic)薇臻
DESCRIPTION:
URL:https://www.dancesoul.com.tw/schedule/%e5%85%92%e7%ab%a5mv-%e8%96%87%e8%87%bb/2024-04-06/
CATEGORIES:兒童MV,兒童課,課程
END:VEVENT
END:VCALENDAR